Workbook
Name arbeiders: lijsten!$C$2:$C$25
Name arteisten: lijsten!$B$2:$B$26
Name artiesten: lijsten!$B$2:$B$26
Name bedienden: lijsten!$A$2:$A$25
Name CAO: #REF!
Name categorie: #REF!
Name kunstenaars: #REF!
Name productie: lijsten!$D$2:$D$25

Sheet VOOR JE BEGINT
A1: Raadpleeg de handleiding bij de calculator voor je begint! Je kan de handleiding downloaden via https://www.juistisjuist.be/tools/calculator-loonbegroting/

Sheet RSZ-tarieven
A1: RSZ-BIJDRAGEN voor de zgn. Categorie 1 van werkgevers
B3: 2026
A4: a/ basis-RSZ bedienden | B4: 0.25 | C4: basisbijdrage + loonmatiging
A5: basis-RSZ arbeiders & kunstenaars | B5: =B4+5.61% -> 0.3061 | C5: inclusief 5,61% trimestriële bijdrage voor vakantiegeld
A7: b/ RSZ-bijzondere bijdragen
A8: FSO-basis | B8: 0.0001
A9: FSO-bijzondere | B9: 0.0024
A10: AO-specifiek | B10: 0.0002
A11: asbestfonds | B11: 0.0001
A12: risicogroepen | B12: 0.001
A13: tijdelijke werkloosheid | B13: 0.001
A14: aanvullend pensioen (WAP) | B14: 0.015
B15: =SUM(B8:B14) -> 0.0198
A17: c/ extra RSZ indien minstens 10 werknemers (aantal gemiddeld in referteperiode) : manueel in te vullen
B18: 0.0169
A20: RSZ-KORTINGEN
A22: afhankelijk van de werkgevers-categorie waartoe uw organisatie behoort
A23: oKo's tool is gemaakt voor categorie 1 omdat ze alle werkgevers uit de private sector betreft
A24: voor bijkomende info, zie volgende tab 'structurele RSZ-korting'
A26: 1/ extra RSZ-korting voor lage lonen = tot maximaal 11.233,89€ bruto kwartaalloon in 2025 = een 3.744€/maand
A27: manueel in te vullen via de templates en individuele werkbladen
A28: de formule omgerekend per maand is : 0,14*(11.233,89€-brutokwartaalloon) / 3
A30: 2/ doelgroepvermindering
A31: voor kunstenaars, vermindering per maand | B31: =517/3 -> 172.33333 | C31: maximaal 517€ per kwartaal / voor een VTE
C32: indien GMMI betaald wordt (1.994,18€/maand/referentie januari 2024)
C33: OPGELET: deze korting wordt voor Vlaanderen afgeschaft vanaf 1 april 2026 en is aldus verwerkt in deze tool
A35: => voor ouderen, langdurig werklozen, jonge werknemers, arbeidsduurvermindering, … => zie wetgeving per categorie
A37: SPECIALE RSZ-TARIEVEN
A38: studenten | B38: 0.0542 | C38: beperkt tot 650 uur per jaar + andere voorwaarden te respecteren
A39: eerste tot zesde aanwerving
A40: regionale kortingen voor jongeren, ouderen,…
A41: enz.
A42: ps. De werkbonus beïnvloedt het nettoloon enkel en heeft geen invloed op de loonkost

Sheet structurele RSZ korting
A1: STRUCTURELE RSZ-korting
A2: voor berekening en uitleg, zie:
A3: https://www.socialsecurity.be/employer/instructions/dmfa/nl/latest/instructions/deductions/structuralreduction_targetgroupreductions/structuralreduction.html

Sheet doelgroepvermindering k'naars
A1: STRUCTURELE RSZ-korting
A2: voor berekening en uitleg, zie:
A3: https://www.socialsecurity.be/employer/instructions/dmfa/nl/latest/instructions/deductions/structuralreduction_targetgroupreductions/artists.html

Sheet TEMPLATE 1 bediende maandloon
A1: PROGNOSE PERSONEELSKOST | B1: 2026 | C1: BEDIENDE MAANDLOON
A3: NAAM (facultatief)
A4: FUNCTIE (facultatief)
A5: PRODUCTIE
A6: aantal werknemers | B6: 0
A8: STANDAARDGEGEVENS
A9: statuut | B9: bediende
A10: CAO
A11: categorie in de CAO
A12: maand v/d anciënniteiteitsaanpassing
A13: maand van indexatie
A15: BRUTOLOON VT op 1 januari | B15: 0
A16: BRUTOLOON VT anciënniteitsaanpassing | B16: 0
A17: BRUTOLOON VT indexatie | B17: 0
A18: eindejaarspremie-13de maand VT 100% | B18: 0
A20: tewerkstellingspercentage | B20: 0 | C20: (vul % in of verhouding bvb.=28/38) ; als het % varieert gedurende het jaar, vul het hieronder in (rij43) en pas de formule aan
A21: aantal werkdagen | B21: =(((52*5)-20-10-B22)/11)*B20 -> 0 | C21: per maand gemiddeld in 5-dagen stelsel
A22: aantal extra vakantiedagen volgens CAO-Pk | B22: 0
A23: effectief BRUTOLOON 1 jan | B23: 0
A24: effectief BRUTOLOON met anciënniteit | B24: =B16*$B$20 -> 0
A25: effectief BRUTOLOON met indexatie | B25: =B17*$B$20 -> 0
A26: effectieve eindejaarspremie-13de maand | B26: =B18*$B$20 -> 0
A28: VOORDEEL IN NATURA vast per maand | B28: 0 | C28: bedrag per maand
A29: VOORDEEL IN NATURA vast per dag | B29: 0 | C29: bedrag per dag
A30: VERGOEDING WOON-WERK | B30: 0 | C30: bedrag per maand
A31: VERGOEDING WOON-WERK | B31: 0 | C31: bedrag per dag
A32: MAALTIJDCHEQUES (enkel werkgever) | B32: 0 | C32: per dag
A33: FORFAITAIRE KOSTENVERGOEDING | B33: 0 | C33: per maand
A35: % RSZ-PATRONALE:basis-tarief | B35: ='RSZ-tarieven'!B4 -> 0.25
A36: % RSZ-PATRONALE:bijkomende | B36: ='RSZ-tarieven'!B15 -> 0.0198
A37: % RSZ-PATRONALE als + 10 Wners | B37: =IF(B6<10,0,1.69%) -> 0
A38: extra RSZ-vermindering lage lonen (per maand) | B38: =IF(B23>3744,0,0.14*(11233.89-(B23*3))/3) -> 524.2482
A39: RSZ-VERMINDERING doelgroep
A40: RSZ-VERMINDERING andere
J41: vakantiemaand
B42: =B1 -> 2026 | C42: JAN | D42: FEB | E42: MAA | F42: APR | G42: MEI | H42: JUN | I42: VG | J42: JUL | K42: AUG | L42: SEP | M42: OKT | N42: NOV | O42: EJP | P42: DEC
A43: tewerkstellingspercentage | B43: / | C43: =$B$20 -> 0 | D43: =$B$20 -> 0 | E43: =$B$20 -> 0 | F43: =$B$20 -> 0 | G43: =$B$20 -> 0 | H43: =$B$20 -> 0 | I43: 0.92 | J43: =$B$20 -> 0 | K43: =$B$20 -> 0 | L43: =$B$20 -> 0 | M43: =$B$20 -> 0 | N43: =$B$20 -> 0 | O43: =$B$20 -> 0 | P43: =$B$20 -> 0
A44: gem.aantal werkdagen | B44: =SUM(C44:P44) -> 0 | C44: =$B$21 -> 0 | D44: =C44 -> 0 | E44: =D44 -> 0 | F44: =E44 -> 0 | G44: =F44 -> 0 | H44: =G44 -> 0 | I44: / | K44: =H44 -> 0 | L44: =K44 -> 0 | M44: =L44 -> 0 | N44: =K44 -> 0 | O44: / | P44: =N44 -> 0
A45: brutoloon | B45: =SUM(C45:P45) -> 0 | C45: =$B23 -> 0 | D45: =C45 -> 0 | E45: =D45 -> 0 | F45: =E45 -> 0 | G45: =F45 -> 0 | H45: =G45 -> 0 | I45: =H45*92% -> 0 | J45: =H45 -> 0 | K45: =J45 -> 0 | L45: =K45 -> 0 | M45: =L45 -> 0 | N45: =M45 -> 0 | O45: =$B$18*$B20 -> 0 | P45: =N45 -> 0
A46: voordelen in natura | B46: =SUM(C46:P46) -> 0 | C46: =$B28+($B29*$C44) -> 0 | D46: =$B28+($B29*D$44) -> 0 | E46: =$B28+($B29*$E44) -> 0 | F46: =$B28+($B29*F$44) -> 0 | G46: =$B28+($B29*G$44) -> 0 | H46: =$B28+($B29*H$44) -> 0 | I46: / | J46: =$B28+($B29*$B21) -> 0 | K46: =$B28+($B29*K$44) -> 0 | L46: =$B28+($B29*$L44) -> 0 | M46: =$B28+($B29*M$44) -> 0 | N46: =$B28+($B29*N$44) -> 0 | O46: / | P46: =$B28+($B29*P$44) -> 0
A47: RSZ-patronale | B47: =SUM(C47:P47) -> 0 | C47: =MAX(0,(IF((C45+C46)>0,(C45+C46)*(B35+B36+B37)-B38-B39-B40))) -> 0 | D47: =MAX(0,IF((D45+D46)>0,(D45+D46)*(B35+B36+B37)-B38-B39-B40,0)) -> 0 | E47: =MAX(0,IF((E45+E46)>0,(E45+E46)*(B35+B36+B37)-B38-B39-B40,0)) -> 0 | F47: =MAX(0,IF((F45+F46)>0,(F45+F46)*(B35+B36+B37)-B38-B39-B40,0)) -> 0 | G47: =MAX(0,IF((G45+G46)>0,(G45+G46)*(B35+B36+B37)-B38-B39-B40,0)) -> 0 | H47: =MAX(0,IF((H45+H46)>0,(H45+H46)*(B35+B36+B37)-B38-B39-B40,0)) -> 0 | I47: / | J47: =MAX(0,IF((J45+J46)>0,(J45+J46)*(B35+B36+B37)-B38-B39-B40,0)) -> 0 | K47: =MAX(0,IF((K45+K46)>0,(K45+K46)*(B35+B36+B37)-B38-B39-B40,0)) -> 0 | L47: =MAX(0,IF((L45+L46)>0,(L45+L46)*(B35+B36+B37)-B38-B39-B40,0)) -> 0 | M47: =MAX(0,IF((M45+M46)>0,(M45+M46)*(B35+B36+B37)-B38-B39-B40,0)) -> 0 | N47: =MAX(0,IF((N45+N46)>0,(N45+N46)*(B35+B36+B37)-B38-B39-B40,0)) -> 0 | O47: =MAX(0,IF((O45)>0,O45*(B35+B36+B37),0)) -> 0 | P47: =MAX(0,IF((P45+P46)>0,(P45+P46)*(B35+B36+B37)-B38-B39-B40,0)) -> 0
A48: vergoeding woon-werk | B48: =SUM(C48:P48) -> 0 | C48: =$B30+($B31*C$44) -> 0 | D48: =$B30+($B31*D$44) -> 0 | E48: =$B30+($B31*E$44) -> 0 | F48: =$B30+($B31*F$44) -> 0 | G48: =$B30+($B31*G$44) -> 0 | H48: =$B30+($B31*H$44) -> 0 | I48: / | J48: / | K48: =$B30+($B31*K$44) -> 0 | L48: =$B30+($B31*L$44) -> 0 | M48: =$B30+($B31*M$44) -> 0 | N48: =$B30+($B31*N$44) -> 0 | O48: / | P48: =$B30+($B31*P$44) -> 0
A49: maaltijdcheques | B49: =SUM(C49:P49) -> 0 | C49: =$B32*$C44 -> 0 | D49: =$B32*D$44 -> 0 | E49: =$B32*E$44 -> 0 | F49: =$B32*F$44 -> 0 | G49: =$B32*G$44 -> 0 | H49: =$B32*H$44 -> 0 | I49: / | J49: / | K49: =$B32*K$44 -> 0 | L49: =$B32*L$44 -> 0 | M49: =$B32*M$44 -> 0 | N49: =$B32*N$44 -> 0 | O49: / | P49: =$B32*P$44 -> 0
A50: forfaitaire kostenvergoeding | B50: =SUM(C50:P50) -> 0 | C50: =$B33 -> 0 | D50: =$B33 -> 0 | E50: =$B33 -> 0 | F50: =$B33 -> 0 | G50: =$B33 -> 0 | H50: =$B33 -> 0 | I50: / | J50: / | K50: =$B33 -> 0 | L50: =$B33 -> 0 | M50: =$B33 -> 0 | N50: =$B33 -> 0 | O50: / | P50: =$B33 -> 0
B51: =SUM(B45:B50) -> 0 | C51: =SUM(C45:C50) -> 0 | D51: =SUM(D45:D50) -> 0 | E51: =SUM(E45:E50) -> 0 | F51: =SUM(F45:F50) -> 0 | G51: =SUM(G45:G50) -> 0 | H51: =SUM(H45:H50) -> 0 | I51: =SUM(I45:I50) -> 0 | ... P51: =SUM(P45:P50) -> 0
A52: controlecijfer moet 'nul' zijn | B52: =(SUM(C51:P51)-B51)+(SUM(C45:P50)-B51) -> 0
B53: voorziening vakantiegeld
A54: 0.182 | B54: =SUM(C54:P54) -> 0 | C54: =C45*$A$54 -> 0 | D54: =D45*$A$54 -> 0 | E54: =E45*$A$54 -> 0 | F54: =F45*$A$54 -> 0 | G54: =G45*$A$54 -> 0 | H54: =H45*$A$54 -> 0 | I54: / | J54: / | K54: =K45*$A$54 -> 0 | L54: =L45*$A$54 -> 0 | M54: =M45*$A$54 -> 0 | N54: =N45*$A$54 -> 0 | O54: 0 | P54: =P45*$A$54 -> 0

Sheet TEMPLATE 2 bediende dagloon
A1: PROGNOSE PERSONEELSKOST | B1: 2026 | C1: BEDIENDE MAANDLOON
A3: NAAM (facultatief)
A4: FUNCTIE (facultatief)
A5: PRODUCTIE
A6: aantal werknemers | B6: 0
A8: STANDAARDGEGEVENS
A9: statuut | B9: bediende
A10: CAO
A11: categorie in de CAO
A12: maand v/d anciënniteiteitsaanpassing
A13: maand van indexatie
A15: MAAND BRUTOLOON VT op 1 januari | B15: 0
A16: MAAND BRUTOLOON VT anciënniteitsaanpassing | B16: 0
A17: MAAND BRUTOLOON VT indexatie | B17: 0
B18: bruto 1 januari | C18: bruto anciënn.aanp. | D18: bruto indexatie
A19: GEMIDDELD bruto DAGLOON VT op 1 januari | B19: =B15*3/13/5 -> 0 | C19: =B16*3/13/5 -> 0 | D19: =B17*3/13/5 -> 0
A20: 1/20ste (CAO-sector PK) / brutoloon per dag | B20: =B15*1/20 -> 0 | C20: =B16*1/20 -> 0 | D20: =B17*1/20 -> 0
A21: 1/22ste (CAO-sector PK) / brutoloon per dag | B21: =B15*1/22 -> 0 | C21: =B16*1/22 -> 0 | D21: =B17*1/22 -> 0
A23: VOORDEEL IN NATURA vast per dag | B23: 0 | C23: bedrag per dag
A24: VERGOEDING WOON-WERK per dag | B24: 0 | C24: bedrag per dag
A25: MAALTIJDCHEQUES (enkel werkgever) | B25: 0 | C25: bedrag per dag
A26: FORFAITAIRE KOSTENVERGOEDING | B26: 0 | C26: bedrag per dag
A28: % RSZ-PATRONALE:basis-tarief | B28: ='RSZ-tarieven'!B4 -> 0.25
A29: % RSZ-PATRONALE:bijkomende | B29: ='RSZ-tarieven'!B15 -> 0.0198
A30: % RSZ-PATRONALE als + 10 Wners | B30: =IF(B6<10,0,1.69%) -> 0
A31: extra RSZ-vermindering lage lonen (per dag) | B31: =IF(B15>3744,0,0.14*(11233.89-(B15*3))/13/5) -> 24.196071
A32: RSZ-VERMINDERING doelgroep | C32: om te rekenen per dag
A33: RSZ-VERMINDERING andere
B35: =B1 -> 2026 | C35: JAN | D35: FEB | E35: MAA | F35: APR | G35: MEI | H35: JUN | I35: JUL | J35: AUG | K35: SEP | L35: OKT | M35: NOV | N35: DEC
A36: VUL IN : aantal werkdagen per maand vlgs GEMIDDELD dagloon | B36: =SUM(C36:N36) -> 0 | C36: 0 | D36: 0 | E36: 0 | F36: 0 | G36: 0 | H36: 0 | I36: 0 | J36: 0 | K36: 0 | L36: 0 | M36: 0 | N36: 0
A37: VUL IN : aantal werkdagen per maand AAN 1/20ste (CAO-Pk) | B37: =SUM(C37:N37) -> 0 | C37: 0 | D37: 0 | E37: 0 | F37: 0 | G37: 0 | H37: 0 | I37: 0 | J37: 0 | K37: 0 | L37: 0 | M37: 0 | N37: 0
A38: VUL IN : aantal werkdagen per maand AAN 1/22ste (CAO-Pk) | B38: =SUM(C38:N38) -> 0 | C38: 0 | D38: 0 | E38: 0 | F38: 0 | G38: 0 | H38: 0 | I38: 0 | J38: 0 | K38: 0 | L38: 0 | M38: 0 | N38: 0
A39: brutoloon | B39: =SUM(C39:N39) -> 0 | C39: =($B$19*C36)+($B$20*C37)+($B$21*C38) -> 0 | D39: =($B$19*D36)+($B$20*D37)+($B$21*D38) -> 0 | E39: =($B$19*E36)+($B$20*E37)+($B$21*E38) -> 0 | F39: =($B$19*F36)+($B$20*F37)+($B$21*F38) -> 0 | G39: =($B$19*G36)+($B$20*G37)+($B$21*G38) -> 0 | H39: =($B$19*H36)+($B$20*H37)+($B$21*H38) -> 0 | I39: =($B$19*I36)+($B$20*I37)+($B$21*I38) -> 0 | J39: =($B$19*J36)+($B$20*J37)+($B$21*J38) -> 0 | ... N39: =($B$19*N36)+($B$20*N37)+($B$21*N38) -> 0
A40: voordelen in natura | B40: =SUM(C40:N40) -> 0 | C40: =$B$23*(C36+C37+C38) -> 0 | D40: =$B$23*(D36+D37+D38) -> 0 | E40: =$B$23*(E36+E37+E38) -> 0 | F40: =$B$23*(F36+F37+F38) -> 0 | G40: =$B$23*(G36+G37+G38) -> 0 | H40: =$B$23*(H36+H37+H38) -> 0 | I40: =$B$23*(I36+I37+I38) -> 0 | J40: =$B$23*(J36+J37+J38) -> 0 | ... N40: =$B$23*(N36+N37+N38) -> 0
A41: RSZ-patronale | B41: =SUM(C41:N41) -> 0 | C41: =MAX(0,IF((C39+C40)>0,(C39+C40)*($B$28+$B$29+$B$30)-(($B$31+$B$32+$B$33)*(C$36+C$37+C$38)),0)) -> 0 | D41: =MAX(0,IF((D39+D40)>0,(D39+D40)*($B$28+$B$29+$B$30)-(($B$31+$B$32+$B$33)*(D$36+D$37+D$38)),0)) -> 0 | E41: =MAX(0,IF((E39+E40)>0,(E39+E40)*($B$28+$B$29+$B$30)-(($B$31+$B$32+$B$33)*(E$36+E$37+E$38)),0)) -> 0 | F41: =MAX(0,IF((F39+F40)>0,(F39+F40)*($B$28+$B$29+$B$30)-(($B$31+$B$32+$B$33)*(F$36+F$37+F$38)),0)) -> 0 | G41: =MAX(0,IF((G39+G40)>0,(G39+G40)*($B$28+$B$29+$B$30)-(($B$31+$B$32+$B$33)*(G$36+G$37+G$38)),0)) -> 0 | H41: =MAX(0,IF((H39+H40)>0,(H39+H40)*($B$28+$B$29+$B$30)-(($B$31+$B$32+$B$33)*(H$36+H$37+H$38)),0)) -> 0 | I41: =MAX(0,IF((I39+I40)>0,(I39+I40)*($B$28+$B$29+$B$30)-(($B$31+$B$32+$B$33)*(I$36+I$37+I$38)),0)) -> 0 | J41: =MAX(0,IF((J39+J40)>0,(J39+J40)*($B$28+$B$29+$B$30)-(($B$31+$B$32+$B$33)*(J$36+J$37+J$38)),0)) -> 0 | ... N41: =MAX(0,IF((N39+N40)>0,(N39+N40)*($B$28+$B$29+$B$30)-(($B$31+$B$32+$B$33)*(N$36+N$37+N$38)),0)) -> 0
A42: vergoeding woon-werk | B42: =SUM(C42:N42) -> 0 | C42: =($B24*(C36+C37+C38)) -> 0 | D42: =($B24*(D36+D37+D38)) -> 0 | E42: =($B24*(E36+E37+E38)) -> 0 | F42: =($B24*(F36+F37+F38)) -> 0 | G42: =($B24*(G36+G37+G38)) -> 0 | H42: =($B24*(H36+H37+H38)) -> 0 | I42: =($B24*(I36+I37+I38)) -> 0 | J42: =($B24*(J36+J37+J38)) -> 0 | ... N42: =($B24*(N36+N37+N38)) -> 0
A43: maaltijdcheques | B43: =SUM(C43:N43) -> 0 | C43: =$B25*(C36+C37+C38) -> 0 | D43: =$B25*(D36+D37+D38) -> 0 | E43: =$B25*(E36+E37+E38) -> 0 | F43: =$B25*(F36+F37+F38) -> 0 | G43: =$B25*(G36+G37+G38) -> 0 | H43: =$B25*(H36+H37+H38) -> 0 | I43: =$B25*(I36+I37+I38) -> 0 | J43: =$B25*(J36+J37+J38) -> 0 | ... N43: =$B25*(N36+N37+N38) -> 0
A44: forfaitaire kostenvergoeding | B44: =SUM(C44:N44) -> 0 | C44: =$B26*(C36+C37+C38) -> 0 | D44: =$B26*(D36+D37+D38) -> 0 | E44: =$B26*(E36+E37+E38) -> 0 | F44: =$B26*(F36+F37+F38) -> 0 | G44: =$B26*(G36+G37+G38) -> 0 | H44: =$B26*(H36+H37+H38) -> 0 | I44: =$B26*(I36+I37+I38) -> 0 | J44: =$B26*(J36+J37+J38) -> 0 | ... N44: =$B26*(N36+N37+N38) -> 0
B45: =SUM(B39:B44) -> 0 | C45: =SUM(C39:C44) -> 0 | D45: =SUM(D39:D44) -> 0 | E45: =SUM(E39:E44) -> 0 | F45: =SUM(F39:F44) -> 0 | G45: =SUM(G39:G44) -> 0 | H45: =SUM(H39:H44) -> 0 | I45: =SUM(I39:I44) -> 0 | ... N45: =SUM(N39:N44) -> 0
A46: controlecijfer moet 'nul' zijn | B46: =(SUM(C45:N45)-B45)+(SUM(C39:N44)-B45) -> 0
B47: voorziening vakantiegeld
A48: 0.182 | B48: =SUM(C48:N48) -> 0 | C48: =C39*$A$48 -> 0 | D48: =D39*$A$48 -> 0 | E48: =E39*$A$48 -> 0 | F48: =F39*$A$48 -> 0 | G48: =G39*$A$48 -> 0 | H48: =H39*$A$48 -> 0 | I48: =I39*$A$48 -> 0 | J48: =J39*$A$48 -> 0 | ... N48: =N39*$A$48 -> 0

Sheet TEMPLATE 3 kunstenaar MAANDloon
A1: PROGNOSE PERSONEELSKOST | B1: 2026 | C1: KUNSTENAAR MAANDLOON
A3: NAAM (facultatief)
A4: FUNCTIE (facultatief)
A5: PRODUCTIE
A6: aantal werknemers | B6: 0
A8: STANDAARDGEGEVENS
A9: statuut | B9: kunstenaar
A10: CAO
A11: categorie in de CAO
A12: maand v/d anciënniteiteitsaanpassing
A13: maand van indexatie
A15: BRUTOLOON VT op 1 januari | B15: 0
A16: BRUTOLOON VT anciënniteitsaanpassing | B16: 0
A17: BRUTOLOON VT indexatie | B17: 0
A18: eindejaarspremie-13de maand VT 100% | B18: 0
A20: tewerkstellingspercentage | B20: 1 | C20: (vul % in of verhouding bvb.=28/38) ; als het % varieert gedurende het jaar, vul het hieronder in en pas de formule aan
A21: aantal werkdagen | B21: =(((52*5)-20-10-B22)/11)*B20 -> 20.909091 | C21: per maand gemiddeld voor voltijdsen in 5-dagen stelsel
A22: aantal extra vakantiedagen volgens CAO-Pk | B22: 0
A23: effectief BRUTOLOON 1 jan | B23: 0
A24: effectief BRUTOLOON met anciënniteitsaanpassing | B24: =B16*$B$20 -> 0
A25: effectief BRUTOLOON met indexatie | B25: =B17*$B$20 -> 0
A26: effectieve eindejaarspremie-13de maand | B26: =B18*$B$20 -> 0
A28: VOORDEEL IN NATURA vast per maand | B28: 0 | C28: bedrag per maand
A29: VOORDEEL IN NATURA vast per dag | B29: 0 | C29: bedrag per dag
A30: VERGOEDING WOON-WERK | B30: 0 | C30: bedrag per maand
A31: VERGOEDING WOON-WERK | B31: 0 | C31: bedrag per dag
A32: MAALTIJDCHEQUES (enkel werkgever) | B32: 0 | C32: per dag
A33: FORFAITAIRE KOSTENVERGOEDING | B33: 0 | C33: per maand
A35: % RSZ-PATRONALE:basis-tarief | B35: ='RSZ-tarieven'!B5 -> 0.3061
A36: % RSZ-PATRONALE:bijkomende | B36: ='RSZ-tarieven'!B15 -> 0.0198
A37: % RSZ-PATRONALE als + 10 Wners | B37: =IF(B6<10,0,1.69%) -> 0
A38: extra RSZ-vermindering lage lonen (per maand) | B38: =IF(B23>3744,0,0.14*(11233.89-(B23*3))/3) -> 524.2482
A39: RSZ-VERMINDERING doelgroep | B39: =('RSZ-tarieven'!B31)*B20 -> 172.33333 | C39: omgerekend per maand ; enkel tem maart 2026
A40: RSZ-VERMINDERING andere
J41: vakantiemaand
B42: =B1 -> 2026 | C42: JAN | D42: FEB | E42: VG | F42: MAA | G42: APR | H42: MEI | I42: JUN | J42: JUL | K42: AUG | L42: SEP | M42: OKT | N42: NOV | O42: EJP | P42: DEC
A43: tewerkstellingspercentage | B43: / | C43: =$B$20 -> 1 | D43: =$B$20 -> 1 | E43: 0.1027 | F43: =$B$20 -> 1 | G43: =$B$20 -> 1 | H43: =$B$20 -> 1 | I43: =$B$20 -> 1 | J43: =$B$20 -> 1 | K43: =$B$20 -> 1 | L43: =$B$20 -> 1 | M43: =$B$20 -> 1 | ... P43: =$B$20 -> 1
A44: gem.aantal werkdagen | B44: =SUM(C44:P44) -> 230 | C44: =$B21 -> 20.909091 | D44: =C44 -> 20.909091 | F44: =D44 -> 20.909091 | G44: =F44 -> 20.909091 | H44: =G44 -> 20.909091 | I44: =H44 -> 20.909091 | K44: =I44 -> 20.909091 | L44: =K44 -> 20.909091 | M44: =L44 -> 20.909091 | N44: =M44 -> 20.909091 | O44: / | P44: =N44 -> 20.909091
A45: brutoloon | B45: =SUM(C45:P45) -> 0 | C45: =$B23 -> 0 | D45: =C45 -> 0 | E45: =B23*11*108%*E43 -> 0 | F45: =D45 -> 0 | G45: =F45 -> 0 | H45: =G45 -> 0 | I45: =H45 -> 0 | J45: / | K45: =I45 -> 0 | L45: =K45 -> 0 | M45: =L45 -> 0 | N45: =M45 -> 0 | O45: =$B$18*$B20 -> 0 | P45: =N45 -> 0
A46: voordelen in natura | B46: =SUM(C46:P46) -> 0 | C46: =+$B28+(($B29)*C$44) -> 0 | D46: =+$B28+($B29*D$44) -> 0 | E46: / | F46: =+$B28+($B29*F$44) -> 0 | G46: =+$B28+($B29*G$44) -> 0 | H46: =+$B28+($B29*H$44) -> 0 | I46: =+$B28+($B29*I$44) -> 0 | J46: / | K46: =+$B28+($B29*K$21) -> 0 | L46: =+$B28+($B29*L$21) -> 0 | M46: =+$B28+($B29*M$21) -> 0 | N46: =+$B28+($B29*N$21) -> 0 | O46: / | P46: =+$B28+($B29*P$21) -> 0
A47: RSZ-patronale | B47: =SUM(C47:P47) -> 0 | C47: =MAX(0,IF((C45+C46)>0,((C45+C46)*108%)*(B35+B36+B37)-(B38+B39+B40),0)) -> 0 | D47: =MAX(0,IF((D45+D46)>0,((D45+D46)*108%)*(B35+B36+B37)-(B38+B39+B40),0)) -> 0 | E47: / | F47: =MAX(0,IF((F45+F46)>0,((F45+F46)*108%)*(B35+B36+B37)-(B38+B39+B40),0)) -> 0 | G47: =MAX(0,IF((G45+G46)>0,((G45+G46)*108%)*(B35+B36+B37)-(B38+B40),0)) -> 0 | H47: =MAX(0,IF((H45+H46)>0,((H45+H46)*108%)*(B35+B36+B37)-(B38+B40),0)) -> 0 | I47: =MAX(0,IF((I45+I46)>0,((I45+I46)*108%)*(B35+B36+B37)-(B38+B40),0)) -> 0 | J47: / | K47: =MAX(0,IF((K45+K46)>0,((K45+K46)*108%)*(B35+B36+B37)-(B38+B40),0)) -> 0 | L47: =MAX(0,IF((L45+L46)>0,((L45+L46)*108%)*(B35+B36+B37)-(B38+B40),0)) -> 0 | M47: =MAX(0,IF((M45+M46)>0,((M45+M46)*108%)*(B35+B36+B37)-(B38+B40),0)) -> 0 | N47: =MAX(0,IF((N45+N46)>0,((N45+N46)*108%)*(B35+B36+B37)-(B38+B40),0)) -> 0 | O47: =MAX(0,IF((O45)>0,((O45)*108%)*(B35+B36+B37),0)) -> 0 | P47: =MAX(0,IF((P45+P46)>0,((P45+P46)*108%)*(B35+B36+B37)-(B38+B40),0)) -> 0
A48: vergoeding woon-werk | B48: =SUM(C48:P48) -> 0 | C48: =$B30+($B31*C$44) -> 0 | D48: =$B30+($B31*D$44) -> 0 | E48: / | F48: =$B30+($B31*F$44) -> 0 | G48: =$B30+($B31*G$44) -> 0 | H48: =$B30+($B31*H$44) -> 0 | I48: =$B30+($B31*I$44) -> 0 | J48: / | K48: =$B30+($B31*K$44) -> 0 | L48: =$B30+($B31*L$44) -> 0 | M48: =$B30+($B31*M$44) -> 0 | N48: =$B30+($B31*N$44) -> 0 | O48: / | P48: =$B30+($B31*P$44) -> 0
A49: maaltijdcheques | B49: =SUM(C49:P49) -> 0 | C49: =$B32*C$44 -> 0 | D49: =$B32*D$44 -> 0 | E49: / | F49: =$B32*F$44 -> 0 | G49: =$B32*G$44 -> 0 | H49: =$B32*H$44 -> 0 | I49: =$B32*I$44 -> 0 | J49: / | K49: =$B32*K$44 -> 0 | L49: =$B32*L$44 -> 0 | M49: =$B32*M$44 -> 0 | N49: =$B32*N$44 -> 0 | O49: / | P49: =$B32*P$44 -> 0
A50: forfaitaire kostenvergoeding | B50: =SUM(C50:P50) -> 0 | C50: =$B33 -> 0 | D50: =$B33 -> 0 | E50: / | F50: =$B33 -> 0 | G50: =$B33 -> 0 | H50: =$B33 -> 0 | I50: =$B33 -> 0 | J50: / | K50: =$B33 -> 0 | L50: =$B33 -> 0 | M50: =$B33 -> 0 | N50: =$B33 -> 0 | O50: / | P50: =$B33 -> 0
B51: =SUM(B45:B50) -> 0 | C51: =SUM(C45:C50) -> 0 | D51: =SUM(D45:D50) -> 0 | E51: =SUM(E45:E50) -> 0 | F51: =SUM(F45:F50) -> 0 | G51: =SUM(G45:G50) -> 0 | H51: =SUM(H45:H50) -> 0 | I51: =SUM(I45:I50) -> 0 | ... P51: =SUM(P45:P50) -> 0
A52: controlecijfer moet 'nul' zijn | B52: =(SUM(C51:P51)-B51)+(SUM(C45:P50)-B51) -> 0
B53: voorziening vakantiegeld
A54: 0.1027 | B54: =SUM(C54:P54) -> 0 | C54: =(C45*108%)*$A$54 -> 0 | D54: =(D45*108%)*$A$54 -> 0 | E54: / | F54: =(F45*108%)*$A$54 -> 0 | G54: =(G45*108%)*$A$54 -> 0 | H54: =(H45*108%)*$A$54 -> 0 | I54: =(I45*108%)*$A$54 -> 0 | J54: / | K54: =(K45*108%)*$A$54 -> 0 | L54: =(L45*108%)*$A$54 -> 0 | M54: =(M45*108%)*$A$54 -> 0 | N54: =(N45*108%)*$A$54 -> 0 | O54: 0 | P54: =(P45*108%)*$A$54 -> 0

Sheet TEMPLATE 4 kunstenaar DAGloon
A1: PROGNOSE PERSONEELSKOST | B1: 2026 | C1: KUNSTENAAR DAGLOON
A3: NAAM (facultatief)
A4: FUNCTIE (facultatief)
A5: PRODUCTIE
A6: aantal werknemers | B6: 0
A8: STANDAARDGEGEVENS
A9: statuut | B9: kunstenaar
A10: CAO
A11: categorie in de CAO
A12: maand v/d anciënniteiteitsaanpassing
A13: maand van indexatie
A15: MAAND BRUTOLOON VT op 1 januari | B15: 0
A16: MAAND BRUTOLOON VT anciënniteitsaanpassing | B16: 0
A17: MAAND BRUTOLOON VT indexatie | B17: 0
B18: bruto 1 januari | C18: bruto anciënn. | D18: bruto index.
A19: 1/20ste (CAO-sector PK) / brutoloon per dag | B19: =B15/20 -> 0 | C19: =B16*1/20 -> 0 | D19: =B17*1/20 -> 0
A20: 1/22ste (CAO-sector PK) / brutoloon per dag | B20: =B15/22 -> 0 | C20: =B16*1/22 -> 0 | D20: =B17*1/22 -> 0
A22: VOORDEEL IN NATURA vast per dag | B22: 0 | C22: bedrag per dag
A23: VERGOEDING WOON-WERK per dag | B23: 0 | C23: bedrag per dag
A24: MAALTIJDCHEQUES (enkel werkgever) | B24: 0 | C24: bedrag per dag
A25: FORFAITAIRE KOSTENVERGOEDING | B25: 0 | C25: bedrag per dag
A27: % RSZ-PATRONALE:basis-tarief | B27: ='RSZ-tarieven'!B5 -> 0.3061
A28: % RSZ-PATRONALE:bijkomende | B28: ='RSZ-tarieven'!B15 -> 0.0198
A29: % RSZ-PATRONALE als + 10 Wners | B29: =IF(B6<10,0,1.69%) -> 0
A30: extra RSZ-vermindering lage lonen (per dag) | B30: =IF(B15>3744,0,0.14*(11233.89-(B15*3))/13/5) -> 24.196071
A31: RSZ-VERMINDERING doelgroep | B31: =('RSZ-tarieven'!B31)*3/65 -> 7.9538462 | C31: omgerekend per dag ; enkel tem maart 2026
A32: RSZ-VERMINDERING andere
B34: =B1 -> 2026 | C34: JAN | D34: FEB | E34: MAA | F34: APR | G34: MEI | H34: JUN | I34: JUL | J34: AUG | K34: SEP | L34: OKT | M34: NOV | N34: DEC
A35: VUL IN : aantal werkdagen per maand AAN 1/20ste (CAO-Pk) | B35: =SUM(C35:N35) -> 0 | C35: 0 | D35: 0 | E35: 0 | F35: 0 | G35: 0 | H35: 0 | I35: 0 | J35: 0 | K35: 0 | L35: 0 | M35: 0 | N35: 0
A36: VUL IN : aantal werkdagen per maand AAN 1/22ste (CAO-Pk) | B36: =SUM(C36:N36) -> 0 | C36: 0 | D36: 0 | E36: 0 | F36: 0 | G36: 0 | H36: 0 | I36: 0 | J36: 0 | K36: 0 | L36: 0 | M36: 0 | N36: 0
A37: brutoloon | B37: =SUM(C37:N37) -> 0 | C37: =($B19*C35)+($B20*C36) -> 0 | D37: =($B19*D35)+($B20*D36) -> 0 | E37: =($B19*E35)+($B20*E36) -> 0 | F37: =($B19*F35)+($B20*F36) -> 0 | G37: =($B19*G35)+($B20*G36) -> 0 | H37: =($B19*H35)+($B20*H36) -> 0 | I37: =($B19*I35)+($B20*I36) -> 0 | J37: =($B19*J35)+($B20*J36) -> 0 | ... N37: =($B19*N35)+($B20*N36) -> 0
A38: voordelen in natura | B38: =SUM(C38:N38) -> 0 | C38: =$B$22*(C35+C36) -> 0 | D38: =$B$22*(D35+D36) -> 0 | E38: =$B$22*(E35+E36) -> 0 | F38: =$B$22*(F35+F36) -> 0 | G38: =$B$22*(G35+G36) -> 0 | H38: =$B$22*(H35+H36) -> 0 | I38: =$B$22*(I35+I36) -> 0 | J38: =$B$22*(J35+J36) -> 0 | ... N38: =$B$22*(N35+N36) -> 0
A39: RSZ-patronale | B39: =SUM(C39:N39) -> 0 | C39: =MAX(0,IF((C37+C38)>0,((C37+C38)*108%)*($B$27+$B$28+$B$29)-(($B$30+$B$31+$B$32)*(C$35+C$36)),0)) -> 0 | D39: =MAX(0,IF((D37+D38)>0,((D37+D38)*108%)*($B$27+$B$28+$B$29)-(($B$30+$B$31+$B$32)*(D$35+D$36)),0)) -> 0 | E39: =MAX(0,IF((E37+E38)>0,((E37+E38)*108%)*($B$27+$B$28+$B$29)-(($B$30+$B$31+$B$32)*(E$35+E$36)),0)) -> 0 | F39: =MAX(0,IF((F37+F38)>0,((F37+F38)*108%)*($B$27+$B$28+$B$29)-(($B$30+$B$32)*(F$35+F$36)),0)) -> 0 | G39: =MAX(0,IF((G37+G38)>0,((G37+G38)*108%)*($B$27+$B$28+$B$29)-(($B$30+$B$32)*(G$35+G$36)),0)) -> 0 | H39: =MAX(0,IF((H37+H38)>0,((H37+H38)*108%)*($B$27+$B$28+$B$29)-(($B$30+$B$32)*(H$35+H$36)),0)) -> 0 | I39: =MAX(0,IF((I37+I38)>0,((I37+I38)*108%)*($B$27+$B$28+$B$29)-(($B$30+$B$32)*(I$35+I$36)),0)) -> 0 | J39: =MAX(0,IF((J37+J38)>0,((J37+J38)*108%)*($B$27+$B$28+$B$29)-(($B$30+$B$32)*(J$35+J$36)),0)) -> 0 | K39: =MAX(0,IF((K37+K38)>0,((K37+K38)*108%)*($B$27+$B$28+$B$29)-(($B$30+$B$32)*(K$35+K$36)),0)) -> 0 | L39: =MAX(0,IF((L37+L38)>0,((L37+L38)*108%)*($B$27+$B$28+$B$29)-(($B$30+$B$32)*(L$35+L$36)),0)) -> 0 | M39: =MAX(0,IF((M37+M38)>0,((M37+M38)*108%)*($B$27+$B$28+$B$29)-(($B$30+$B$32)*(M$35+M$36)),0)) -> 0 | N39: =MAX(0,IF((N37+N38)>0,((N37+N38)*108%)*($B$27+$B$28+$B$29)-(($B$30+$B$32)*(N$35+N$36)),0)) -> 0
A40: vergoeding woon-werk | B40: =SUM(C40:N40) -> 0 | C40: =$B23*(C35+C36) -> 0 | D40: =$B23*(D35+D36) -> 0 | E40: =$B23*(E35+E36) -> 0 | F40: =$B23*(F35+F36) -> 0 | G40: =$B23*(G35+G36) -> 0 | H40: =$B23*(H35+H36) -> 0 | I40: =$B23*(I35+I36) -> 0 | J40: =$B23*(J35+J36) -> 0 | ... N40: =$B23*(N35+N36) -> 0
A41: maaltijdcheques | B41: =SUM(C41:N41) -> 0 | C41: =$B24*(C35+C36) -> 0 | D41: =$B24*(D35+D36) -> 0 | E41: =$B24*(E35+E36) -> 0 | F41: =$B24*(F35+F36) -> 0 | G41: =$B24*(G35+G36) -> 0 | H41: =$B24*(H35+H36) -> 0 | I41: =$B24*(I35+I36) -> 0 | J41: =$B24*(J35+J36) -> 0 | ... N41: =$B24*(N35+N36) -> 0
A42: forfaitaire kostenvergoeding | B42: =SUM(C42:N42) -> 0 | C42: =$B25*(C35+C36) -> 0 | D42: =$B25*(D35+D36) -> 0 | E42: =$B25*(E35+E36) -> 0 | F42: =$B25*(F35+F36) -> 0 | G42: =$B25*(G35+G36) -> 0 | H42: =$B25*(H35+H36) -> 0 | I42: =$B25*(I35+I36) -> 0 | J42: =$B25*(J35+J36) -> 0 | ... N42: =$B25*(N35+N36) -> 0
B43: =SUM(B37:B42) -> 0 | C43: =SUM(C37:C42) -> 0 | D43: =SUM(D37:D42) -> 0 | E43: =SUM(E37:E42) -> 0 | F43: =SUM(F37:F42) -> 0 | G43: =SUM(G37:G42) -> 0 | H43: =SUM(H37:H42) -> 0 | I43: =SUM(I37:I42) -> 0 | ... N43: =SUM(N37:N42) -> 0
A44: controlecijfer moet 'nul' zijn | B44: =(SUM(C43:N43)-B43)+(SUM(C37:N42)-B43) -> 0
B45: voorziening vakantiegeld
A46: 0.1027 | B46: =SUM(C46:N46) -> 0 | C46: =(C37*108%)*$A$46 -> 0 | D46: =(D37*108%)*$A$46 -> 0 | E46: =(E37*108%)*$A$46 -> 0 | F46: =(F37*108%)*$A$46 -> 0 | G46: =(G37*108%)*$A$46 -> 0 | H46: =(H37*108%)*$A$46 -> 0 | I46: =(I37*108%)*$A$46 -> 0 | J46: =(J37*108%)*$A$46 -> 0 | ... N46: =(N37*108%)*$A$46 -> 0

Sheet TEMPLATE 5 kunstenaar UURloon
A1: PROGNOSE PERSONEELSKOST | B1: 2026 | C1: KUNSTENAAR UURLOON
A3: NAAM (facultatief)
A4: FUNCTIE (facultatief)
A5: PRODUCTIE
A6: aantal werknemers | B6: 0
A8: STANDAARDGEGEVENS
A9: statuut | B9: kunstenaar
A10: CAO
A11: categorie in de CAO
A12: maand v/d anciënniteiteitsaanpassing
A13: maand van indexatie
A15: MAAND BRUTOLOON VT op 1 januari | B15: 0
A16: MAAND BRUTOLOON VT anciënniteitsaanpassing | B16: 0
A17: MAAND BRUTOLOON VT indexatie | B17: 0
A19: UUR BRUTOLOON VT op 1 januari | B19: =B15*3/13/38 -> 0
A20: UUR BRUTOLOON VT anciënniteitsaanpassing | B20: =B16*3/13/38 -> 0
A21: UUR BRUTOLOON VT indexatie | B21: =B17*3/13/38 -> 0
A23: % RSZ-PATRONALE:basis-tarief | B23: ='RSZ-tarieven'!B5 -> 0.3061
A24: % RSZ-PATRONALE:bijkomende | B24: ='RSZ-tarieven'!B15 -> 0.0198
A25: % RSZ-PATRONALE als + 10 Wners | B25: =IF(B6<10,0,1.69%) -> 0
A26: extra RSZ-vermindering lage lonen (per uur) | B26: =IF(B15>3744,0,0.14*(11233.89-(B15*3))/13/5/38) -> 0.6367387
A27: RSZ-VERMINDERING doelgroep | B27: =('RSZ-tarieven'!B31)*3/13/38 -> 1.0465587 | C27: omgerekend per uur ; enkel tem maart 2026
A28: RSZ-VERMINDERING andere
B30: =B1 -> 2026 | C30: JAN | D30: FEB | E30: MAA | F30: APR | G30: MEI | H30: JUN | I30: JUL | J30: AUG | K30: SEP | L30: OKT | M30: NOV | N30: DEC
A31: VUL IN : aantal werkuren per maand | B31: =SUM(C31:N31) -> 0 | C31: 0 | D31: 0 | E31: 0 | F31: 0 | G31: 0 | H31: 0 | I31: 0 | J31: 0 | K31: 0 | L31: 0 | M31: 0 | N31: 0
A32: brutoloon | B32: =SUM(C32:N32) -> 0 | C32: =$B$19*C31 -> 0 | D32: =$B$19*D31 -> 0 | E32: =$B$19*E31 -> 0 | F32: =$B$19*F31 -> 0 | G32: =$B$19*G31 -> 0 | H32: =$B$19*H31 -> 0 | I32: =$B$19*I31 -> 0 | J32: =$B$19*J31 -> 0 | ... N32: =$B$19*N31 -> 0
A33: RSZ-patronale | B33: =SUM(C33:N33) -> 0 | C33: =MAX(0,IF((C32)>0,((C32)*108%)*($B$23+$B$24+$B$25)-((($B$26+$B27+$B28)*C31)),0)) -> 0 | D33: =MAX(0,IF((D32)>0,((D32)*108%)*($B$23+$B$24+$B$25)-((($B$26+$B27+$B28)*D31)),0)) -> 0 | E33: =MAX(0,IF((E32)>0,((E32)*108%)*($B$23+$B$24+$B$25)-((($B$26+$B27+$B28)*E31)),0)) -> 0 | F33: =MAX(0,IF((F32)>0,((F32)*108%)*($B$23+$B$24+$B$25)-((($B$26+$B28)*F31)),0)) -> 0 | G33: =MAX(0,IF((G32)>0,((G32)*108%)*($B$23+$B$24+$B$25)-((($B$26+$B28)*G31)),0)) -> 0 | H33: =MAX(0,IF((H32)>0,((H32)*108%)*($B$23+$B$24+$B$25)-((($B$26+$B28)*H31)),0)) -> 0 | I33: =MAX(0,IF((I32)>0,((I32)*108%)*($B$23+$B$24+$B$25)-((($B$26+$B28)*I31)),0)) -> 0 | J33: =MAX(0,IF((J32)>0,((J32)*108%)*($B$23+$B$24+$B$25)-((($B$26+$B28)*J31)),0)) -> 0 | K33: =MAX(0,IF((K32)>0,((K32)*108%)*($B$23+$B$24+$B$25)-((($B$26++$B28)*K31)),0)) -> 0 | L33: =MAX(0,IF((L32)>0,((L32)*108%)*($B$23+$B$24+$B$25)-((($B$26+$B28)*L31)),0)) -> 0 | M33: =MAX(0,IF((M32)>0,((M32)*108%)*($B$23+$B$24+$B$25)-((($B$26+$B28)*M31)),0)) -> 0 | N33: =MAX(0,IF((N32)>0,((N32)*108%)*($B$23+$B$24+$B$25)-((($B$26+$B28)*N31)),0)) -> 0
B34: =SUM(B32:B33) -> 0 | C34: =SUM(C32:C33) -> 0 | D34: =SUM(D32:D33) -> 0 | E34: =SUM(E32:E33) -> 0 | F34: =SUM(F32:F33) -> 0 | G34: =SUM(G32:G33) -> 0 | H34: =SUM(H32:H33) -> 0 | I34: =SUM(I32:I33) -> 0 | ... N34: =SUM(N32:N33) -> 0
A35: controlecijfer moet 'nul' zijn | B35: =(SUM(C34:N34)-B34)+(SUM(C32:N33)-B34) -> 0
B36: voorziening vakantiegeld
A37: 0.1027 | B37: =SUM(C37:N37) -> 0 | C37: =(C32*108%)*$A$37 -> 0 | D37: =(108%*D32)*$A$37 -> 0 | E37: =(108%*E32)*$A$37 -> 0 | F37: =(108%*F32)*$A$37 -> 0 | G37: =(108%*G32)*$A$37 -> 0 | H37: =(108%*H32)*$A$37 -> 0 | I37: =(108%*I32)*$A$37 -> 0 | J37: =(108%*J32)*$A$37 -> 0 | K37: =(108%*K32)*$A$37 -> 0 | ... M37: =(108%*M32)*$A$37 -> 0 | N37: =(N32*108%)*$A$37 -> 0

Sheet TEMPLATE 6 dienstvergoeding
A1: PROGNOSE PERSONEELSKOST | B1: 2026 | C1: KUNSTENAAR DIENSTVERGOEDING
A3: NAAM (facultatief)
A4: FUNCTIE (facultatief)
A5: PRODUCTIE
A6: aantal werknemers | B6: 0
A8: STANDAARDGEGEVENS
A9: statuut | B9: kunstenaar
A10: CAO | B10: sector muziek
A12: BRUTO dienstvergoeding per concert | B12: 0
A13: BRUTO dienstvergoeding voor 1 repetitie op 1 dag | B13: 0
A14: BRUTO dienstvergoeding voor 2 repetities op 1 dag | B14: 0
A15: BRUTO dienstvergoeding uurloon voor 2de repetitie <2 uur | B15: 0
A17: VOORDEEL IN NATURA vast per dag | B17: 0 | C17: bedrag per dag
A18: VERGOEDING WOON-WERK per dag | B18: 0 | C18: bedrag per dag
A19: MAALTIJDCHEQUES (enkel werkgever) | B19: 0 | C19: bedrag per dag
A20: FORFAITAIRE KOSTENVERGOEDING | B20: 0 | C20: bedrag per dag
A22: % RSZ-PATRONALE:basis-tarief | B22: ='RSZ-tarieven'!B5 -> 0.3061
A23: % RSZ-PATRONALE:bijkomende | B23: ='RSZ-tarieven'!B15 -> 0.0198
A24: % RSZ-PATRONALE als + 10 Wners | B24: =IF(B6<10,0,1.69%) -> 0
A25: extra RSZ-vermindering lage lonen | B25: 0
A26: RSZ-VERMINDERING doelgroep | B26: 0
A27: RSZ-VERMINDERING andere | B27: 0
B29: =B1 -> 2026 | C29: JAN | D29: FEB | E29: MAA | F29: APR | G29: MEI | H29: JUN | I29: JUL | J29: AUG | K29: SEP | L29: OKT | M29: NOV | N29: DEC
A30: VUL IN: aantal dienstvergoedingen per concert | B30: =SUM(C30:N30) -> 0 | C30: 0 | D30: 0 | E30: 0 | F30: 0 | G30: 0 | H30: 0 | I30: 0 | J30: 0 | K30: 0 | L30: 0 | M30: 0 | N30: 0
A31: VUL IN: aantal repetities met 1 repetitie per dag | B31: =SUM(C31:N31) -> 0 | C31: 0 | D31: 0 | E31: 0 | F31: 0 | G31: 0 | H31: 0 | I31: 0 | J31: 0 | K31: 0 | L31: 0 | M31: 0 | N31: 0
A32: VUL IN: aantal repetities voor 2de repetitie per dag | B32: =SUM(C32:N32) -> 0 | C32: 0 | D32: 0 | E32: 0 | F32: 0 | G32: 0 | H32: 0 | I32: 0 | J32: 0 | K32: 0 | L32: 0 | M32: 0 | N32: 0
A33: VUL IN: aantal uurlonen voor de 2de repetitie <2uur | B33: =SUM(C33:N33) -> 0 | C33: 0 | D33: 0 | E33: 0 | F33: 0 | G33: 0 | H33: 0 | I33: 0 | J33: 0 | K33: 0 | L33: 0 | M33: 0 | N33: 0
A35: VUL IN: aantal gewerkte dagen (voor berekening RSZ en voordelen) | B35: =SUM(C35:N35) -> 0 | C35: 0 | D35: 0 | E35: 0 | F35: 0 | G35: 0 | H35: 0 | I35: 0 | J35: 0 | K35: 0 | L35: 0 | M35: 0 | N35: 0
A36: brutoloon | B36: =SUM(C36:N36) -> 0 | C36: =($B12*C30)+($B13*C31)+($B14*C32)+($B15*C33) -> 0 | D36: =($B12*D30)+($B13*D31)+($B14*D32)+($B15*D33) -> 0 | E36: =($B12*E30)+($B13*E31)+($B14*E32)+($B15*E33) -> 0 | F36: =($B12*F30)+($B13*F31)+($B14*F32)+($B15*F33) -> 0 | G36: =($B12*G30)+($B13*G31)+($B14*G32)+($B15*G33) -> 0 | H36: =($B12*H30)+($B13*H31)+($B14*H32)+($B15*H33) -> 0 | I36: =($B12*I30)+($B13*I31)+($B14*I32)+($B15*I33) -> 0 | J36: =($B12*J30)+($B13*J31)+($B14*J32)+($B15*J33) -> 0 | ... N36: =($B12*N30)+($B13*N31)+($B14*N32)+($B15*N33) -> 0
A37: voordelen in natura | B37: =SUM(C37:N37) -> 0 | C37: =$B$17*C35 -> 0 | D37: =$B$17*D35 -> 0 | E37: =$B$17*E35 -> 0 | F37: =$B$17*F35 -> 0 | G37: =$B$17*G35 -> 0 | H37: =$B$17*H35 -> 0 | I37: =$B$17*I35 -> 0 | J37: =$B$17*J35 -> 0 | ... N37: =$B$17*N35 -> 0
A38: RSZ-patronale | B38: =SUM(C38:N38) -> 0 | C38: =MAX(0,IF((C36+C37)>0,((C36+C37)*108%)*($B$22+$B$23+$B$24)-(($B$25+$B$26+$B$27)*($C$35)),0)) -> 0 | D38: =MAX(0,IF((D36+D37)>0,((D36+D37)*108%)*($B$22+$B$23+$B$24)-(($B$25+$B$26+$B$27)*($D$35)),0)) -> 0 | E38: =MAX(0,IF((E36+E37)>0,((E36+E37)*108%)*($B$22+$B$23+$B$24)-(($B$25+$B$26+$B$27)*($E$35)),0)) -> 0 | F38: =MAX(0,IF((F36+F37)>0,((F36+F37)*108%)*($B$22+$B$23+$B$24)-(($B$25+$B$26+$B$27)*($F$35)),0)) -> 0 | G38: =MAX(0,IF((G36+G37)>0,((G36+G37)*108%)*($B$22+$B$23+$B$24)-(($B$25+$B$26+$B$27)*($G$35)),0)) -> 0 | H38: =MAX(0,IF((H36+H37)>0,((H36+H37)*108%)*($B$22+$B$23+$B$24)-(($B$25+$B$26+$B$27)*($H$35)),0)) -> 0 | I38: =MAX(0,IF((I36+I37)>0,((I36+I37)*108%)*($B$22+$B$23+$B$24)-(($B$25+$B$26+$B$27)*($I$35)),0)) -> 0 | J38: =MAX(0,IF((J36+J37)>0,((J36+J37)*108%)*($B$22+$B$23+$B$24)-(($B$25+$B$26+$B$27)*($J$35)),0)) -> 0 | K38: =MAX(0,IF((K36+K37)>0,((K36+K37)*108%)*($B$22+$B$23+$B$24)-(($B$25+$B$26+$B$27)*($K$35)),0)) -> 0 | L38: =MAX(0,IF((L36+L37)>0,((L36+L37)*108%)*($B$22+$B$23+$B$24)-(($B$25+$B$26+$B$27)*($L$35)),0)) -> 0 | M38: =MAX(0,IF((M36+M37)>0,((M36+M37)*108%)*($B$22+$B$23+$B$24)-(($B$25+$B$26+$B$27)*($M$35)),0)) -> 0 | N38: =MAX(0,IF((N36+N37)>0,((N36+N37)*108%)*($B$22+$B$23+$B$24)-(($B$25+$B$26+$B$27)*($N$35)),0)) -> 0
A39: vergoeding woon-werk | B39: =SUM(C39:N39) -> 0 | C39: =$B18*(C35) -> 0 | D39: =$B18*(D35) -> 0 | E39: =$B18*(E35) -> 0 | F39: =$B18*(F35) -> 0 | G39: =$B18*(G35) -> 0 | H39: =$B18*(H35) -> 0 | I39: =$B18*(I35) -> 0 | J39: =$B18*(J35) -> 0 | ... N39: =$B18*(N35) -> 0
A40: maaltijdcheques | B40: =SUM(C40:N40) -> 0 | C40: =$B19*(C35) -> 0 | D40: =$B19*D35 -> 0 | E40: =$B19*E35 -> 0 | F40: =$B19*F35 -> 0 | G40: =$B19*G35 -> 0 | H40: =$B19*H35 -> 0 | I40: =$B19*I35 -> 0 | J40: =$B19*J35 -> 0 | K40: =$B19*K35 -> 0 | ... N40: =$B19*N35 -> 0
A41: forfaitaire kostenvergoeding | B41: =SUM(C41:N41) -> 0 | C41: =$B20*(C35) -> 0 | D41: =$B20*D35 -> 0 | E41: =$B20*E35 -> 0 | F41: =$B20*F35 -> 0 | G41: =$B20*G35 -> 0 | H41: =$B20*H35 -> 0 | I41: =$B20*I35 -> 0 | J41: =$B20*J35 -> 0 | K41: =$B20*K35 -> 0 | ... N41: =$B20*N35 -> 0
B42: =SUM(B36:B41) -> 0 | C42: =SUM(C36:C41) -> 0 | D42: =SUM(D36:D41) -> 0 | E42: =SUM(E36:E41) -> 0 | F42: =SUM(F36:F41) -> 0 | G42: =SUM(G36:G41) -> 0 | H42: =SUM(H36:H41) -> 0 | I42: =SUM(I36:I41) -> 0 | ... N42: =SUM(N36:N41) -> 0
A43: controlecijfer moet 'nul' zijn | B43: =(SUM(C42:N42)-B42)+(SUM(C36:N41)-B42) -> 0
B44: voorziening vakantiegeld
A45: 0.1027 | B45: =SUM(C45:N45) -> 0 | C45: =(C36*108%)*$A$45 -> 0 | D45: =(D36*108%)*$A$45 -> 0 | E45: =(E36*108%)*$A$45 -> 0 | F45: =(F36*108%)*$A$45 -> 0 | G45: =(G36*108%)*$A$45 -> 0 | H45: =(H36*108%)*$A$45 -> 0 | I45: =(I36*108%)*$A$45 -> 0 | J45: =(J36*108%)*$A$45 -> 0 | ... N45: =(N36*108%)*$A$45 -> 0

Sheet TEMPLATE 7 arbeider MAANDloon
A1: PROGNOSE PERSONEELSKOST | B1: 2026 | C1: ARBEIDER MAANDLOON
A3: NAAM (facultatief)
A4: FUNCTIE (facultatief)
A5: PRODUCTIE
A6: aantal werknemers | B6: 0
A8: STANDAARDGEGEVENS
A9: statuut | B9: arbeider
A10: CAO
A11: categorie in de CAO
A12: maand v/d anciënniteiteitsaanpassing
A13: maand van indexatie
A15: BRUTOLOON VT op 1 januari | B15: 0
A16: BRUTOLOON VT anciënniteitsaanpassing | B16: 0
A17: BRUTOLOON VT indexatie | B17: 0
A18: eindejaarspremie-13de maand VT 100% | B18: 0
A20: tewerkstellingspercentage | B20: 0 | C20: (vul % in of verhouding bvb.=28/38) ; als het % varieert gedurende het jaar, vul het hieronder in en pas de formule aan
A21: aantal werkdagen | B21: =(((52*5)-20-10)/11)*B20 -> 0 | C21: per maand gemiddeld voor voltijdsen in 5-dagen stelsel
A22: effectief BRUTOLOON 1 jan | B22: =B15*$B$20 -> 0
A23: effectief BRUTOLOON met anciënniteitsaanpassing | B23: =B16*$B$20 -> 0
A24: effectief BRUTOLOON met indexatie | B24: =B17*$B$20 -> 0
A25: effectieve eindejaarspremie-13de maand | B25: =B18*$B$20 -> 0
A27: VOORDEEL IN NATURA vast per maand | B27: 0 | C27: bedrag per maand
A28: VOORDEEL IN NATURA vast per dag | B28: 0 | C28: bedrag per dag
A29: VERGOEDING WOON-WERK | B29: 0 | C29: bedrag per maand
A30: VERGOEDING WOON-WERK | B30: 0 | C30: bedrag per dag
A31: MAALTIJDCHEQUES (enkel werkgever) | B31: 0 | C31: bedrag per dag
A32: FORFAITAIRE KOSTENVERGOEDING | B32: 0 | C32: bedrag per maand
A34: % RSZ-PATRONALE:basis-tarief | B34: ='RSZ-tarieven'!B5 -> 0.3061
A35: % RSZ-PATRONALE:bijkomende | B35: ='RSZ-tarieven'!B15 -> 0.0198
A36: % RSZ-PATRONALE als + 10 Wners | B36: =IF(B6<10,0,1.69%) -> 0
A37: extra RSZ-vermindering lage lonen (per maand) | B37: =IF(B23>3744,0,0.14*(11233.89-(B23*3))/3) -> 524.2482
A38: RSZ-VERMINDERING doelgroep
A39: RSZ-VERMINDERING andere
J40: vakantiemaand
B41: =B1 -> 2026 | C41: JAN | D41: FEB | E41: VG | F41: MAA | G41: APR | H41: MEI | I41: JUN | J41: JUL | K41: AUG | L41: SEP | M41: OKT | N41: NOV | O41: EJP | P41: DEC
A42: tewerkstellingspercentage | B42: / | C42: =$B$20 -> 0 | D42: =$B$20 -> 0 | E42: 0.1027 | F42: =$B$20 -> 0 | G42: =$B$20 -> 0 | H42: =$B$20 -> 0 | I42: =$B$20 -> 0 | J42: =$B$20 -> 0 | K42: =$B$20 -> 0 | L42: =$B$20 -> 0 | M42: =$B$20 -> 0 | ... P42: =$B$20 -> 0
A43: gem.aantal werkdagen | B43: =SUM(C43:P43) -> 0 | C43: =$B21 -> 0 | D43: =C43 -> 0 | F43: =D43 -> 0 | G43: =F43 -> 0 | H43: =G43 -> 0 | I43: =H43 -> 0 | K43: =I43 -> 0 | L43: =K43 -> 0 | M43: =L43 -> 0 | N43: =M43 -> 0 | O43: / | P43: =N43 -> 0
A44: brutoloon | B44: =SUM(C44:P44) -> 0 | C44: =$B22 -> 0 | D44: =C44 -> 0 | E44: =B22*11*108%*E42 -> 0 | F44: =D44 -> 0 | G44: =F44 -> 0 | H44: =G44 -> 0 | I44: =H44 -> 0 | J44: / | K44: =I44 -> 0 | L44: =K44 -> 0 | M44: =L44 -> 0 | N44: =M44 -> 0 | O44: =$B$18*$B20 -> 0 | P44: =N44 -> 0
A45: voordelen in natura | B45: =SUM(C45:P45) -> 0 | C45: =+$B27+(($B28)*C$43) -> 0 | D45: =+$B27+($B28*D$43) -> 0 | E45: / | F45: =+$B27+($B28*F$43) -> 0 | G45: =+$B27+($B28*G$43) -> 0 | H45: =+$B27+($B28*H$43) -> 0 | I45: =+$B27+($B28*I$43) -> 0 | J45: / | K45: =+$B27+($B28*K$43) -> 0 | L45: =+$B27+($B28*L$43) -> 0 | M45: =+$B27+($B28*M$43) -> 0 | N45: =+$B27+($B28*N$43) -> 0 | O45: / | P45: =+$B27+($B28*P$43) -> 0
A46: RSZ-patronale | B46: =SUM(C46:P46) -> 0 | C46: =MAX(0,IF((C44+C45)>0,((C44+C45)*108%)*(B34+B35+B36)-(B37+B38+B39),0)) -> 0 | D46: =MAX(0,IF((D44+D45)>0,((D44+D45)*108%)*(B34+B35+B36)-(B37+B38+B39),0)) -> 0 | E46: / | F46: =MAX(0,IF((F44+F45)>0,((F44+F45)*108%)*($B34+$B35+$B36)-($B37+$B38+$B39),0)) -> 0 | G46: =MAX(0,IF((G44+G45)>0,((G44+G45)*108%)*($B34+$B35+$B36)-($B37+$B38+$B39),0)) -> 0 | H46: =MAX(0,IF((H44+H45)>0,((H44+H45)*108%)*($B34+$B35+$B36)-($B37+$B38+$B39),0)) -> 0 | I46: =MAX(0,IF((I44+I45)>0,((I44+I45)*108%)*($B34+$B35+$B36)-($B37+$B38+$B39),0)) -> 0 | J46: / | K46: =MAX(0,IF((K44+K45)>0,((K44+K45)*108%)*($B34+$B35+$B36)-($B37+$B38+$B39),0)) -> 0 | L46: =MAX(0,IF((L44+L45)>0,((L44+L45)*108%)*($B34+$B35+$B36)-($B37+$B38+$B39),0)) -> 0 | M46: =MAX(0,IF((M44+M45)>0,((M44+M45)*108%)*($B34+$B35+$B36)-($B37+$B38+$B39),0)) -> 0 | N46: =MAX(0,IF((N44+N45)>0,((N44+N45)*108%)*($B34+$B35+$B36)-($B37+$B38+$B39),0)) -> 0 | O46: =MAX(0,IF((O44)>0,((O44)*108%)*($B34+$B35+$B36),0)) -> 0 | P46: =MAX(0,IF((P44+P45)>0,((P44+P45)*108%)*($B34+$B35+$B36)-($B37+$B38+$B39),0)) -> 0
A47: vergoeding woon-werk | B47: =SUM(C47:P47) -> 0 | C47: =$B29+($B30*C$43) -> 0 | D47: =$B29+($B30*D$43) -> 0 | E47: / | F47: =$B29+($B30*F$43) -> 0 | G47: =$B29+($B30*G$43) -> 0 | H47: =$B29+($B30*H$43) -> 0 | I47: =$B29+($B30*I$43) -> 0 | J47: / | K47: =$B29+($B30*K$43) -> 0 | L47: =$B29+($B30*L$43) -> 0 | M47: =$B29+($B30*M$43) -> 0 | N47: =$B29+($B30*N$43) -> 0 | O47: / | P47: =$B29+($B30*P$43) -> 0
A48: maaltijdcheques | B48: =SUM(C48:P48) -> 0 | C48: =$B31*C$43 -> 0 | D48: =$B31*D$43 -> 0 | E48: / | F48: =$B31*F$43 -> 0 | G48: =$B31*G$43 -> 0 | H48: =$B31*H$43 -> 0 | I48: =$B31*I$43 -> 0 | J48: / | K48: =$B31*K$43 -> 0 | L48: =$B31*L$43 -> 0 | M48: =$B31*M$43 -> 0 | N48: =$B31*N$43 -> 0 | O48: / | P48: =$B31*P$43 -> 0
A49: forfaitaire kostenvergoeding | B49: =SUM(C49:P49) -> 0 | C49: =$B32 -> 0 | D49: =$B32 -> 0 | E49: / | F49: =$B32 -> 0 | G49: =$B32 -> 0 | H49: =$B32 -> 0 | I49: =$B32 -> 0 | J49: / | K49: =$B32 -> 0 | L49: =$B32 -> 0 | M49: =$B32 -> 0 | N49: =$B32 -> 0 | O49: / | P49: =$B32 -> 0
B50: =SUM(B44:B49) -> 0 | C50: =SUM(C44:C49) -> 0 | D50: =SUM(D44:D49) -> 0 | E50: =SUM(E44:E49) -> 0 | F50: =SUM(F44:F49) -> 0 | G50: =SUM(G44:G49) -> 0 | H50: =SUM(H44:H49) -> 0 | I50: =SUM(I44:I49) -> 0 | ... P50: =SUM(P44:P49) -> 0
A51: controlecijfer moet 'nul' zijn | B51: =(SUM(C50:P50)-B50)+(SUM(C44:P49)-B50) -> 0
B52: voorziening vakantiegeld
A53: 0.1027 | B53: =SUM(C53:P53) -> 0 | C53: =(C44*108%)*$A$53 -> 0 | D53: =(D44*108%)*$A$53 -> 0 | E53: / | F53: =(F44*108%)*$A$53 -> 0 | G53: =(G44*108%)*$A$53 -> 0 | H53: =(H44*108%)*$A$53 -> 0 | I53: =(I44*108%)*$A$53 -> 0 | J53: / | K53: =(K44*108%)*$A$53 -> 0 | L53: =(L44*108%)*$A$53 -> 0 | M53: =(M44*108%)*$A$53 -> 0 | N53: =(N44*108%)*$A$53 -> 0 | O53: 0 | P53: =(P44*108%)*$A$53 -> 0

Sheet TEMPLATE 8 arbeider UURloon
A1: PROGNOSE PERSONEELSKOST | B1: 2026 | C1: ARBEIDER UURLOON
A3: NAAM (facultatief)
A4: FUNCTIE (facultatief)
A5: PRODUCTIE
A6: aantal werknemers | B6: 0
A8: STANDAARDGEGEVENS
A9: statuut | B9: arbeider
A10: CAO
A11: categorie in de CAO
A12: maand v/d anciënniteiteitsaanpassing
A13: maand van indexatie
A15: MAAND BRUTOLOON VT op 1 januari | B15: 0
A16: MAAND BRUTOLOON VT anciënniteitsaanpassing | B16: 0
A17: MAAND BRUTOLOON VT indexatie | B17: 0
A19: UUR BRUTOLOON VT op 1 januari | B19: =B15*3/13/38 -> 0
A20: UUR BRUTOLOON VT anciënniteitsaanpassing | B20: =B16*3/13/38 -> 0
A21: UUR BRUTOLOON VT indexatie | B21: =B17*3/13/38 -> 0
A23: % RSZ-PATRONALE:basis-tarief | B23: ='RSZ-tarieven'!B5 -> 0.3061
A24: % RSZ-PATRONALE:bijkomende | B24: ='RSZ-tarieven'!B15 -> 0.0198
A25: % RSZ-PATRONALE als + 10 Wners | B25: =IF(B6<10,0,1.69%) -> 0
A26: extra RSZ-vermindering lage lonen (per uur) | B26: =IF(B15>3744,0,0.14*(11233.89-(B15*3))/13/5/38) -> 0.6367387
A27: RSZ-VERMINDERING doelgroep | C27: om te rekenen per uur
A28: RSZ-VERMINDERING andere | C28: om te rekenen per uur
B30: =B1 -> 2026 | C30: JAN | D30: FEB | E30: MAA | F30: APR | G30: MEI | H30: JUN | I30: JUL | J30: AUG | K30: SEP | L30: OKT | M30: NOV | N30: DEC
A31: VUL IN: aantal werkuren per maand | B31: =SUM(C31:N31) -> 0 | C31: 0 | D31: 0 | E31: 0 | F31: 0 | G31: 0 | H31: 0 | I31: 0 | J31: 0 | K31: 0 | L31: 0 | M31: 0 | N31: 0
A32: brutoloon | B32: =SUM(C32:N32) -> 0 | C32: =$B$19*C31 -> 0 | D32: =$B$19*D31 -> 0 | E32: =$B$19*E31 -> 0 | F32: =$B$19*F31 -> 0 | G32: =$B$19*G31 -> 0 | H32: =$B$19*H31 -> 0 | I32: =$B$19*I31 -> 0 | J32: =$B$19*J31 -> 0 | ... M32: =$B$19*M31 -> 0 | N32: =$B19*N31 -> 0
A33: RSZ-patronale | B33: =SUM(C33:N33) -> 0 | C33: =MAX(0,IF((C32)>0,((C32)*108%)*($B$23+$B$24+$B25)-(($B26*C31)+$B27+$B28),0)) -> 0 | D33: =MAX(0,IF((D32)>0,((D32)*108%)*($B$23+$B$24+$B25)-(($B26*D31)+$B27+$B28),0)) -> 0 | E33: =MAX(0,IF((E32)>0,((E32)*108%)*($B$23+$B$24+$B25)-(($B26*E31)+$B27+$B28),0)) -> 0 | F33: =MAX(0,IF((F32)>0,((F32)*108%)*($B$23+$B$24+$B25)-(($B26*F31)+$B27+$B28),0)) -> 0 | G33: =MAX(0,IF((G32)>0,((G32)*108%)*($B$23+$B$24+$B25)-(($B26*G31)+$B27+$B28),0)) -> 0 | H33: =MAX(0,IF((H32)>0,((H32)*108%)*($B$23+$B$24+$B25)-(($B26*H31)+$B27+$B28),0)) -> 0 | I33: =MAX(0,IF((I32)>0,((I32)*108%)*($B$23+$B$24+$B25)-(($B26*I31)+$B27+$B28),0)) -> 0 | J33: =MAX(0,IF((J32)>0,((J32)*108%)*($B$23+$B$24+$B25)-(($B26*J31)+$B27+$B28),0)) -> 0 | ... N33: =MAX(0,IF((N32)>0,((N32)*108%)*($B$23+$B$24+$B25)-(($B26*N31)+$B27+$B28),0)) -> 0
B34: =SUM(B32:B33) -> 0 | C34: =SUM(C32:C33) -> 0 | D34: =SUM(D32:D33) -> 0 | E34: =SUM(E32:E33) -> 0 | F34: =SUM(F32:F33) -> 0 | G34: =SUM(G32:G33) -> 0 | H34: =SUM(H32:H33) -> 0 | I34: =SUM(I32:I33) -> 0 | ... N34: =SUM(N32:N33) -> 0
A35: controlecijfer moet 'nul' zijn | B35: =(SUM(C34:N34)-B34)+(SUM(C32:N33)-B34) -> 0
B36: voorziening vakantiegeld
A37: 0.1027 | B37: =SUM(C37:N37) -> 0 | C37: =(C32*108%)*$A$37 -> 0 | D37: =(D32*108%)*$A$37 -> 0 | E37: =(E32*108%)*$A$37 -> 0 | F37: =(F32*108%)*$A$37 -> 0 | G37: =(G32*108%)*$A$37 -> 0 | H37: =(108%*H32)*$A$37 -> 0 | I37: =(108%*I32)*$A$37 -> 0 | J37: =(J32*108%)*$A$37 -> 0 | K37: =(K32*108%)*$A$37 -> 0 | L37: =(L32*108%)*$A$37 -> 0 | M37: =(M32*108%)*$A$37 -> 0 | N37: =(N32*108%)*$A$37 -> 0

Sheet  TOTAAL 2026
A1: PROGNOSE PERSONEELSKOST | B1: 1) BEDIENDEN/maand
A2: naam | C2: ='bediende 1A'!B3 | D2: ='bediende 1B'!B3 | E2: ='bediende 1C'!B3 | F2: ='bediende 1D'!B3 | G2: ='bediende 1E'!B3
A3: functie | C3: ='bediende 1A'!B4 | D3: ='bediende 1B'!B4 | E3: ='bediende 1C'!B4 | F3: ='bediende 1D'!B4 | G3: ='bediende 1E'!B4
A4: productie | C4: ='bediende 1A'!B5 | D4: ='bediende 1B'!B5 | E4: ='bediende 1C'!B5 | F4: ='bediende 1D'!B5 | G4: ='bediende 1E'!B5
A5: TOTAAL BRUTOLONEN | B5: =SUM(C5:G5) -> 0 | C5: ='bediende 1A'!B45+'bediende 1A'!B46 -> 0 | D5: ='bediende 1B'!B45+'bediende 1B'!B46 -> 0 | E5: ='bediende 1C'!B45+'bediende 1C'!B46 -> 0 | F5: ='bediende 1D'!B45+'bediende 1D'!B46 -> 0 | G5: ='bediende 1E'!B45+'bediende 1E'!B46 -> 0
A6: TOTAAL RSZ-PATRONALE | B6: =SUM(C6:G6) -> 0 | C6: ='bediende 1A'!B47 -> 0 | D6: ='bediende 1B'!B47 -> 0 | E6: ='bediende 1C'!B47 -> 0 | F6: ='bediende 1D'!B47 -> 0 | G6: ='bediende 1E'!B47 -> 0
A7: TOTAAL WOON-WERK | B7: =SUM(C7:G7) -> 0 | C7: ='bediende 1A'!B48 -> 0 | D7: ='bediende 1B'!B48 -> 0 | E7: ='bediende 1C'!B48 -> 0 | F7: ='bediende 1D'!B48 -> 0 | G7: ='bediende 1E'!B48 -> 0
A8: TOTAAL MAALTIJDCHEQUES | B8: =SUM(C8:G8) -> 0 | C8: ='bediende 1A'!B49 -> 0 | D8: ='bediende 1B'!B49 -> 0 | E8: ='bediende 1C'!B49 -> 0 | F8: ='bediende 1D'!B49 -> 0 | G8: ='bediende 1E'!B49 -> 0
A9: TOTAAL KOSTENVERGOEDING | B9: =SUM(C9:G9) -> 0 | C9: ='bediende 1A'!B50 -> 0 | D9: ='bediende 1B'!B50 -> 0 | E9: ='bediende 1C'!B50 -> 0 | F9: ='bediende 1D'!B50 -> 0 | G9: ='bediende 1E'!B50 -> 0
A10: TOTAAL | B10: =SUM(B5:B9) -> 0 | C10: =SUM(C5:C9) -> 0 | D10: =SUM(D5:D9) -> 0 | E10: =SUM(E5:E9) -> 0 | F10: =SUM(F5:F9) -> 0 | G10: =SUM(G5:G9) -> 0
A11: voorziening vakantiegeld | B11: =SUM(C11:G11) -> 0 | C11: ='bediende 1A'!B54 -> 0 | D11: ='bediende 1B'!B54 -> 0 | E11: ='bediende 1C'!B54 -> 0 | F11: ='bediende 1D'!B54 -> 0 | G11: ='bediende 1E'!B54 -> 0
A13: PROGNOSE PERSONEELSKOST | B13: 2) BEDIENDEN/dag
A14: naam | C14: ='bediende 2A'!B3 | D14: ='bediende 2B'!B3 | E14: ='bediende 2C'!B3 | F14: ='bediende 2D'!B3 | G14: ='bediende 2E'!B3
A15: functie | C15: ='bediende 2A'!B4 | D15: ='bediende 2B'!B4 | E15: ='bediende 2C'!B4 | F15: ='bediende 2D'!B4 | G15: ='bediende 2E'!B4
A16: productie | C16: ='bediende 2A'!B5 | D16: ='bediende 2B'!B5 | E16: ='bediende 2C'!B5 | F16: ='bediende 2D'!B5 | G16: ='bediende 2E'!B5
A17: TOTAAL BRUTOLONEN | B17: =SUM(C17:G17) -> 0 | C17: ='bediende 2A'!$B39+'bediende 2A'!$B40 -> 0 | D17: ='bediende 2B'!$B39+'bediende 2B'!$B40 -> 0 | E17: ='bediende 2C'!$B39+'bediende 2C'!$B40 -> 0 | F17: ='bediende 2D'!$B39+'bediende 2D'!$B40 -> 0 | G17: ='bediende 2E'!$B39+'bediende 2E'!$B40 -> 0
A18: TOTAAL RSZ-PATRONALE | B18: =SUM(C18:G18) -> 0 | C18: ='bediende 2A'!$B41 -> 0 | D18: ='bediende 2B'!$B41 -> 0 | E18: ='bediende 2C'!$B41 -> 0 | F18: ='bediende 2D'!$B41 -> 0 | G18: ='bediende 2E'!$B41 -> 0
A19: TOTAAL WOON-WERK | B19: =SUM(C19:G19) -> 0 | C19: ='bediende 2A'!$B42 -> 0 | D19: ='bediende 2B'!$B42 -> 0 | E19: ='bediende 2C'!$B42 -> 0 | F19: ='bediende 2D'!$B42 -> 0 | G19: ='bediende 2E'!$B42 -> 0
A20: TOTAAL MAALTIJDCHEQUES | B20: =SUM(C20:G20) -> 0 | C20: ='bediende 2A'!$B43 -> 0 | D20: ='bediende 2B'!$B43 -> 0 | E20: ='bediende 2C'!$B43 -> 0 | F20: ='bediende 2D'!$B43 -> 0 | G20: ='bediende 2E'!$B43 -> 0
A21: TOTAAL KOSTENVERGOEDING | B21: =SUM(C21:G21) -> 0 | C21: ='bediende 2A'!$B44 -> 0 | D21: ='bediende 2B'!$B44 -> 0 | E21: ='bediende 2C'!$B44 -> 0 | F21: ='bediende 2D'!$B44 -> 0 | G21: ='bediende 2E'!$B44 -> 0
A22: TOTAAL | B22: =SUM(B17:B21) -> 0 | C22: =SUM(C17:C21) -> 0 | D22: =SUM(D17:D21) -> 0 | E22: =SUM(E17:E21) -> 0 | F22: =SUM(F17:F21) -> 0 | G22: =SUM(G17:G21) -> 0
A23: voorziening vakantiegeld | B23: =SUM(C23:G23) -> 0 | C23: ='bediende 2A'!$B48 -> 0 | D23: ='bediende 2B'!$B48 -> 0 | E23: ='bediende 2C'!$B48 -> 0 | F23: ='bediende 2D'!$B48 -> 0 | G23: ='bediende 2E'!$B48 -> 0
A25: PROGNOSE PERSONEELSKOST | B25: 3) KUNSTENAARS/maand
A26: naam | C26: ='kunstenaar 3A'!B3 | D26: ='kunstenaar 3B'!B3 | E26: ='kunstenaar 3C'!B3 | F26: ='kunstenaar 3D'!B3 | G26: ='kunstenaar 3E'!B3
A27: functie | C27: ='kunstenaar 3A'!B4 | D27: ='kunstenaar 3B'!B4 | E27: ='kunstenaar 3C'!B4 | F27: ='kunstenaar 3D'!B4 | G27: ='kunstenaar 3E'!B4
A28: productie | C28: ='kunstenaar 3A'!B5 | D28: ='kunstenaar 3B'!B5 | E28: ='kunstenaar 3C'!B5 | F28: ='kunstenaar 3D'!B5 | G28: ='kunstenaar 3E'!B5
A29: TOTAAL BRUTOLONEN | B29: =SUM(C29:G29) -> 0 | C29: ='kunstenaar 3A'!B45+'kunstenaar 3A'!B46 -> 0 | D29: ='kunstenaar 3B'!B45+'kunstenaar 3B'!B46 -> 0 | E29: ='kunstenaar 3C'!B45+'kunstenaar 3C'!B46 -> 0 | F29: ='kunstenaar 3D'!B45+'kunstenaar 3D'!B46 -> 0 | G29: ='kunstenaar 3E'!B45+'kunstenaar 3E'!B46 -> 0
A30: TOTAAL RSZ-PATRONALE | B30: =SUM(C30:G30) -> 0 | C30: ='kunstenaar 3A'!B47 -> 0 | D30: ='kunstenaar 3B'!B47 -> 0 | E30: ='kunstenaar 3C'!B47 -> 0 | F30: ='kunstenaar 3D'!B47 -> 0 | G30: ='kunstenaar 3E'!B47 -> 0
A31: TOTAAL WOON-WERK | B31: =SUM(C31:G31) -> 0 | C31: ='kunstenaar 3A'!B48 -> 0 | D31: ='kunstenaar 3B'!B48 -> 0 | E31: ='kunstenaar 3C'!B48 -> 0 | F31: ='kunstenaar 3D'!B48 -> 0 | G31: ='kunstenaar 3E'!B48 -> 0
A32: TOTAAL MAALTIJDCHEQUES | B32: =SUM(C32:G32) -> 0 | C32: ='kunstenaar 3A'!B49 -> 0 | D32: ='kunstenaar 3B'!B49 -> 0 | E32: ='kunstenaar 3C'!B49 -> 0 | F32: ='kunstenaar 3D'!B49 -> 0 | G32: ='kunstenaar 3E'!B49 -> 0
A33: TOTAAL KOSTENVERGOEDING | B33: =SUM(C33:G33) -> 0 | C33: ='kunstenaar 3A'!B50 -> 0 | D33: ='kunstenaar 3B'!B50 -> 0 | E33: ='kunstenaar 3C'!B50 -> 0 | F33: ='kunstenaar 3D'!B50 -> 0 | G33: ='kunstenaar 3E'!B50 -> 0
A34: TOTAAL | B34: =SUM(B29:B33) -> 0 | C34: =SUM(C29:C33) -> 0 | D34: =SUM(D29:D33) -> 0 | E34: =SUM(E29:E33) -> 0 | F34: =SUM(F29:F33) -> 0 | G34: =SUM(G29:G33) -> 0
A35: voorziening vakantiegeld | B35: =SUM(C35:G35) -> 0 | C35: ='kunstenaar 3A'!B54 -> 0 | D35: ='kunstenaar 3B'!B54 -> 0 | E35: ='kunstenaar 3C'!B54 -> 0 | F35: ='kunstenaar 3D'!B54 -> 0 | G35: ='kunstenaar 3E'!B54 -> 0
A37: PROGNOSE PERSONEELSKOST | B37: 4) KUNSTENAARS/dag
A38: naam | C38: ='kunstenaar 4A'!B3 | D38: ='kunstenaar 4B'!B3 | E38: ='kunstenaar 4C'!B3 | F38: ='kunstenaar 4D'!B3 | G38: ='kunstenaar 4E'!B3
A39: functie | C39: ='kunstenaar 4A'!B4 | D39: ='kunstenaar 4B'!B4 | E39: ='kunstenaar 4C'!B4 | F39: ='kunstenaar 4D'!B4 | G39: ='kunstenaar 4E'!B4
A40: productie | C40: ='kunstenaar 4A'!B5 | D40: ='kunstenaar 4B'!B5 | E40: ='kunstenaar 4C'!B5 | F40: ='kunstenaar 4D'!B5 | G40: ='kunstenaar 4E'!B5
A41: TOTAAL BRUTOLONEN | B41: =SUM(C41:G41) -> 0 | C41: ='kunstenaar 4A'!$B37+'kunstenaar 4A'!$B38 -> 0 | D41: ='kunstenaar 4B'!$B37+'kunstenaar 4B'!$B38 -> 0 | E41: ='kunstenaar 4C'!$B37+'kunstenaar 4C'!$B38 -> 0 | F41: ='kunstenaar 4D'!$B37+'kunstenaar 4D'!$B38 -> 0 | G41: ='kunstenaar 4E'!$B37+'kunstenaar 4E'!$B38 -> 0
A42: TOTAAL RSZ-PATRONALE | B42: =SUM(C42:G42) -> 0 | C42: ='kunstenaar 4A'!$B39 -> 0 | D42: ='kunstenaar 4B'!$B39 -> 0 | E42: ='kunstenaar 4C'!$B39 -> 0 | F42: ='kunstenaar 4D'!$B39 -> 0 | G42: ='kunstenaar 4E'!$B39 -> 0
A43: TOTAAL WOON-WERK | B43: =SUM(C43:G43) -> 0 | C43: ='kunstenaar 4A'!$B40 -> 0 | D43: ='kunstenaar 4B'!$B40 -> 0 | E43: ='kunstenaar 4C'!$B40 -> 0 | F43: ='kunstenaar 4D'!$B40 -> 0 | G43: ='kunstenaar 4E'!$B40 -> 0
A44: TOTAAL MAALTIJDCHEQUES | B44: =SUM(C44:G44) -> 0 | C44: ='kunstenaar 4A'!$B41 -> 0 | D44: ='kunstenaar 4B'!$B41 -> 0 | E44: ='kunstenaar 4C'!$B41 -> 0 | F44: ='kunstenaar 4D'!$B41 -> 0 | G44: ='kunstenaar 4E'!$B41 -> 0
A45: TOTAAL KOSTENVERGOEDING | B45: =SUM(C45:G45) -> 0 | C45: ='kunstenaar 4A'!$B42 -> 0 | D45: ='kunstenaar 4B'!$B42 -> 0 | E45: ='kunstenaar 4C'!$B42 -> 0 | F45: ='kunstenaar 4D'!$B42 -> 0 | G45: ='kunstenaar 4E'!$B42 -> 0
A46: TOTAAL | B46: =SUM(B41:B45) -> 0 | C46: =SUM(C41:C45) -> 0 | D46: =SUM(D41:D45) -> 0 | E46: =SUM(E41:E45) -> 0 | F46: =SUM(F41:F45) -> 0 | G46: =SUM(G41:G45) -> 0
A47: voorziening vakantiegeld | B47: =SUM(C47:G47) -> 0 | C47: ='kunstenaar 4A'!$B46 -> 0 | D47: ='kunstenaar 4B'!$B46 -> 0 | E47: ='kunstenaar 4C'!$B46 -> 0 | F47: ='kunstenaar 4D'!$B46 -> 0 | G47: ='kunstenaar 4E'!$B46 -> 0
A49: PROGNOSE PERSONEELSKOST | B49: 5) KUNSTENAARS/uur
A50: naam | C50: ='kunstenaar 5A'!B3 | D50: ='kunstenaar 5B'!B3 | E50: ='kunstenaar 5C'!B3 | F50: ='kunstenaar 5D'!B3 | G50: ='kunstenaar 5E'!B3
A51: functie | C51: ='kunstenaar 5A'!B4 | D51: ='kunstenaar 5B'!B4 | E51: ='kunstenaar 5C'!B4 | F51: ='kunstenaar 5D'!B4 | G51: ='kunstenaar 5E'!B4
A52: productie | C52: ='kunstenaar 5A'!B5 | D52: ='kunstenaar 5B'!B5 | E52: ='kunstenaar 5C'!B5 | F52: ='kunstenaar 5D'!B5 | G52: ='kunstenaar 5E'!B5
A53: TOTAAL BRUTOLONEN | B53: =SUM(C53:G53) -> 0 | C53: ='kunstenaar 5A'!B32 -> 0 | D53: ='kunstenaar 5B'!B32 -> 0 | E53: ='kunstenaar 5C'!B32 -> 0 | F53: ='kunstenaar 5D'!B32 -> 0 | G53: ='kunstenaar 5E'!B32 -> 0
A54: TOTAAL RSZ-PATRONALE | B54: =SUM(C54:G54) -> 0 | C54: ='kunstenaar 5A'!B33 -> 0 | D54: ='kunstenaar 5B'!B33 -> 0 | E54: ='kunstenaar 5C'!B33 -> 0 | F54: ='kunstenaar 5D'!B33 -> 0 | G54: ='kunstenaar 5E'!B33 -> 0
A55: TOTAAL | B55: =SUM(B53:B54) -> 0 | C55: =SUM(C53:C54) -> 0 | D55: =SUM(D53:D54) -> 0 | E55: =SUM(E53:E54) -> 0 | F55: =SUM(F53:F54) -> 0 | G55: =SUM(G53:G54) -> 0
A56: voorziening vakantiegeld | B56: =SUM(C56:G56) -> 0 | C56: ='kunstenaar 5A'!B37 -> 0 | D56: ='kunstenaar 5B'!B37 -> 0 | E56: ='kunstenaar 5C'!B37 -> 0 | F56: ='kunstenaar 5D'!B37 -> 0 | G56: ='kunstenaar 5E'!B37 -> 0
A58: PROGNOSE PERSONEELSKOST | B58: 6) KUNSTENAARS/dienstvergoeding
A59: naam | C59: ='kunstenaar 6A'!B3 | D59: ='kunstenaar 6B'!B3 | E59: ='kunstenaar 6C'!B3 | F59: ='kunstenaar 6D'!B3 | G59: ='kunstenaar 6E'!B3
A60: functie | C60: ='kunstenaar 6A'!B4 | D60: ='kunstenaar 6B'!B4 | E60: ='kunstenaar 6C'!B4 | F60: ='kunstenaar 6D'!B4 | G60: ='kunstenaar 6E'!B4
A61: productie | C61: ='kunstenaar 6A'!B5 | D61: ='kunstenaar 6B'!B5 | E61: ='kunstenaar 6C'!B5 | F61: ='kunstenaar 6D'!B5 | G61: ='kunstenaar 6E'!B5
A62: TOTAAL BRUTOLONEN | B62: =SUM(C62:G62) -> 0 | C62: ='kunstenaar 6A'!$B36+'kunstenaar 6A'!$B37 -> 0 | D62: ='kunstenaar 6B'!$B36+'kunstenaar 6B'!$B37 -> 0 | E62: ='kunstenaar 6C'!$B36+'kunstenaar 6C'!$B37 -> 0 | F62: ='kunstenaar 6D'!$B36+'kunstenaar 6D'!$B37 -> 0 | G62: ='kunstenaar 6E'!$B36+'kunstenaar 6E'!$B37 -> 0
A63: TOTAAL RSZ-PATRONALE | B63: =SUM(C63:G63) -> 0 | C63: ='kunstenaar 6A'!$B38 -> 0 | D63: ='kunstenaar 6B'!$B38 -> 0 | E63: ='kunstenaar 6C'!$B38 -> 0 | F63: ='kunstenaar 6D'!$B38 -> 0 | G63: ='kunstenaar 6E'!$B38 -> 0
A64: TOTAAL WOON-WERK | B64: =SUM(C64:G64) -> 0 | C64: ='kunstenaar 6A'!$B39 -> 0 | D64: ='kunstenaar 6B'!$B39 -> 0 | E64: ='kunstenaar 6C'!$B39 -> 0 | F64: ='kunstenaar 6D'!$B39 -> 0 | G64: ='kunstenaar 6E'!$B39 -> 0
A65: TOTAAL MAALTIJDCHEQUES | B65: =SUM(C65:G65) -> 0 | C65: ='kunstenaar 6A'!$B40 -> 0 | D65: ='kunstenaar 6B'!$B40 -> 0 | E65: ='kunstenaar 6C'!$B40 -> 0 | F65: ='kunstenaar 6D'!$B40 -> 0 | G65: ='kunstenaar 6E'!$B40 -> 0
A66: TOTAAL KOSTENVERGOEDING | B66: =SUM(C66:G66) -> 0 | C66: ='kunstenaar 6A'!$B41 -> 0 | D66: ='kunstenaar 6B'!$B41 -> 0 | E66: ='kunstenaar 6C'!$B41 -> 0 | F66: ='kunstenaar 6D'!$B41 -> 0 | G66: ='kunstenaar 6E'!$B41 -> 0
A67: TOTAAL | B67: =SUM(B62:B66) -> 0 | C67: =SUM(C62:C66) -> 0 | D67: =SUM(D62:D66) -> 0 | E67: =SUM(E62:E66) -> 0 | F67: =SUM(F62:F66) -> 0 | G67: =SUM(G62:G66) -> 0
A68: voorziening vakantiegeld | B68: =SUM(C68:G68) -> 0 | C68: ='kunstenaar 6A'!$B45 -> 0 | D68: ='kunstenaar 6B'!$B45 -> 0 | E68: ='kunstenaar 6C'!$B45 -> 0 | F68: ='kunstenaar 6D'!$B45 -> 0 | G68: ='kunstenaar 6E'!$B45 -> 0
A70: PROGNOSE PERSONEELSKOST | B70: 7) ARBEIDER/maand
A71: naam | C71: ='arbeider 7A'!B3 | D71: ='arbeider 7B'!B3 | E71: ='arbeider 7C'!B3 | F71: ='arbeider 7D'!B3 | G71: ='arbeider 7E'!B3
A72: functie | C72: ='arbeider 7A'!B4 | D72: ='arbeider 7B'!B4 | E72: ='arbeider 7C'!B4 | F72: ='arbeider 7D'!B4 | G72: ='arbeider 7E'!B4
A73: productie | C73: ='arbeider 7A'!B5 | D73: ='arbeider 7B'!B5 | E73: ='arbeider 7C'!B5 | F73: ='arbeider 7D'!B5 | G73: ='arbeider 7E'!B5
A74: TOTAAL BRUTOLONEN | B74: =SUM(C74:G74) -> 0 | C74: ='arbeider 7A'!B44+'arbeider 7A'!B45 -> 0 | D74: ='arbeider 7B'!B44+'arbeider 7B'!B45 -> 0 | E74: ='arbeider 7C'!B44+'arbeider 7C'!B45 -> 0 | F74: ='arbeider 7D'!B44+'arbeider 7D'!B45 -> 0 | G74: ='arbeider 7E'!B44+'arbeider 7E'!B45 -> 0
A75: TOTAAL RSZ-PATRONALE | B75: =SUM(C75:G75) -> 0 | C75: ='arbeider 7A'!B46 -> 0 | D75: ='arbeider 7B'!B46 -> 0 | E75: ='arbeider 7C'!B46 -> 0 | F75: ='arbeider 7D'!B46 -> 0 | G75: ='arbeider 7E'!B46 -> 0
A76: TOTAAL WOON-WERK | B76: =SUM(C76:G76) -> 0 | C76: ='arbeider 7A'!B47 -> 0 | D76: ='arbeider 7B'!B47 -> 0 | E76: ='arbeider 7C'!B47 -> 0 | F76: ='arbeider 7D'!B47 -> 0 | G76: ='arbeider 7E'!B47 -> 0
A77: TOTAAL MAALTIJDCHEQUES | B77: =SUM(C77:G77) -> 0 | C77: ='arbeider 7A'!B48 -> 0 | D77: ='arbeider 7B'!B48 -> 0 | E77: ='arbeider 7C'!B48 -> 0 | F77: ='arbeider 7D'!B48 -> 0 | G77: ='arbeider 7E'!B48 -> 0
A78: TOTAAL KOSTENVERGOEDING | B78: =SUM(C78:G78) -> 0 | C78: ='arbeider 7A'!B49 -> 0 | D78: ='arbeider 7B'!B49 -> 0 | E78: ='arbeider 7C'!B49 -> 0 | F78: ='arbeider 7D'!B49 -> 0 | G78: ='arbeider 7E'!B49 -> 0
A79: TOTAAL | B79: =SUM(B74:B78) -> 0 | C79: =SUM(C74:C78) -> 0 | D79: =SUM(D74:D78) -> 0 | E79: =SUM(E74:E78) -> 0 | F79: =SUM(F74:F78) -> 0 | G79: =SUM(G74:G78) -> 0
A80: voorziening vakantiegeld | B80: =SUM(C80:G80) -> 0 | C80: ='arbeider 7A'!B53 -> 0 | D80: ='arbeider 7B'!B53 -> 0 | E80: ='arbeider 7C'!B53 -> 0 | F80: ='arbeider 7D'!B53 -> 0 | G80: ='arbeider 7E'!B53 -> 0
A82: PROGNOSE PERSONEELSKOST | B82: 8) ARBEIDER/uur
A83: naam | C83: ='arbeider 8A'!B3 | D83: ='arbeider 8B'!B3 | E83: ='arbeider 8C'!B3 | F83: ='arbeider 8D'!B3 | G83: ='arbeider 8E'!B3
A84: functie | C84: ='arbeider 8A'!B4 | D84: ='arbeider 8B'!B4 | E84: ='arbeider 8C'!B4 | F84: ='arbeider 8D'!B4 | G84: ='arbeider 8E'!B4
A85: productie | C85: ='arbeider 8A'!B5 | D85: ='arbeider 8B'!B5 | E85: ='arbeider 8C'!B5 | F85: ='arbeider 8D'!B5 | G85: ='arbeider 8E'!B5
A86: TOTAAL BRUTOLONEN | B86: =SUM(C86:G86) -> 0 | C86: ='arbeider 8A'!B32 -> 0 | D86: ='arbeider 8B'!B32 -> 0 | E86: ='arbeider 8C'!B32 -> 0 | F86: ='arbeider 8D'!B32 -> 0 | G86: ='arbeider 8E'!B32 -> 0
A87: TOTAAL RSZ-PATRONALE | B87: =SUM(C87:G87) -> 0 | C87: ='arbeider 8A'!B33 -> 0 | D87: ='arbeider 8B'!B33 -> 0 | E87: ='arbeider 8C'!B33 -> 0 | F87: ='arbeider 8D'!B33 -> 0 | G87: ='arbeider 8E'!B33 -> 0
A88: TOTAAL | B88: =SUM(B86:B87) -> 0 | C88: =SUM(C86:C87) -> 0 | D88: =SUM(D86:D87) -> 0 | E88: =SUM(E86:E87) -> 0 | F88: =SUM(F86:F87) -> 0 | G88: =SUM(G86:G87) -> 0
A89: voorziening vakantiegeld | B89: =SUM(C89:G89) -> 0 | C89: ='arbeider 8A'!B37 -> 0 | D89: ='arbeider 8B'!B37 -> 0 | E89: ='arbeider 8C'!B37 -> 0 | F89: ='arbeider 8D'!B37 -> 0 | G89: ='arbeider 8E'!B37 -> 0
A92: TEMPLATE SUBSIDIE VLAAMSE GEMEENSCHAP
A94: 62 Bezoldigingen, soiale lasten en pensioenen | B94: =SUM(B96:B121) -> 0
A95: 620 Bezoldigingen en rechtstreekse sociale voordelen | B95: =SUM(B96:B100) -> 0
A96: 6200 Bestuurders of zaakvoerders
A97: 6201 Directiepersoneel
A98: 6202 Bedienden | B98: =B5+B17 -> 0
A99: 6203 Arbeiders | B99: =B74+B86 -> 0
A100: 6204 Andere personeelsleden (kunstenaars) | B100: =B29+B41+B53+B62 -> 0
A101: 621 Werkgeversbijdragen voor sociale verzekeringen | B101: =SUM(B102:B106) -> 0
A102: 6210 Bestuurders of zaakvoerders
A103: 6211 Directiepersoneel
A104: 6212 Bedienden | B104: =B6+B18 -> 0
A105: 6213 Arbeiders | B105: =B75+B87 -> 0
A106: 6214 Andere personeelsleden (Kunstenaars) | B106: =B30+B42+B54+B63 -> 0
A107: 622 Werkgeverspremies voor buitenwettelijke verzekeringen
A108: 623 Andere personeelskosten | B108: =SUM(B109:B118) -> 0
A109: Toevoeging provisie vakantiegeld
A110: ° Bedienden | B110: =B11+B23 -> 0
...

Sheet totaal per functie
A1: Totalen per functie
A4: 1) BEDIENDEN/maand | B4: zakelijke leiding | C4: technische leiding | D4: podiumtechnici
A5: TOTAAL BRUTOLONEN | B5: =SUMIF(' TOTAAL 2026'!$C$3:$G$3,"zakelijke leiding",' TOTAAL 2026'!$C5:$G5) -> 0 | C5: =SUMIF(' TOTAAL 2026'!$C$3:$G$3,"technische leiding",' TOTAAL 2026'!$C5:$G5) -> 0 | D5: =SUMIF(' TOTAAL 2026'!$C$3:$G$3,"podiumtechnici",' TOTAAL 2026'!$C5:$G5) -> 0
A6: TOTAAL RSZ-PATRONALE | B6: =SUMIF(' TOTAAL 2026'!$C$3:$G$3,"zakelijke leiding",' TOTAAL 2026'!$C6:$G6) -> 0 | C6: =SUMIF(' TOTAAL 2026'!$C$3:$G$3,"technische leiding",' TOTAAL 2026'!$C6:$G6) -> 0 | D6: =SUMIF(' TOTAAL 2026'!$C$3:$G$3,"podiumtechnici",' TOTAAL 2026'!$C6:$G6) -> 0
A7: TOTAAL WOON-WERK | B7: =SUMIF(' TOTAAL 2026'!$C$3:$G$3,"zakelijke leiding",' TOTAAL 2026'!$C7:$G7) -> 0 | C7: =SUMIF(' TOTAAL 2026'!$C$3:$G$3,"technische leiding",' TOTAAL 2026'!$C7:$G7) -> 0 | D7: =SUMIF(' TOTAAL 2026'!$C$3:$G$3,"podiumtechnici",' TOTAAL 2026'!$C7:$G7) -> 0
A8: TOTAAL MAALTIJDCHEQUES | B8: =SUMIF(' TOTAAL 2026'!$C$3:$G$3,"zakelijke leiding",' TOTAAL 2026'!$C8:$G8) -> 0 | C8: =SUMIF(' TOTAAL 2026'!$C$3:$G$3,"technische leiding",' TOTAAL 2026'!$C8:$G8) -> 0 | D8: =SUMIF(' TOTAAL 2026'!$C$3:$G$3,"podiumtechnici",' TOTAAL 2026'!$C8:$G8) -> 0
A9: TOTAAL KOSTENVERGOEDING | B9: =SUMIF(' TOTAAL 2026'!$C$3:$G$3,"zakelijke leiding",' TOTAAL 2026'!$C9:$G9) -> 0 | C9: =SUMIF(' TOTAAL 2026'!$C$3:$G$3,"technische leiding",' TOTAAL 2026'!$C9:$G9) -> 0 | D9: =SUMIF(' TOTAAL 2026'!$C$3:$G$3,"podiumtechnici",' TOTAAL 2026'!$C9:$G9) -> 0
B10: =SUM(B5:B9) -> 0 | C10: =SUM(C5:C9) -> 0 | D10: =SUM(D5:D9) -> 0
A11: voorziening vakantiegeld | B11: =SUMIF(' TOTAAL 2026'!$C$3:$G$3,"zakelijke leiding",' TOTAAL 2026'!$C11:$G11) -> 0 | C11: =SUMIF(' TOTAAL 2026'!$C$3:$G$3,"technische leiding",' TOTAAL 2026'!$C11:$G11) -> 0 | D11: =SUMIF(' TOTAAL 2026'!$C$3:$G$3,"podiumtechnici",' TOTAAL 2026'!$C11:$G11) -> 0
A14: 2) BEDIENDEN/dag | B14: atelier | C14: productieleider | D14: preventieadviseur
A15: TOTAAL BRUTOLONEN | B15: =SUMIF(' TOTAAL 2026'!$C$15:$G$15,"atelier",' TOTAAL 2026'!$C17:$G17) -> 0 | C15: =SUMIF(' TOTAAL 2026'!$C$15:$G$15,"productieleider",' TOTAAL 2026'!$C17:$G17) -> 0 | D15: =SUMIF(' TOTAAL 2026'!$C$15:$G$15,"preventieadviseur",' TOTAAL 2026'!$C17:$G17) -> 0
A16: TOTAAL RSZ-PATRONALE | B16: =SUMIF(' TOTAAL 2026'!$C$15:$G$15,"atelier",' TOTAAL 2026'!$C18:$G18) -> 0 | C16: =SUMIF(' TOTAAL 2026'!$C$15:$G$15,"productieleider",' TOTAAL 2026'!$C18:$G18) -> 0 | D16: =SUMIF(' TOTAAL 2026'!$C$15:$G$15,"preventieadviseur",' TOTAAL 2026'!$C18:$G18) -> 0
A17: TOTAAL WOON-WERK | B17: =SUMIF(' TOTAAL 2026'!$C$15:$G$15,"atelier",' TOTAAL 2026'!$C19:$G19) -> 0 | C17: =SUMIF(' TOTAAL 2026'!$C$15:$G$15,"productieleider",' TOTAAL 2026'!$C19:$G19) -> 0 | D17: =SUMIF(' TOTAAL 2026'!$C$15:$G$15,"preventieadviseur",' TOTAAL 2026'!$C19:$G19) -> 0
A18: TOTAAL MAALTIJDCHEQUES | B18: =SUMIF(' TOTAAL 2026'!$C$15:$G$15,"atelier",' TOTAAL 2026'!$C20:$G20) -> 0 | C18: =SUMIF(' TOTAAL 2026'!$C$15:$G$15,"productieleider",' TOTAAL 2026'!$C20:$G20) -> 0 | D18: =SUMIF(' TOTAAL 2026'!$C$15:$G$15,"preventieadviseur",' TOTAAL 2026'!$C20:$G20) -> 0
A19: TOTAAL KOSTENVERGOEDING | B19: =SUMIF(' TOTAAL 2026'!$C$15:$G$15,"atelier",' TOTAAL 2026'!$C21:$G21) -> 0 | C19: =SUMIF(' TOTAAL 2026'!$C$15:$G$15,"productieleider",' TOTAAL 2026'!$C21:$G21) -> 0 | D19: =SUMIF(' TOTAAL 2026'!$C$15:$G$15,"preventieadviseur",' TOTAAL 2026'!$C21:$G21) -> 0
B20: =SUM(B15:B19) -> 0 | C20: =SUM(C15:C19) -> 0 | D20: =SUM(D15:D19) -> 0
A21: voorziening vakantiegeld | B21: =SUMIF(' TOTAAL 2026'!$C15:$G15,"atelier",' TOTAAL 2026'!$C23:$G23) -> 0 | C21: =SUMIF(' TOTAAL 2026'!$C$15:$G$15,"productieleider",' TOTAAL 2026'!$C23:$G23) -> 0 | D21: =SUMIF(' TOTAAL 2026'!$C$15:$G$15,"preventieadviseur",' TOTAAL 2026'!$C23:$G23) -> 0
A24: 3) KUNSTENAARS/maand | B24: artiest | C24: dramaturg | D24: programmator
A25: TOTAAL BRUTOLONEN | B25: =SUMIF(' TOTAAL 2026'!$C$27:$G$27,"artiest",' TOTAAL 2026'!$C29:$G29) -> 0 | C25: =SUMIF(' TOTAAL 2026'!$C$27:$G$27,"dramaturg",' TOTAAL 2026'!$C29:$G29) -> 0 | D25: =SUMIF(' TOTAAL 2026'!$C$27:$G$27,"programmator",' TOTAAL 2026'!$C29:$G29) -> 0
A26: TOTAAL RSZ-PATRONALE | B26: =SUMIF(' TOTAAL 2026'!$C$27:$G$27,"artiest",' TOTAAL 2026'!$C30:$G30) -> 0 | C26: =SUMIF(' TOTAAL 2026'!$C$27:$G$27,"dramaturg",' TOTAAL 2026'!$C30:$G30) -> 0 | D26: =SUMIF(' TOTAAL 2026'!$C$27:$G$27,"programmator",' TOTAAL 2026'!$C30:$G30) -> 0
A27: TOTAAL WOON-WERK | B27: =SUMIF(' TOTAAL 2026'!$C$27:$G$27,"artiest",' TOTAAL 2026'!$C31:$G31) -> 0 | C27: =SUMIF(' TOTAAL 2026'!$C$27:$G$27,"dramaturg",' TOTAAL 2026'!$C31:$G31) -> 0 | D27: =SUMIF(' TOTAAL 2026'!$C$27:$G$27,"programmator",' TOTAAL 2026'!$C31:$G31) -> 0
A28: TOTAAL MAALTIJDCHEQUES | B28: =SUMIF(' TOTAAL 2026'!$C$27:$G$27,"artiest",' TOTAAL 2026'!$C32:$G32) -> 0 | C28: =SUMIF(' TOTAAL 2026'!$C$27:$G$27,"dramaturg",' TOTAAL 2026'!$C32:$G32) -> 0 | D28: =SUMIF(' TOTAAL 2026'!$C$27:$G$27,"programmator",' TOTAAL 2026'!$C32:$G32) -> 0
A29: TOTAAL KOSTENVERGOEDING | B29: =SUMIF(' TOTAAL 2026'!$C$27:$G$27,"artiest",' TOTAAL 2026'!$C33:$G33) -> 0 | C29: =SUMIF(' TOTAAL 2026'!$C$27:$G$27,"dramaturg",' TOTAAL 2026'!$C33:$G33) -> 0 | D29: =SUMIF(' TOTAAL 2026'!$C$27:$G$27,"programmator",' TOTAAL 2026'!$C33:$G33) -> 0
B30: =SUM(B25:B29) -> 0 | C30: =SUM(C25:C29) -> 0 | D30: =SUM(D25:D29) -> 0
A31: voorziening vakantiegeld | B31: =SUMIF(' TOTAAL 2026'!$C$27:$G$27,"artiest",' TOTAAL 2026'!$C35:$G35) -> 0 | C31: =SUMIF(' TOTAAL 2026'!$C$27:$G$27,"dramaturg",' TOTAAL 2026'!$C35:$G35) -> 0 | D31: =SUMIF(' TOTAAL 2026'!$C$27:$G$27,"programmator",' TOTAAL 2026'!$C35:$G35) -> 0
A34: 4) KUNSTENAARS/dag | B34: artiest | C34: auteur/componist | D34: programmator
A35: TOTAAL BRUTOLONEN | B35: =SUMIF(' TOTAAL 2026'!$C$39:$G$39,"artiest",' TOTAAL 2026'!$C41:$G41) -> 0 | C35: =SUMIF(' TOTAAL 2026'!$C$39:$G$39,"auteur/componist",' TOTAAL 2026'!$C41:$G41) -> 0 | D35: =SUMIF(' TOTAAL 2026'!$C$39:$G$39,"programmator",' TOTAAL 2026'!$C41:$G41) -> 0
A36: TOTAAL RSZ-PATRONALE | B36: =SUMIF(' TOTAAL 2026'!$C$39:$G$39,"artiest",' TOTAAL 2026'!$C42:$G42) -> 0 | C36: =SUMIF(' TOTAAL 2026'!$C$39:$G$39,"auteur/componist",' TOTAAL 2026'!$C42:$G42) -> 0 | D36: =SUMIF(' TOTAAL 2026'!$C$39:$G$39,"programmator",' TOTAAL 2026'!$C42:$G42) -> 0
A37: TOTAAL WOON-WERK | B37: =SUMIF(' TOTAAL 2026'!$C$39:$G$39,"artiest",' TOTAAL 2026'!$C43:$G43) -> 0 | C37: =SUMIF(' TOTAAL 2026'!$C$39:$G$39,"auteur/componist",' TOTAAL 2026'!$C43:$G43) -> 0 | D37: =SUMIF(' TOTAAL 2026'!$C$39:$G$39,"programmator",' TOTAAL 2026'!$C43:$G43) -> 0
A38: TOTAAL MAALTIJDCHEQUES | B38: =SUMIF(' TOTAAL 2026'!$C$39:$G$39,"artiest",' TOTAAL 2026'!$C44:$G44) -> 0 | C38: =SUMIF(' TOTAAL 2026'!$C$39:$G$39,"auteur/componist",' TOTAAL 2026'!$C44:$G44) -> 0 | D38: =SUMIF(' TOTAAL 2026'!$C$39:$G$39,"programmator",' TOTAAL 2026'!$C44:$G44) -> 0
A39: TOTAAL KOSTENVERGOEDING | B39: =SUMIF(' TOTAAL 2026'!$C$39:$G$39,"artiest",' TOTAAL 2026'!$C45:$G45) -> 0 | C39: =SUMIF(' TOTAAL 2026'!$C$39:$G$39,"auteur/componist",' TOTAAL 2026'!$C45:$G45) -> 0 | D39: =SUMIF(' TOTAAL 2026'!$C$39:$G$39,"programmator",' TOTAAL 2026'!$C45:$G45) -> 0
B40: =SUM(B35:B39) -> 0 | C40: =SUM(C35:C39) -> 0 | D40: =SUM(D35:D39) -> 0
A41: voorziening vakantiegeld | B41: =SUMIF(' TOTAAL 2026'!$C$39:$G$39,"artiest",' TOTAAL 2026'!$C47:$G47) -> 0 | C41: =SUMIF(' TOTAAL 2026'!$C$39:$G$39,"auteur/componist",' TOTAAL 2026'!$C47:$G47) -> 0 | D41: =SUMIF(' TOTAAL 2026'!$C$39:$G$39,"programmator",' TOTAAL 2026'!$C47:$G47) -> 0
A44: 5) KUNSTENAARS/uur | B44: auteur/componist | C44: artiest | D44: regisseur/choreograaf/dirigent
A45: TOTAAL BRUTOLONEN | B45: =SUMIF(' TOTAAL 2026'!$C51:$G51,"auteur/componist",' TOTAAL 2026'!$C53:$G53) -> 0 | C45: =SUMIF(' TOTAAL 2026'!$C51:$G51,"artiest",' TOTAAL 2026'!$C53:$G53) -> 0 | D45: =SUMIF(' TOTAAL 2026'!$C51:$G51,"regisseur/choreograaf/dirigent",' TOTAAL 2026'!$C53:$G53) -> 0
A46: TOTAAL RSZ-PATRONALE | B46: =SUMIF(' TOTAAL 2026'!$C52:$G52,"auteur/componist",' TOTAAL 2026'!$C54:$G54) -> 0 | C46: =SUMIF(' TOTAAL 2026'!$C51:$G51,"artiest",' TOTAAL 2026'!$C54:$G54) -> 0 | D46: =SUMIF(' TOTAAL 2026'!$C52:$G52,"regisseur/choreograaf/dirigent",' TOTAAL 2026'!$C54:$G54) -> 0
B47: =SUM(B45:B46) -> 0 | C47: =SUM(C45:C46) -> 0 | D47: =SUM(D45:D46) -> 0
A48: voorziening vakantiegeld | B48: =SUMIF(' TOTAAL 2026'!$C51:$G51,"auteur/componist",' TOTAAL 2026'!$C56:$G56) -> 0 | C48: =SUMIF(' TOTAAL 2026'!$C51:$G51,"artiest",' TOTAAL 2026'!$C56:$G56) -> 0 | D48: =SUMIF(' TOTAAL 2026'!$C51:$G51,"regisseur/choreograaf/dirigent",' TOTAAL 2026'!$C56:$G56) -> 0
A51: 6) KUNSTENAARS/dienstvergoeding | B51: auteur/componist | C51: artiest | D51: regisseur/choreograaf/dirigent
A52: TOTAAL BRUTOLONEN | B52: =SUMIF(' TOTAAL 2026'!$C$60:$G$60,"auteur/componist",' TOTAAL 2026'!$C62:$G62) -> 0 | C52: =SUMIF(' TOTAAL 2026'!$C$60:$G$60,"artiest",' TOTAAL 2026'!$C62:$G62) -> 0 | D52: =SUMIF(' TOTAAL 2026'!$C$60:$G$60,"regisseur/choreograaf/dirigent",' TOTAAL 2026'!$C62:$G62) -> 0
A53: TOTAAL RSZ-PATRONALE | B53: =SUMIF(' TOTAAL 2026'!$C$60:$G$60,"auteur/componist",' TOTAAL 2026'!$C63:$G63) -> 0 | C53: =SUMIF(' TOTAAL 2026'!$C$60:$G$60,"artiest",' TOTAAL 2026'!$C63:$G63) -> 0 | D53: =SUMIF(' TOTAAL 2026'!$C$60:$G$60,"regisseur/choreograaf/dirigent",' TOTAAL 2026'!$C63:$G63) -> 0
A54: TOTAAL WOON-WERK | B54: =SUMIF(' TOTAAL 2026'!$C$60:$G$60,"auteur/componist",' TOTAAL 2026'!$C64:$G64) -> 0 | C54: =SUMIF(' TOTAAL 2026'!$C$60:$G$60,"artiest",' TOTAAL 2026'!$C64:$G64) -> 0 | D54: =SUMIF(' TOTAAL 2026'!$C$60:$G$60,"regisseur/choreograaf/dirigent",' TOTAAL 2026'!$C64:$G64) -> 0
A55: TOTAAL MAALTIJDCHEQUES | B55: =SUMIF(' TOTAAL 2026'!$C$60:$G$60,"auteur/componist",' TOTAAL 2026'!$C65:$G65) -> 0 | C55: =SUMIF(' TOTAAL 2026'!$C$60:$G$60,"artiest",' TOTAAL 2026'!$C65:$G65) -> 0 | D55: =SUMIF(' TOTAAL 2026'!$C$60:$G$60,"regisseur/choreograaf/dirigent",' TOTAAL 2026'!$C65:$G65) -> 0
A56: TOTAAL KOSTENVERGOEDING | B56: =SUMIF(' TOTAAL 2026'!$C$60:$G$60,"auteur/componist",' TOTAAL 2026'!$C66:$G66) -> 0 | C56: =SUMIF(' TOTAAL 2026'!$C$60:$G$60,"artiest",' TOTAAL 2026'!$C66:$G66) -> 0 | D56: =SUMIF(' TOTAAL 2026'!$C$60:$G$60,"regisseur/choreograaf/dirigent",' TOTAAL 2026'!$C66:$G66) -> 0
B57: =SUM(B52:B56) -> 0 | C57: =SUM(C52:C56) -> 0 | D57: =SUM(D52:D56) -> 0
A58: voorziening vakantiegeld | B58: =SUMIF(' TOTAAL 2026'!$C$60:$G$60,"auteur/componist",' TOTAAL 2026'!$C68:$G68) -> 0 | C58: =SUMIF(' TOTAAL 2026'!$C$60:$G$60,"artiest",' TOTAAL 2026'!$C68:$G68) -> 0 | D58: =SUMIF(' TOTAAL 2026'!$C$60:$G$60,"regisseur/choreograaf/dirigent",' TOTAAL 2026'!$C68:$G68) -> 0
A61: 7) ARBEIDER/maand | B61: chauffeur | C61: gebouwbeheer | D61: kantine
A62: TOTAAL BRUTOLONEN | B62: =SUMIF(' TOTAAL 2026'!$C$72:$G$72,"chauffeur",' TOTAAL 2026'!$C74:$G74) -> 0 | C62: =SUMIF(' TOTAAL 2026'!$C$72:$G$72,"gebouwbeheer",' TOTAAL 2026'!$C74:$G74) -> 0 | D62: =SUMIF(' TOTAAL 2026'!$C$72:$G$72,"kantine",' TOTAAL 2026'!$C74:$G74) -> 0
A63: TOTAAL RSZ-PATRONALE | B63: =SUMIF(' TOTAAL 2026'!$C$72:$G$72,"chauffeur",' TOTAAL 2026'!$C75:$G75) -> 0 | C63: =SUMIF(' TOTAAL 2026'!$C$72:$G$72,"gebouwbeheer",' TOTAAL 2026'!$C75:$G75) -> 0 | D63: =SUMIF(' TOTAAL 2026'!$C$72:$G$72,"kantine",' TOTAAL 2026'!$C75:$G75) -> 0
A64: TOTAAL WOON-WERK | B64: =SUMIF(' TOTAAL 2026'!$C$72:$G$72,"chauffeur",' TOTAAL 2026'!$C76:$G76) -> 0 | C64: =SUMIF(' TOTAAL 2026'!$C$72:$G$72,"gebouwbeheer",' TOTAAL 2026'!$C76:$G76) -> 0 | D64: =SUMIF(' TOTAAL 2026'!$C$72:$G$72,"kantine",' TOTAAL 2026'!$C76:$G76) -> 0
A65: TOTAAL MAALTIJDCHEQUES | B65: =SUMIF(' TOTAAL 2026'!$C$72:$G$72,"chauffeur",' TOTAAL 2026'!$C77:$G77) -> 0 | C65: =SUMIF(' TOTAAL 2026'!$C$72:$G$72,"gebouwbeheer",' TOTAAL 2026'!$C77:$G77) -> 0 | D65: =SUMIF(' TOTAAL 2026'!$C$72:$G$72,"kantine",' TOTAAL 2026'!$C77:$G77) -> 0
A66: TOTAAL KOSTENVERGOEDING | B66: =SUMIF(' TOTAAL 2026'!$C$72:$G$72,"chauffeur",' TOTAAL 2026'!$C78:$G78) -> 0 | C66: =SUMIF(' TOTAAL 2026'!$C$72:$G$72,"gebouwbeheer",' TOTAAL 2026'!$C78:$G78) -> 0 | D66: =SUMIF(' TOTAAL 2026'!$C$72:$G$72,"kantine",' TOTAAL 2026'!$C78:$G78) -> 0
B67: =SUM(B62:B66) -> 0 | C67: =SUM(C62:C66) -> 0 | D67: =SUM(D62:D66) -> 0
A68: voorziening vakantiegeld | B68: =SUMIF(' TOTAAL 2026'!$C$72:$G$72,"chauffeur",' TOTAAL 2026'!$C80:$G80) -> 0 | C68: =SUMIF(' TOTAAL 2026'!$C$72:$G$72,"gebouwbeheer",' TOTAAL 2026'!$C80:$G80) -> 0 | D68: =SUMIF(' TOTAAL 2026'!$C$72:$G$72,"kantine",' TOTAAL 2026'!$C80:$G80) -> 0
A71: 8) ARBEIDER/uur | B71: chauffeur | C71: gebouwbeheer | D71: kantine
A72: TOTAAL BRUTOLONEN | B72: =SUMIF(' TOTAAL 2026'!$C$84:$G$84,"chauffeur",' TOTAAL 2026'!$C86:$G86) -> 0 | C72: =SUMIF(' TOTAAL 2026'!$C$84:$G$84,"gebouwbeheer",' TOTAAL 2026'!$C86:$G86) -> 0 | D72: =SUMIF(' TOTAAL 2026'!$C$84:$G$84,"kantine",' TOTAAL 2026'!$C86:$G86) -> 0
A73: TOTAAL RSZ-PATRONALE | B73: =SUMIF(' TOTAAL 2026'!$C$84:$G$84,"chauffeur",' TOTAAL 2026'!$C87:$G87) -> 0 | C73: =SUMIF(' TOTAAL 2026'!$C$84:$G$84,"gebouwbeheer",' TOTAAL 2026'!$C87:$G87) -> 0 | D73: =SUMIF(' TOTAAL 2026'!$C$84:$G$84,"kantine",' TOTAAL 2026'!$C87:$G87) -> 0
B74: =SUM(B72:B73) -> 0 | C74: =SUM(C72:C73) -> 0 | D74: =SUM(D72:D73) -> 0
A75: voorziening vakantiegeld | B75: =SUMIF(' TOTAAL 2026'!$C$84:$G$84,"chauffeur",' TOTAAL 2026'!$C89:$G89) -> 0 | C75: =SUMIF(' TOTAAL 2026'!$C$84:$G$84,"gebouwbeheer",' TOTAAL 2026'!$C89:$G89) -> 0 | D75: =SUMIF(' TOTAAL 2026'!$C$84:$G$84,"kantine",' TOTAAL 2026'!$C89:$G89) -> 0

Sheet totaal per productie
A1: Totalen per productie
A4: 1) BEDIENDEN/maand | B4: prod1 | C4: prod2 | D4: prod3
A5: TOTAAL BRUTOLONEN | B5: =SUMIF(' TOTAAL 2026'!$C$4:$G$4,"prod1",' TOTAAL 2026'!$C5:$G5) -> 0 | C5: =SUMIF(' TOTAAL 2026'!$C$4:$G$4,"prod2",' TOTAAL 2026'!$C5:$G5) -> 0 | D5: =SUMIF(' TOTAAL 2026'!$C$4:$G$4,"prod3",' TOTAAL 2026'!$C5:$G5) -> 0
A6: TOTAAL RSZ-PATRONALE | B6: =SUMIF(' TOTAAL 2026'!$C$4:$G$4,"prod1",' TOTAAL 2026'!$C6:$G6) -> 0 | C6: =SUMIF(' TOTAAL 2026'!$C$4:$G$4,"prod2",' TOTAAL 2026'!$C6:$G6) -> 0 | D6: =SUMIF(' TOTAAL 2026'!$C$4:$G$4,"prod3",' TOTAAL 2026'!$C6:$G6) -> 0
A7: TOTAAL WOON-WERK | B7: =SUMIF(' TOTAAL 2026'!$C$4:$G$4,"prod1",' TOTAAL 2026'!$C7:$G7) -> 0 | C7: =SUMIF(' TOTAAL 2026'!$C$4:$G$4,"prod2",' TOTAAL 2026'!$C7:$G7) -> 0 | D7: =SUMIF(' TOTAAL 2026'!$C$4:$G$4,"prod3",' TOTAAL 2026'!$C7:$G7) -> 0
A8: TOTAAL MAALTIJDCHEQUES | B8: =SUMIF(' TOTAAL 2026'!$C$4:$G$4,"prod1",' TOTAAL 2026'!$C8:$G8) -> 0 | C8: =SUMIF(' TOTAAL 2026'!$C$4:$G$4,"prod2",' TOTAAL 2026'!$C8:$G8) -> 0 | D8: =SUMIF(' TOTAAL 2026'!$C$4:$G$4,"prod3",' TOTAAL 2026'!$C8:$G8) -> 0
A9: TOTAAL KOSTENVERGOEDING | B9: =SUMIF(' TOTAAL 2026'!$C$4:$G$4,"prod1",' TOTAAL 2026'!$C9:$G9) -> 0 | C9: =SUMIF(' TOTAAL 2026'!$C$4:$G$4,"prod2",' TOTAAL 2026'!$C9:$G9) -> 0 | D9: =SUMIF(' TOTAAL 2026'!$C$4:$G$4,"prod3",' TOTAAL 2026'!$C9:$G9) -> 0
B10: =SUM(B5:B9) -> 0 | C10: =SUM(C5:C9) -> 0 | D10: =SUM(D5:D9) -> 0
A11: voorziening vakantiegeld | B11: =SUMIF(' TOTAAL 2026'!$C$4:$G$4,"prod1",' TOTAAL 2026'!$C11:$G11) -> 0 | C11: =SUMIF(' TOTAAL 2026'!$C$4:$G$4,"prod2",' TOTAAL 2026'!$C11:$G11) -> 0 | D11: =SUMIF(' TOTAAL 2026'!$C$4:$G$4,"prod3",' TOTAAL 2026'!$C11:$G11) -> 0
A14: 2) BEDIENDEN/dag | B14: prod1 | C14: prod2 | D14: prod3
A15: TOTAAL BRUTOLONEN | B15: =SUMIF(' TOTAAL 2026'!$C$16:$G$16,"prod1",' TOTAAL 2026'!$C17:$G17) -> 0 | C15: =SUMIF(' TOTAAL 2026'!$C$16:$G$16,"prod2",' TOTAAL 2026'!$C17:$G17) -> 0 | D15: =SUMIF(' TOTAAL 2026'!$C$16:$G$16,"prod3",' TOTAAL 2026'!$C17:$G17) -> 0
A16: TOTAAL RSZ-PATRONALE | B16: =SUMIF(' TOTAAL 2026'!$C$16:$G$16,"prod1",' TOTAAL 2026'!$C18:$G18) -> 0 | C16: =SUMIF(' TOTAAL 2026'!$C$16:$G$16,"prod2",' TOTAAL 2026'!$C18:$G18) -> 0 | D16: =SUMIF(' TOTAAL 2026'!$C$16:$G$16,"prod3",' TOTAAL 2026'!$C18:$G18) -> 0
A17: TOTAAL WOON-WERK | B17: =SUMIF(' TOTAAL 2026'!$C$16:$G$16,"prod1",' TOTAAL 2026'!$C19:$G19) -> 0 | C17: =SUMIF(' TOTAAL 2026'!$C$16:$G$16,"prod2",' TOTAAL 2026'!$C19:$G19) -> 0 | D17: =SUMIF(' TOTAAL 2026'!$C$16:$G$16,"prod3",' TOTAAL 2026'!$C19:$G19) -> 0
A18: TOTAAL MAALTIJDCHEQUES | B18: =SUMIF(' TOTAAL 2026'!$C$16:$G$16,"prod1",' TOTAAL 2026'!$C20:$G20) -> 0 | C18: =SUMIF(' TOTAAL 2026'!$C$16:$G$16,"prod2",' TOTAAL 2026'!$C20:$G20) -> 0 | D18: =SUMIF(' TOTAAL 2026'!$C$16:$G$16,"prod3",' TOTAAL 2026'!$C20:$G20) -> 0
A19: TOTAAL KOSTENVERGOEDING | B19: =SUMIF(' TOTAAL 2026'!$C$16:$G$16,"prod1",' TOTAAL 2026'!$C21:$G21) -> 0 | C19: =SUMIF(' TOTAAL 2026'!$C$16:$G$16,"prod2",' TOTAAL 2026'!$C21:$G21) -> 0 | D19: =SUMIF(' TOTAAL 2026'!$C$16:$G$16,"prod3",' TOTAAL 2026'!$C21:$G21) -> 0
B20: =SUM(B15:B19) -> 0 | C20: =SUM(C15:C19) -> 0 | D20: =SUM(D15:D19) -> 0
A21: voorziening vakantiegeld | B21: =SUMIF(' TOTAAL 2026'!$C$16:$G$16,"prod1",' TOTAAL 2026'!$C23:$G23) -> 0 | C21: =SUMIF(' TOTAAL 2026'!$C$16:$G$16,"prod2",' TOTAAL 2026'!$C23:$G23) -> 0 | D21: =SUMIF(' TOTAAL 2026'!$C$16:$G$16,"prod3",' TOTAAL 2026'!$C23:$G23) -> 0
A24: 3) KUNSTENAARS/maand | B24: prod1 | C24: prod2 | D24: prod3
A25: TOTAAL BRUTOLONEN | B25: =SUMIF(' TOTAAL 2026'!$C$28:$G$28,"prod1",' TOTAAL 2026'!$C29:$G29) -> 0 | C25: =SUMIF(' TOTAAL 2026'!$C$28:$G$28,"prod2",' TOTAAL 2026'!$C29:$G29) -> 0 | D25: =SUMIF(' TOTAAL 2026'!$C$28:$G$28,"prod3",' TOTAAL 2026'!$C29:$G29) -> 0
A26: TOTAAL RSZ-PATRONALE | B26: =SUMIF(' TOTAAL 2026'!$C$28:$G$28,"prod1",' TOTAAL 2026'!$C30:$G30) -> 0 | C26: =SUMIF(' TOTAAL 2026'!$C$28:$G$28,"prod2",' TOTAAL 2026'!$C30:$G30) -> 0 | D26: =SUMIF(' TOTAAL 2026'!$C$28:$G$28,"prod3",' TOTAAL 2026'!$C30:$G30) -> 0
A27: TOTAAL WOON-WERK | B27: =SUMIF(' TOTAAL 2026'!$C$28:$G$28,"prod1",' TOTAAL 2026'!$C31:$G31) -> 0 | C27: =SUMIF(' TOTAAL 2026'!$C$28:$G$28,"prod2",' TOTAAL 2026'!$C31:$G31) -> 0 | D27: =SUMIF(' TOTAAL 2026'!$C$28:$G$28,"prod3",' TOTAAL 2026'!$C31:$G31) -> 0
A28: TOTAAL MAALTIJDCHEQUES | B28: =SUMIF(' TOTAAL 2026'!$C$28:$G$28,"prod1",' TOTAAL 2026'!$C32:$G32) -> 0 | C28: =SUMIF(' TOTAAL 2026'!$C$28:$G$28,"prod2",' TOTAAL 2026'!$C32:$G32) -> 0 | D28: =SUMIF(' TOTAAL 2026'!$C$28:$G$28,"prod3",' TOTAAL 2026'!$C32:$G32) -> 0
A29: TOTAAL KOSTENVERGOEDING | B29: =SUMIF(' TOTAAL 2026'!$C$28:$G$28,"prod1",' TOTAAL 2026'!$C33:$G33) -> 0 | C29: =SUMIF(' TOTAAL 2026'!$C$28:$G$28,"prod2",' TOTAAL 2026'!$C33:$G33) -> 0 | D29: =SUMIF(' TOTAAL 2026'!$C$28:$G$28,"prod3",' TOTAAL 2026'!$C33:$G33) -> 0
B30: =SUM(B25:B29) -> 0 | C30: =SUM(C25:C29) -> 0 | D30: =SUM(D25:D29) -> 0
A31: voorziening vakantiegeld | B31: =SUMIF(' TOTAAL 2026'!$C$28:$G$28,"prod1",' TOTAAL 2026'!$C35:$G35) -> 0 | C31: =SUMIF(' TOTAAL 2026'!$C$28:$G$28,"prod2",' TOTAAL 2026'!$C35:$G35) -> 0 | D31: =SUMIF(' TOTAAL 2026'!$C$28:$G$28,"prod3",' TOTAAL 2026'!$C35:$G35) -> 0
A34: 4) KUNSTENAARS/dag | B34: prod1 | C34: prod2 | D34: prod3
A35: TOTAAL BRUTOLONEN | B35: =SUMIF(' TOTAAL 2026'!$C$40:$G$40,"prod1",' TOTAAL 2026'!$C41:$G41) -> 0 | C35: =SUMIF(' TOTAAL 2026'!$C$40:$G$40,"prod2",' TOTAAL 2026'!$C41:$G41) -> 0 | D35: =SUMIF(' TOTAAL 2026'!$C$40:$G$40,"prod3",' TOTAAL 2026'!$C41:$G41) -> 0
A36: TOTAAL RSZ-PATRONALE | B36: =SUMIF(' TOTAAL 2026'!$C$40:$G$40,"prod1",' TOTAAL 2026'!$C42:$G42) -> 0 | C36: =SUMIF(' TOTAAL 2026'!$C$40:$G$40,"prod2",' TOTAAL 2026'!$C42:$G42) -> 0 | D36: =SUMIF(' TOTAAL 2026'!$C$40:$G$40,"prod3",' TOTAAL 2026'!$C42:$G42) -> 0
A37: TOTAAL WOON-WERK | B37: =SUMIF(' TOTAAL 2026'!$C$40:$G$40,"prod1",' TOTAAL 2026'!$C43:$G43) -> 0 | C37: =SUMIF(' TOTAAL 2026'!$C$40:$G$40,"prod2",' TOTAAL 2026'!$C43:$G43) -> 0 | D37: =SUMIF(' TOTAAL 2026'!$C$40:$G$40,"prod3",' TOTAAL 2026'!$C43:$G43) -> 0
A38: TOTAAL MAALTIJDCHEQUES | B38: =SUMIF(' TOTAAL 2026'!$C$40:$G$40,"prod1",' TOTAAL 2026'!$C44:$G44) -> 0 | C38: =SUMIF(' TOTAAL 2026'!$C$40:$G$40,"prod2",' TOTAAL 2026'!$C44:$G44) -> 0 | D38: =SUMIF(' TOTAAL 2026'!$C$40:$G$40,"prod3",' TOTAAL 2026'!$C44:$G44) -> 0
A39: TOTAAL KOSTENVERGOEDING | B39: =SUMIF(' TOTAAL 2026'!$C$40:$G$40,"prod1",' TOTAAL 2026'!$C45:$G45) -> 0 | C39: =SUMIF(' TOTAAL 2026'!$C$40:$G$40,"prod2",' TOTAAL 2026'!$C45:$G45) -> 0 | D39: =SUMIF(' TOTAAL 2026'!$C$40:$G$40,"prod3",' TOTAAL 2026'!$C45:$G45) -> 0
B40: =SUM(B35:B39) -> 0 | C40: =SUM(C35:C39) -> 0 | D40: =SUM(D35:D39) -> 0
A41: voorziening vakantiegeld | B41: =SUMIF(' TOTAAL 2026'!$C$40:$G$40,"prod1",' TOTAAL 2026'!$C47:$G47) -> 0 | C41: =SUMIF(' TOTAAL 2026'!$C$40:$G$40,"prod2",' TOTAAL 2026'!$C47:$G47) -> 0 | D41: =SUMIF(' TOTAAL 2026'!$C$40:$G$40,"prod3",' TOTAAL 2026'!$C47:$G47) -> 0
A44: 5) KUNSTENAARS/uur | B44: prod1 | C44: prod2 | D44: prod3
A45: TOTAAL BRUTOLONEN | B45: =SUMIF(' TOTAAL 2026'!$C52:$G52,"prod1",' TOTAAL 2026'!$C53:$G53) -> 0 | C45: =SUMIF(' TOTAAL 2026'!$C52:$G52,"prod2",' TOTAAL 2026'!$C53:$G53) -> 0 | D45: =SUMIF(' TOTAAL 2026'!$C52:$G52,"prod3",' TOTAAL 2026'!$C53:$G53) -> 0
A46: TOTAAL RSZ-PATRONALE | B46: =SUMIF(' TOTAAL 2026'!$C53:$G53,"prod1",' TOTAAL 2026'!$C54:$G54) -> 0 | C46: =SUMIF(' TOTAAL 2026'!$C52:$G52,"prod2",' TOTAAL 2026'!$C54:$G54) -> 0 | D46: =SUMIF(' TOTAAL 2026'!$C52:$G52,"prod3",' TOTAAL 2026'!$C54:$G54) -> 0
B47: =SUM(B45:B46) -> 0 | C47: =SUM(C45:C46) -> 0 | D47: =SUM(D45:D46) -> 0
A48: voorziening vakantiegeld | B48: =SUMIF(' TOTAAL 2026'!$C52:$G52,"prod1",' TOTAAL 2026'!$C56:$G56) -> 0 | C48: =SUMIF(' TOTAAL 2026'!$C52:$G52,"prod2",' TOTAAL 2026'!$C56:$G56) -> 0 | D48: =SUMIF(' TOTAAL 2026'!$C52:$G52,"prod3",' TOTAAL 2026'!$C56:$G56) -> 0
A51: 6) KUNSTENAARS/dienstvergoeding | B51: prod1 | C51: prod2 | D51: prod3
A52: TOTAAL BRUTOLONEN | B52: =SUMIF(' TOTAAL 2026'!$C$61:$G$61,"prod1",' TOTAAL 2026'!$C62:$G62) -> 0 | C52: =SUMIF(' TOTAAL 2026'!$C$61:$G$61,"prod2",' TOTAAL 2026'!$C62:$G62) -> 0 | D52: =SUMIF(' TOTAAL 2026'!$C$61:$G$61,"prod3",' TOTAAL 2026'!$C62:$G62) -> 0
A53: TOTAAL RSZ-PATRONALE | B53: =SUMIF(' TOTAAL 2026'!$C$61:$G$61,"prod1",' TOTAAL 2026'!$C63:$G63) -> 0 | C53: =SUMIF(' TOTAAL 2026'!$C$61:$G$61,"prod2",' TOTAAL 2026'!$C63:$G63) -> 0 | D53: =SUMIF(' TOTAAL 2026'!$C$61:$G$61,"prod3",' TOTAAL 2026'!$C63:$G63) -> 0
A54: TOTAAL WOON-WERK | B54: =SUMIF(' TOTAAL 2026'!$C$61:$G$61,"prod1",' TOTAAL 2026'!$C64:$G64) -> 0 | C54: =SUMIF(' TOTAAL 2026'!$C$61:$G$61,"prod2",' TOTAAL 2026'!$C64:$G64) -> 0 | D54: =SUMIF(' TOTAAL 2026'!$C$61:$G$61,"prod3",' TOTAAL 2026'!$C64:$G64) -> 0
A55: TOTAAL MAALTIJDCHEQUES | B55: =SUMIF(' TOTAAL 2026'!$C$61:$G$61,"prod1",' TOTAAL 2026'!$C65:$G65) -> 0 | C55: =SUMIF(' TOTAAL 2026'!$C$61:$G$61,"prod2",' TOTAAL 2026'!$C65:$G65) -> 0 | D55: =SUMIF(' TOTAAL 2026'!$C$61:$G$61,"prod3",' TOTAAL 2026'!$C65:$G65) -> 0
A56: TOTAAL KOSTENVERGOEDING | B56: =SUMIF(' TOTAAL 2026'!$C$61:$G$61,"prod1",' TOTAAL 2026'!$C66:$G66) -> 0 | C56: =SUMIF(' TOTAAL 2026'!$C$61:$G$61,"prod2",' TOTAAL 2026'!$C66:$G66) -> 0 | D56: =SUMIF(' TOTAAL 2026'!$C$61:$G$61,"prod3",' TOTAAL 2026'!$C66:$G66) -> 0
B57: =SUM(B52:B56) -> 0 | C57: =SUM(C52:C56) -> 0 | D57: =SUM(D52:D56) -> 0
A58: voorziening vakantiegeld | B58: =SUMIF(' TOTAAL 2026'!$C$61:$G$61,"prod1",' TOTAAL 2026'!$C68:$G68) -> 0 | C58: =SUMIF(' TOTAAL 2026'!$C$61:$G$61,"prod2",' TOTAAL 2026'!$C68:$G68) -> 0 | D58: =SUMIF(' TOTAAL 2026'!$C$61:$G$61,"prod3",' TOTAAL 2026'!$C68:$G68) -> 0
A61: 7) ARBEIDER/maand | B61: prod1 | C61: prod2 | D61: prod3
A62: TOTAAL BRUTOLONEN | B62: =SUMIF(' TOTAAL 2026'!$C$73:$G$73,"prod1",' TOTAAL 2026'!$C74:$G74) -> 0 | C62: =SUMIF(' TOTAAL 2026'!$C$73:$G$73,"prod2",' TOTAAL 2026'!$C74:$G74) -> 0 | D62: =SUMIF(' TOTAAL 2026'!$C$73:$G$73,"prod3",' TOTAAL 2026'!$C74:$G74) -> 0
A63: TOTAAL RSZ-PATRONALE | B63: =SUMIF(' TOTAAL 2026'!$C$73:$G$73,"prod1",' TOTAAL 2026'!$C75:$G75) -> 0 | C63: =SUMIF(' TOTAAL 2026'!$C$73:$G$73,"prod2",' TOTAAL 2026'!$C75:$G75) -> 0 | D63: =SUMIF(' TOTAAL 2026'!$C$73:$G$73,"prod3",' TOTAAL 2026'!$C75:$G75) -> 0
A64: TOTAAL WOON-WERK | B64: =SUMIF(' TOTAAL 2026'!$C$73:$G$73,"prod1",' TOTAAL 2026'!$C76:$G76) -> 0 | C64: =SUMIF(' TOTAAL 2026'!$C$73:$G$73,"prod2",' TOTAAL 2026'!$C76:$G76) -> 0 | D64: =SUMIF(' TOTAAL 2026'!$C$73:$G$73,"prod3",' TOTAAL 2026'!$C76:$G76) -> 0
A65: TOTAAL MAALTIJDCHEQUES | B65: =SUMIF(' TOTAAL 2026'!$C$73:$G$73,"prod1",' TOTAAL 2026'!$C77:$G77) -> 0 | C65: =SUMIF(' TOTAAL 2026'!$C$73:$G$73,"prod2",' TOTAAL 2026'!$C77:$G77) -> 0 | D65: =SUMIF(' TOTAAL 2026'!$C$73:$G$73,"prod3",' TOTAAL 2026'!$C77:$G77) -> 0
A66: TOTAAL KOSTENVERGOEDING | B66: =SUMIF(' TOTAAL 2026'!$C$73:$G$73,"prod1",' TOTAAL 2026'!$C78:$G78) -> 0 | C66: =SUMIF(' TOTAAL 2026'!$C$73:$G$73,"prod2",' TOTAAL 2026'!$C78:$G78) -> 0 | D66: =SUMIF(' TOTAAL 2026'!$C$73:$G$73,"prod3",' TOTAAL 2026'!$C78:$G78) -> 0
B67: =SUM(B62:B66) -> 0 | C67: =SUM(C62:C66) -> 0 | D67: =SUM(D62:D66) -> 0
A68: voorziening vakantiegeld | B68: =SUMIF(' TOTAAL 2026'!$C$73:$G$73,"prod1",' TOTAAL 2026'!$C80:$G80) -> 0 | C68: =SUMIF(' TOTAAL 2026'!$C$73:$G$73,"prod2",' TOTAAL 2026'!$C80:$G80) -> 0 | D68: =SUMIF(' TOTAAL 2026'!$C$73:$G$73,"prod3",' TOTAAL 2026'!$C80:$G80) -> 0
A71: 8) ARBEIDER/uur | B71: prod1 | C71: prod2 | D71: prod3
A72: TOTAAL BRUTOLONEN | B72: =SUMIF(' TOTAAL 2026'!$C$85:$G$85,"prod1",' TOTAAL 2026'!$C86:$G86) -> 0 | C72: =SUMIF(' TOTAAL 2026'!$C$85:$G$85,"prod2",' TOTAAL 2026'!$C86:$G86) -> 0 | D72: =SUMIF(' TOTAAL 2026'!$C$85:$G$85,"prod3",' TOTAAL 2026'!$C86:$G86) -> 0
A73: TOTAAL RSZ-PATRONALE | B73: =SUMIF(' TOTAAL 2026'!$C$85:$G$85,"prod1",' TOTAAL 2026'!$C87:$G87) -> 0 | C73: =SUMIF(' TOTAAL 2026'!$C$85:$G$85,"prod2",' TOTAAL 2026'!$C87:$G87) -> 0 | D73: =SUMIF(' TOTAAL 2026'!$C$85:$G$85,"prod3",' TOTAAL 2026'!$C87:$G87) -> 0
B74: =SUM(B72:B73) -> 0 | C74: =SUM(C72:C73) -> 0 | D74: =SUM(D72:D73) -> 0
A75: voorziening vakantiegeld | B75: =SUMIF(' TOTAAL 2026'!$C$85:$G$85,"prod1",' TOTAAL 2026'!$C89:$G89) -> 0 | C75: =SUMIF(' TOTAAL 2026'!$C$85:$G$85,"prod2",' TOTAAL 2026'!$C89:$G89) -> 0 | D75: =SUMIF(' TOTAAL 2026'!$C$85:$G$85,"prod3",' TOTAAL 2026'!$C89:$G89) -> 0

Sheet bediende 1A
A1: PROGNOSE PERSONEELSKOST | B1: 2026 | C1: BEDIENDE MAANDLOON
A3: NAAM (facultatief)
A4: FUNCTIE (facultatief)
A5: PRODUCTIE
A6: aantal werknemers | B6: 0
A8: STANDAARDGEGEVENS
A9: statuut | B9: bediende
A10: CAO
A11: categorie in de CAO
A12: maand v/d anciënniteiteitsaanpassing
A13: maand van indexatie
A15: BRUTOLOON VT op 1 januari | B15: 0
A16: BRUTOLOON VT anciënniteitsaanpassing | B16: 0
A17: BRUTOLOON VT indexatie | B17: 0
A18: eindejaarspremie-13de maand VT 100% | B18: 0
A20: tewerkstellingspercentage | B20: 0 | C20: (vul % in of verhouding bvb.=28/38) ; als het % varieert gedurende het jaar, vul het hieronder in (rij43) en pas de formule aan
A21: aantal werkdagen | B21: =(((52*5)-20-10-B22)/11)*B20 -> 0 | C21: per maand gemiddeld in 5-dagen stelsel
A22: aantal extra vakantiedagen volgens CAO-Pk | B22: 0
A23: effectief BRUTOLOON 1 jan | B23: 0
A24: effectief BRUTOLOON met anciënniteit | B24: =B16*$B$20 -> 0
A25: effectief BRUTOLOON met indexatie | B25: =B17*$B$20 -> 0
A26: effectieve eindejaarspremie-13de maand | B26: =B18*$B$20 -> 0
A28: VOORDEEL IN NATURA vast per maand | B28: 0 | C28: bedrag per maand
A29: VOORDEEL IN NATURA vast per dag | B29: 0 | C29: bedrag per dag
A30: VERGOEDING WOON-WERK | B30: 0 | C30: bedrag per maand
A31: VERGOEDING WOON-WERK | B31: 0 | C31: bedrag per dag
A32: MAALTIJDCHEQUES (enkel werkgever) | B32: 0 | C32: per dag
A33: FORFAITAIRE KOSTENVERGOEDING | B33: 0 | C33: per maand
A35: % RSZ-PATRONALE:basis-tarief | B35: ='RSZ-tarieven'!B4 -> 0.25
A36: % RSZ-PATRONALE:bijkomende | B36: ='RSZ-tarieven'!B15 -> 0.0198
A37: % RSZ-PATRONALE als + 10 Wners | B37: =IF(B6<10,0,1.69%) -> 0
A38: extra RSZ-vermindering lage lonen (per maand) | B38: =IF(B23>3744,0,0.14*(11233.89-(B23*3))/3) -> 524.2482
A39: RSZ-VERMINDERING doelgroep
A40: RSZ-VERMINDERING andere
J41: vakantiemaand
B42: =B1 -> 2026 | C42: JAN | D42: FEB | E42: MAA | F42: APR | G42: MEI | H42: JUN | I42: VG | J42: JUL | K42: AUG | L42: SEP | M42: OKT | N42: NOV | O42: EJP | P42: DEC
A43: tewerkstellingspercentage | B43: / | C43: =$B$20 -> 0 | D43: =$B$20 -> 0 | E43: =$B$20 -> 0 | F43: =$B$20 -> 0 | G43: =$B$20 -> 0 | H43: =$B$20 -> 0 | I43: 0.92 | J43: =$B$20 -> 0 | K43: =$B$20 -> 0 | L43: =$B$20 -> 0 | M43: =$B$20 -> 0 | N43: =$B$20 -> 0 | O43: =$B$20 -> 0 | P43: =$B$20 -> 0
A44: gem.aantal werkdagen | B44: =SUM(C44:P44) -> 0 | C44: =$B$21 -> 0 | D44: =C44 -> 0 | E44: =D44 -> 0 | F44: =E44 -> 0 | G44: =F44 -> 0 | H44: =G44 -> 0 | I44: / | K44: =H44 -> 0 | L44: =K44 -> 0 | M44: =L44 -> 0 | N44: =K44 -> 0 | O44: / | P44: =N44 -> 0
A45: brutoloon | B45: =SUM(C45:P45) -> 0 | C45: =$B23 -> 0 | D45: =C45 -> 0 | E45: =D45 -> 0 | F45: =E45 -> 0 | G45: =F45 -> 0 | H45: =G45 -> 0 | I45: =H45*92% -> 0 | J45: =H45 -> 0 | K45: =J45 -> 0 | L45: =K45 -> 0 | M45: =L45 -> 0 | N45: =M45 -> 0 | O45: =$B$18*$B20 -> 0 | P45: =N45 -> 0
A46: voordelen in natura | B46: =SUM(C46:P46) -> 0 | C46: =$B28+($B29*$C44) -> 0 | D46: =$B28+($B29*D$44) -> 0 | E46: =$B28+($B29*$E44) -> 0 | F46: =$B28+($B29*F$44) -> 0 | G46: =$B28+($B29*G$44) -> 0 | H46: =$B28+($B29*H$44) -> 0 | I46: / | J46: =$B28+($B29*$B21) -> 0 | K46: =$B28+($B29*K$44) -> 0 | L46: =$B28+($B29*$L44) -> 0 | M46: =$B28+($B29*M$44) -> 0 | N46: =$B28+($B29*N$44) -> 0 | O46: / | P46: =$B28+($B29*P$44) -> 0
A47: RSZ-patronale | B47: =SUM(C47:P47) -> 0 | C47: =MAX(0,(IF((C45+C46)>0,(C45+C46)*(B35+B36+B37)-B38-B39-B40))) -> 0 | D47: =MAX(0,IF((D45+D46)>0,(D45+D46)*(B35+B36+B37)-B38-B39-B40,0)) -> 0 | E47: =MAX(0,IF((E45+E46)>0,(E45+E46)*(B35+B36+B37)-B38-B39-B40,0)) -> 0 | F47: =MAX(0,IF((F45+F46)>0,(F45+F46)*(B35+B36+B37)-B38-B39-B40,0)) -> 0 | G47: =MAX(0,IF((G45+G46)>0,(G45+G46)*(B35+B36+B37)-B38-B39-B40,0)) -> 0 | H47: =MAX(0,IF((H45+H46)>0,(H45+H46)*(B35+B36+B37)-B38-B39-B40,0)) -> 0 | I47: / | J47: =MAX(0,IF((J45+J46)>0,(J45+J46)*(B35+B36+B37)-B38-B39-B40,0)) -> 0 | K47: =MAX(0,IF((K45+K46)>0,(K45+K46)*(B35+B36+B37)-B38-B39-B40,0)) -> 0 | L47: =MAX(0,IF((L45+L46)>0,(L45+L46)*(B35+B36+B37)-B38-B39-B40,0)) -> 0 | M47: =MAX(0,IF((M45+M46)>0,(M45+M46)*(B35+B36+B37)-B38-B39-B40,0)) -> 0 | N47: =MAX(0,IF((N45+N46)>0,(N45+N46)*(B35+B36+B37)-B38-B39-B40,0)) -> 0 | O47: =MAX(0,IF((O45)>0,O45*(B35+B36+B37),0)) -> 0 | P47: =MAX(0,IF((P45+P46)>0,(P45+P46)*(B35+B36+B37)-B38-B39-B40,0)) -> 0
A48: vergoeding woon-werk | B48: =SUM(C48:P48) -> 0 | C48: =$B30+($B31*C$44) -> 0 | D48: =$B30+($B31*D$44) -> 0 | E48: =$B30+($B31*E$44) -> 0 | F48: =$B30+($B31*F$44) -> 0 | G48: =$B30+($B31*G$44) -> 0 | H48: =$B30+($B31*H$44) -> 0 | I48: / | J48: / | K48: =$B30+($B31*K$44) -> 0 | L48: =$B30+($B31*L$44) -> 0 | M48: =$B30+($B31*M$44) -> 0 | N48: =$B30+($B31*N$44) -> 0 | O48: / | P48: =$B30+($B31*P$44) -> 0
A49: maaltijdcheques | B49: =SUM(C49:P49) -> 0 | C49: =$B32*$C44 -> 0 | D49: =$B32*D$44 -> 0 | E49: =$B32*E$44 -> 0 | F49: =$B32*F$44 -> 0 | G49: =$B32*G$44 -> 0 | H49: =$B32*H$44 -> 0 | I49: / | J49: / | K49: =$B32*K$44 -> 0 | L49: =$B32*L$44 -> 0 | M49: =$B32*M$44 -> 0 | N49: =$B32*N$44 -> 0 | O49: / | P49: =$B32*P$44 -> 0
A50: forfaitaire kostenvergoeding | B50: =SUM(C50:P50) -> 0 | C50: =$B33 -> 0 | D50: =$B33 -> 0 | E50: =$B33 -> 0 | F50: =$B33 -> 0 | G50: =$B33 -> 0 | H50: =$B33 -> 0 | I50: / | J50: / | K50: =$B33 -> 0 | L50: =$B33 -> 0 | M50: =$B33 -> 0 | N50: =$B33 -> 0 | O50: / | P50: =$B33 -> 0
B51: =SUM(B45:B50) -> 0 | C51: =SUM(C45:C50) -> 0 | D51: =SUM(D45:D50) -> 0 | E51: =SUM(E45:E50) -> 0 | F51: =SUM(F45:F50) -> 0 | G51: =SUM(G45:G50) -> 0 | H51: =SUM(H45:H50) -> 0 | I51: =SUM(I45:I50) -> 0 | ... P51: =SUM(P45:P50) -> 0
A52: controlecijfer moet 'nul' zijn | B52: =(SUM(C51:P51)-B51)+(SUM(C45:P50)-B51) -> 0
B53: voorziening vakantiegeld
A54: 0.182 | B54: =SUM(C54:P54) -> 0 | C54: =C45*$A$54 -> 0 | D54: =D45*$A$54 -> 0 | E54: =E45*$A$54 -> 0 | F54: =F45*$A$54 -> 0 | G54: =G45*$A$54 -> 0 | H54: =H45*$A$54 -> 0 | I54: / | J54: / | K54: =K45*$A$54 -> 0 | L54: =L45*$A$54 -> 0 | M54: =M45*$A$54 -> 0 | N54: =N45*$A$54 -> 0 | O54: 0 | P54: =P45*$A$54 -> 0

Sheet bediende 1B
A1: PROGNOSE PERSONEELSKOST | B1: 2026 | C1: BEDIENDE MAANDLOON
A3: NAAM (facultatief)
A4: FUNCTIE (facultatief)
A5: PRODUCTIE
A6: aantal werknemers | B6: 0
A8: STANDAARDGEGEVENS
A9: statuut | B9: bediende
A10: CAO
A11: categorie in de CAO
A12: maand v/d anciënniteiteitsaanpassing
A13: maand van indexatie
A15: BRUTOLOON VT op 1 januari | B15: 0
A16: BRUTOLOON VT anciënniteitsaanpassing | B16: 0
A17: BRUTOLOON VT indexatie | B17: 0
A18: eindejaarspremie-13de maand VT 100% | B18: 0
A20: tewerkstellingspercentage | B20: 0 | C20: (vul % in of verhouding bvb.=28/38) ; als het % varieert gedurende het jaar, vul het hieronder in (rij43) en pas de formule aan
A21: aantal werkdagen | B21: =(((52*5)-20-10-B22)/11)*B20 -> 0 | C21: per maand gemiddeld in 5-dagen stelsel
A22: aantal extra vakantiedagen volgens CAO-Pk | B22: 0
A23: effectief BRUTOLOON 1 jan | B23: 0
A24: effectief BRUTOLOON met anciënniteit | B24: =B16*$B$20 -> 0
A25: effectief BRUTOLOON met indexatie | B25: =B17*$B$20 -> 0
A26: effectieve eindejaarspremie-13de maand | B26: =B18*$B$20 -> 0
A28: VOORDEEL IN NATURA vast per maand | B28: 0 | C28: bedrag per maand
A29: VOORDEEL IN NATURA vast per dag | B29: 0 | C29: bedrag per dag
A30: VERGOEDING WOON-WERK | B30: 0 | C30: bedrag per maand
A31: VERGOEDING WOON-WERK | B31: 0 | C31: bedrag per dag
A32: MAALTIJDCHEQUES (enkel werkgever) | B32: 0 | C32: per dag
A33: FORFAITAIRE KOSTENVERGOEDING | B33: 0 | C33: per maand
A35: % RSZ-PATRONALE:basis-tarief | B35: ='RSZ-tarieven'!B4 -> 0.25
A36: % RSZ-PATRONALE:bijkomende | B36: ='RSZ-tarieven'!B15 -> 0.0198
A37: % RSZ-PATRONALE als + 10 Wners | B37: =IF(B6<10,0,1.69%) -> 0
A38: extra RSZ-vermindering lage lonen (per maand) | B38: =IF(B23>3744,0,0.14*(11233.89-(B23*3))/3) -> 524.2482
A39: RSZ-VERMINDERING doelgroep
A40: RSZ-VERMINDERING andere
J41: vakantiemaand
B42: =B1 -> 2026 | C42: JAN | D42: FEB | E42: MAA | F42: APR | G42: MEI | H42: JUN | I42: VG | J42: JUL | K42: AUG | L42: SEP | M42: OKT | N42: NOV | O42: EJP | P42: DEC
A43: tewerkstellingspercentage | B43: / | C43: =$B$20 -> 0 | D43: =$B$20 -> 0 | E43: =$B$20 -> 0 | F43: =$B$20 -> 0 | G43: =$B$20 -> 0 | H43: =$B$20 -> 0 | I43: 0.92 | J43: =$B$20 -> 0 | K43: =$B$20 -> 0 | L43: =$B$20 -> 0 | M43: =$B$20 -> 0 | N43: =$B$20 -> 0 | O43: =$B$20 -> 0 | P43: =$B$20 -> 0
A44: gem.aantal werkdagen | B44: =SUM(C44:P44) -> 0 | C44: =$B$21 -> 0 | D44: =C44 -> 0 | E44: =D44 -> 0 | F44: =E44 -> 0 | G44: =F44 -> 0 | H44: =G44 -> 0 | I44: / | K44: =H44 -> 0 | L44: =K44 -> 0 | M44: =L44 -> 0 | N44: =K44 -> 0 | O44: / | P44: =N44 -> 0
A45: brutoloon | B45: =SUM(C45:P45) -> 0 | C45: =$B23 -> 0 | D45: =C45 -> 0 | E45: =D45 -> 0 | F45: =E45 -> 0 | G45: =F45 -> 0 | H45: =G45 -> 0 | I45: =H45*92% -> 0 | J45: =H45 -> 0 | K45: =J45 -> 0 | L45: =K45 -> 0 | M45: =L45 -> 0 | N45: =M45 -> 0 | O45: =$B$18*$B20 -> 0 | P45: =N45 -> 0
A46: voordelen in natura | B46: =SUM(C46:P46) -> 0 | C46: =$B28+($B29*$C44) -> 0 | D46: =$B28+($B29*D$44) -> 0 | E46: =$B28+($B29*$E44) -> 0 | F46: =$B28+($B29*F$44) -> 0 | G46: =$B28+($B29*G$44) -> 0 | H46: =$B28+($B29*H$44) -> 0 | I46: / | J46: =$B28+($B29*$B21) -> 0 | K46: =$B28+($B29*K$44) -> 0 | L46: =$B28+($B29*$L44) -> 0 | M46: =$B28+($B29*M$44) -> 0 | N46: =$B28+($B29*N$44) -> 0 | O46: / | P46: =$B28+($B29*P$44) -> 0
A47: RSZ-patronale | B47: =SUM(C47:P47) -> 0 | C47: =MAX(0,(IF((C45+C46)>0,(C45+C46)*(B35+B36+B37)-B38-B39-B40))) -> 0 | D47: =MAX(0,IF((D45+D46)>0,(D45+D46)*(B35+B36+B37)-B38-B39-B40,0)) -> 0 | E47: =MAX(0,IF((E45+E46)>0,(E45+E46)*(B35+B36+B37)-B38-B39-B40,0)) -> 0 | F47: =MAX(0,IF((F45+F46)>0,(F45+F46)*(B35+B36+B37)-B38-B39-B40,0)) -> 0 | G47: =MAX(0,IF((G45+G46)>0,(G45+G46)*(B35+B36+B37)-B38-B39-B40,0)) -> 0 | H47: =MAX(0,IF((H45+H46)>0,(H45+H46)*(B35+B36+B37)-B38-B39-B40,0)) -> 0 | I47: / | J47: =MAX(0,IF((J45+J46)>0,(J45+J46)*(B35+B36+B37)-B38-B39-B40,0)) -> 0 | K47: =MAX(0,IF((K45+K46)>0,(K45+K46)*(B35+B36+B37)-B38-B39-B40,0)) -> 0 | L47: =MAX(0,IF((L45+L46)>0,(L45+L46)*(B35+B36+B37)-B38-B39-B40,0)) -> 0 | M47: =MAX(0,IF((M45+M46)>0,(M45+M46)*(B35+B36+B37)-B38-B39-B40,0)) -> 0 | N47: =MAX(0,IF((N45+N46)>0,(N45+N46)*(B35+B36+B37)-B38-B39-B40,0)) -> 0 | O47: =MAX(0,IF((O45)>0,O45*(B35+B36+B37),0)) -> 0 | P47: =MAX(0,IF((P45+P46)>0,(P45+P46)*(B35+B36+B37)-B38-B39-B40,0)) -> 0
A48: vergoeding woon-werk | B48: =SUM(C48:P48) -> 0 | C48: =$B30+($B31*C$44) -> 0 | D48: =$B30+($B31*D$44) -> 0 | E48: =$B30+($B31*E$44) -> 0 | F48: =$B30+($B31*F$44) -> 0 | G48: =$B30+($B31*G$44) -> 0 | H48: =$B30+($B31*H$44) -> 0 | I48: / | J48: / | K48: =$B30+($B31*K$44) -> 0 | L48: =$B30+($B31*L$44) -> 0 | M48: =$B30+($B31*M$44) -> 0 | N48: =$B30+($B31*N$44) -> 0 | O48: / | P48: =$B30+($B31*P$44) -> 0
A49: maaltijdcheques | B49: =SUM(C49:P49) -> 0 | C49: =$B32*$C44 -> 0 | D49: =$B32*D$44 -> 0 | E49: =$B32*E$44 -> 0 | F49: =$B32*F$44 -> 0 | G49: =$B32*G$44 -> 0 | H49: =$B32*H$44 -> 0 | I49: / | J49: / | K49: =$B32*K$44 -> 0 | L49: =$B32*L$44 -> 0 | M49: =$B32*M$44 -> 0 | N49: =$B32*N$44 -> 0 | O49: / | P49: =$B32*P$44 -> 0
A50: forfaitaire kostenvergoeding | B50: =SUM(C50:P50) -> 0 | C50: =$B33 -> 0 | D50: =$B33 -> 0 | E50: =$B33 -> 0 | F50: =$B33 -> 0 | G50: =$B33 -> 0 | H50: =$B33 -> 0 | I50: / | J50: / | K50: =$B33 -> 0 | L50: =$B33 -> 0 | M50: =$B33 -> 0 | N50: =$B33 -> 0 | O50: / | P50: =$B33 -> 0
B51: =SUM(B45:B50) -> 0 | C51: =SUM(C45:C50) -> 0 | D51: =SUM(D45:D50) -> 0 | E51: =SUM(E45:E50) -> 0 | F51: =SUM(F45:F50) -> 0 | G51: =SUM(G45:G50) -> 0 | H51: =SUM(H45:H50) -> 0 | I51: =SUM(I45:I50) -> 0 | ... P51: =SUM(P45:P50) -> 0
A52: controlecijfer moet 'nul' zijn | B52: =(SUM(C51:P51)-B51)+(SUM(C45:P50)-B51) -> 0
B53: voorziening vakantiegeld
A54: 0.182 | B54: =SUM(C54:P54) -> 0 | C54: =C45*$A$54 -> 0 | D54: =D45*$A$54 -> 0 | E54: =E45*$A$54 -> 0 | F54: =F45*$A$54 -> 0 | G54: =G45*$A$54 -> 0 | H54: =H45*$A$54 -> 0 | I54: / | J54: / | K54: =K45*$A$54 -> 0 | L54: =L45*$A$54 -> 0 | M54: =M45*$A$54 -> 0 | N54: =N45*$A$54 -> 0 | O54: 0 | P54: =P45*$A$54 -> 0

Sheet bediende 1C
A1: PROGNOSE PERSONEELSKOST | B1: 2026 | C1: BEDIENDE MAANDLOON
A3: NAAM (facultatief)
A4: FUNCTIE (facultatief)
A5: PRODUCTIE
A6: aantal werknemers | B6: 0
A8: STANDAARDGEGEVENS
A9: statuut | B9: bediende
A10: CAO
A11: categorie in de CAO
A12: maand v/d anciënniteiteitsaanpassing
A13: maand van indexatie
A15: BRUTOLOON VT op 1 januari | B15: 0
A16: BRUTOLOON VT anciënniteitsaanpassing | B16: 0
A17: BRUTOLOON VT indexatie | B17: 0
A18: eindejaarspremie-13de maand VT 100% | B18: 0
A20: tewerkstellingspercentage | B20: 0 | C20: (vul % in of verhouding bvb.=28/38) ; als het % varieert gedurende het jaar, vul het hieronder in (rij43) en pas de formule aan
A21: aantal werkdagen | B21: =(((52*5)-20-10-B22)/11)*B20 -> 0 | C21: per maand gemiddeld in 5-dagen stelsel
A22: aantal extra vakantiedagen volgens CAO-Pk | B22: 0
A23: effectief BRUTOLOON 1 jan | B23: 0
A24: effectief BRUTOLOON met anciënniteit | B24: =B16*$B$20 -> 0
A25: effectief BRUTOLOON met indexatie | B25: =B17*$B$20 -> 0
A26: effectieve eindejaarspremie-13de maand | B26: =B18*$B$20 -> 0
A28: VOORDEEL IN NATURA vast per maand | B28: 0 | C28: bedrag per maand
A29: VOORDEEL IN NATURA vast per dag | B29: 0 | C29: bedrag per dag
A30: VERGOEDING WOON-WERK | B30: 0 | C30: bedrag per maand
A31: VERGOEDING WOON-WERK | B31: 0 | C31: bedrag per dag
A32: MAALTIJDCHEQUES (enkel werkgever) | B32: 0 | C32: per dag
A33: FORFAITAIRE KOSTENVERGOEDING | B33: 0 | C33: per maand
A35: % RSZ-PATRONALE:basis-tarief | B35: ='RSZ-tarieven'!B4 -> 0.25
A36: % RSZ-PATRONALE:bijkomende | B36: ='RSZ-tarieven'!B15 -> 0.0198
A37: % RSZ-PATRONALE als + 10 Wners | B37: =IF(B6<10,0,1.69%) -> 0
A38: extra RSZ-vermindering lage lonen (per maand) | B38: =IF(B23>3744,0,0.14*(11233.89-(B23*3))/3) -> 524.2482
A39: RSZ-VERMINDERING doelgroep
A40: RSZ-VERMINDERING andere
J41: vakantiemaand
B42: =B1 -> 2026 | C42: JAN | D42: FEB | E42: MAA | F42: APR | G42: MEI | H42: JUN | I42: VG | J42: JUL | K42: AUG | L42: SEP | M42: OKT | N42: NOV | O42: EJP | P42: DEC
A43: tewerkstellingspercentage | B43: / | C43: =$B$20 -> 0 | D43: =$B$20 -> 0 | E43: =$B$20 -> 0 | F43: =$B$20 -> 0 | G43: =$B$20 -> 0 | H43: =$B$20 -> 0 | I43: 0.92 | J43: =$B$20 -> 0 | K43: =$B$20 -> 0 | L43: =$B$20 -> 0 | M43: =$B$20 -> 0 | N43: =$B$20 -> 0 | O43: =$B$20 -> 0 | P43: =$B$20 -> 0
A44: gem.aantal werkdagen | B44: =SUM(C44:P44) -> 0 | C44: =$B$21 -> 0 | D44: =C44 -> 0 | E44: =D44 -> 0 | F44: =E44 -> 0 | G44: =F44 -> 0 | H44: =G44 -> 0 | I44: / | K44: =H44 -> 0 | L44: =K44 -> 0 | M44: =L44 -> 0 | N44: =K44 -> 0 | O44: / | P44: =N44 -> 0
A45: brutoloon | B45: =SUM(C45:P45) -> 0 | C45: =$B23 -> 0 | D45: =C45 -> 0 | E45: =D45 -> 0 | F45: =E45 -> 0 | G45: =F45 -> 0 | H45: =G45 -> 0 | I45: =H45*92% -> 0 | J45: =H45 -> 0 | K45: =J45 -> 0 | L45: =K45 -> 0 | M45: =L45 -> 0 | N45: =M45 -> 0 | O45: =$B$18*$B20 -> 0 | P45: =N45 -> 0
A46: voordelen in natura | B46: =SUM(C46:P46) -> 0 | C46: =$B28+($B29*$C44) -> 0 | D46: =$B28+($B29*D$44) -> 0 | E46: =$B28+($B29*$E44) -> 0 | F46: =$B28+($B29*F$44) -> 0 | G46: =$B28+($B29*G$44) -> 0 | H46: =$B28+($B29*H$44) -> 0 | I46: / | J46: =$B28+($B29*$B21) -> 0 | K46: =$B28+($B29*K$44) -> 0 | L46: =$B28+($B29*$L44) -> 0 | M46: =$B28+($B29*M$44) -> 0 | N46: =$B28+($B29*N$44) -> 0 | O46: / | P46: =$B28+($B29*P$44) -> 0
A47: RSZ-patronale | B47: =SUM(C47:P47) -> 0 | C47: =MAX(0,(IF((C45+C46)>0,(C45+C46)*(B35+B36+B37)-B38-B39-B40))) -> 0 | D47: =MAX(0,IF((D45+D46)>0,(D45+D46)*(B35+B36+B37)-B38-B39-B40,0)) -> 0 | E47: =MAX(0,IF((E45+E46)>0,(E45+E46)*(B35+B36+B37)-B38-B39-B40,0)) -> 0 | F47: =MAX(0,IF((F45+F46)>0,(F45+F46)*(B35+B36+B37)-B38-B39-B40,0)) -> 0 | G47: =MAX(0,IF((G45+G46)>0,(G45+G46)*(B35+B36+B37)-B38-B39-B40,0)) -> 0 | H47: =MAX(0,IF((H45+H46)>0,(H45+H46)*(B35+B36+B37)-B38-B39-B40,0)) -> 0 | I47: / | J47: =MAX(0,IF((J45+J46)>0,(J45+J46)*(B35+B36+B37)-B38-B39-B40,0)) -> 0 | K47: =MAX(0,IF((K45+K46)>0,(K45+K46)*(B35+B36+B37)-B38-B39-B40,0)) -> 0 | L47: =MAX(0,IF((L45+L46)>0,(L45+L46)*(B35+B36+B37)-B38-B39-B40,0)) -> 0 | M47: =MAX(0,IF((M45+M46)>0,(M45+M46)*(B35+B36+B37)-B38-B39-B40,0)) -> 0 | N47: =MAX(0,IF((N45+N46)>0,(N45+N46)*(B35+B36+B37)-B38-B39-B40,0)) -> 0 | O47: =MAX(0,IF((O45)>0,O45*(B35+B36+B37),0)) -> 0 | P47: =MAX(0,IF((P45+P46)>0,(P45+P46)*(B35+B36+B37)-B38-B39-B40,0)) -> 0
A48: vergoeding woon-werk | B48: =SUM(C48:P48) -> 0 | C48: =$B30+($B31*C$44) -> 0 | D48: =$B30+($B31*D$44) -> 0 | E48: =$B30+($B31*E$44) -> 0 | F48: =$B30+($B31*F$44) -> 0 | G48: =$B30+($B31*G$44) -> 0 | H48: =$B30+($B31*H$44) -> 0 | I48: / | J48: / | K48: =$B30+($B31*K$44) -> 0 | L48: =$B30+($B31*L$44) -> 0 | M48: =$B30+($B31*M$44) -> 0 | N48: =$B30+($B31*N$44) -> 0 | O48: / | P48: =$B30+($B31*P$44) -> 0
A49: maaltijdcheques | B49: =SUM(C49:P49) -> 0 | C49: =$B32*$C44 -> 0 | D49: =$B32*D$44 -> 0 | E49: =$B32*E$44 -> 0 | F49: =$B32*F$44 -> 0 | G49: =$B32*G$44 -> 0 | H49: =$B32*H$44 -> 0 | I49: / | J49: / | K49: =$B32*K$44 -> 0 | L49: =$B32*L$44 -> 0 | M49: =$B32*M$44 -> 0 | N49: =$B32*N$44 -> 0 | O49: / | P49: =$B32*P$44 -> 0
A50: forfaitaire kostenvergoeding | B50: =SUM(C50:P50) -> 0 | C50: =$B33 -> 0 | D50: =$B33 -> 0 | E50: =$B33 -> 0 | F50: =$B33 -> 0 | G50: =$B33 -> 0 | H50: =$B33 -> 0 | I50: / | J50: / | K50: =$B33 -> 0 | L50: =$B33 -> 0 | M50: =$B33 -> 0 | N50: =$B33 -> 0 | O50: / | P50: =$B33 -> 0
B51: =SUM(B45:B50) -> 0 | C51: =SUM(C45:C50) -> 0 | D51: =SUM(D45:D50) -> 0 | E51: =SUM(E45:E50) -> 0 | F51: =SUM(F45:F50) -> 0 | G51: =SUM(G45:G50) -> 0 | H51: =SUM(H45:H50) -> 0 | I51: =SUM(I45:I50) -> 0 | ... P51: =SUM(P45:P50) -> 0
A52: controlecijfer moet 'nul' zijn | B52: =(SUM(C51:P51)-B51)+(SUM(C45:P50)-B51) -> 0
B53: voorziening vakantiegeld
A54: 0.182 | B54: =SUM(C54:P54) -> 0 | C54: =C45*$A$54 -> 0 | D54: =D45*$A$54 -> 0 | E54: =E45*$A$54 -> 0 | F54: =F45*$A$54 -> 0 | G54: =G45*$A$54 -> 0 | H54: =H45*$A$54 -> 0 | I54: / | J54: / | K54: =K45*$A$54 -> 0 | L54: =L45*$A$54 -> 0 | M54: =M45*$A$54 -> 0 | N54: =N45*$A$54 -> 0 | O54: 0 | P54: =P45*$A$54 -> 0

Sheet bediende 1D
A1: PROGNOSE PERSONEELSKOST | B1: 2026 | C1: BEDIENDE MAANDLOON
A3: NAAM (facultatief)
A4: FUNCTIE (facultatief)
A5: PRODUCTIE
A6: aantal werknemers | B6: 0
A8: STANDAARDGEGEVENS
A9: statuut | B9: bediende
A10: CAO
A11: categorie in de CAO
A12: maand v/d anciënniteiteitsaanpassing
A13: maand van indexatie
A15: BRUTOLOON VT op 1 januari | B15: 0
A16: BRUTOLOON VT anciënniteitsaanpassing | B16: 0
A17: BRUTOLOON VT indexatie | B17: 0
A18: eindejaarspremie-13de maand VT 100% | B18: 0
A20: tewerkstellingspercentage | B20: 0 | C20: (vul % in of verhouding bvb.=28/38) ; als het % varieert gedurende het jaar, vul het hieronder in (rij43) en pas de formule aan
A21: aantal werkdagen | B21: =(((52*5)-20-10-B22)/11)*B20 -> 0 | C21: per maand gemiddeld in 5-dagen stelsel
A22: aantal extra vakantiedagen volgens CAO-Pk | B22: 0
A23: effectief BRUTOLOON 1 jan | B23: 0
A24: effectief BRUTOLOON met anciënniteit | B24: =B16*$B$20 -> 0
A25: effectief BRUTOLOON met indexatie | B25: =B17*$B$20 -> 0
A26: effectieve eindejaarspremie-13de maand | B26: =B18*$B$20 -> 0
A28: VOORDEEL IN NATURA vast per maand | B28: 0 | C28: bedrag per maand
A29: VOORDEEL IN NATURA vast per dag | B29: 0 | C29: bedrag per dag
A30: VERGOEDING WOON-WERK | B30: 0 | C30: bedrag per maand
A31: VERGOEDING WOON-WERK | B31: 0 | C31: bedrag per dag
A32: MAALTIJDCHEQUES (enkel werkgever) | B32: 0 | C32: per dag
A33: FORFAITAIRE KOSTENVERGOEDING | B33: 0 | C33: per maand
A35: % RSZ-PATRONALE:basis-tarief | B35: ='RSZ-tarieven'!B4 -> 0.25
A36: % RSZ-PATRONALE:bijkomende | B36: ='RSZ-tarieven'!B15 -> 0.0198
A37: % RSZ-PATRONALE als + 10 Wners | B37: =IF(B6<10,0,1.69%) -> 0
A38: extra RSZ-vermindering lage lonen (per maand) | B38: =IF(B23>3744,0,0.14*(11233.89-(B23*3))/3) -> 524.2482
A39: RSZ-VERMINDERING doelgroep
A40: RSZ-VERMINDERING andere
J41: vakantiemaand
B42: =B1 -> 2026 | C42: JAN | D42: FEB | E42: MAA | F42: APR | G42: MEI | H42: JUN | I42: VG | J42: JUL | K42: AUG | L42: SEP | M42: OKT | N42: NOV | O42: EJP | P42: DEC
A43: tewerkstellingspercentage | B43: / | C43: =$B$20 -> 0 | D43: =$B$20 -> 0 | E43: =$B$20 -> 0 | F43: =$B$20 -> 0 | G43: =$B$20 -> 0 | H43: =$B$20 -> 0 | I43: 0.92 | J43: =$B$20 -> 0 | K43: =$B$20 -> 0 | L43: =$B$20 -> 0 | M43: =$B$20 -> 0 | N43: =$B$20 -> 0 | O43: =$B$20 -> 0 | P43: =$B$20 -> 0
A44: gem.aantal werkdagen | B44: =SUM(C44:P44) -> 0 | C44: =$B$21 -> 0 | D44: =C44 -> 0 | E44: =D44 -> 0 | F44: =E44 -> 0 | G44: =F44 -> 0 | H44: =G44 -> 0 | I44: / | K44: =H44 -> 0 | L44: =K44 -> 0 | M44: =L44 -> 0 | N44: =K44 -> 0 | O44: / | P44: =N44 -> 0
A45: brutoloon | B45: =SUM(C45:P45) -> 0 | C45: =$B23 -> 0 | D45: =C45 -> 0 | E45: =D45 -> 0 | F45: =E45 -> 0 | G45: =F45 -> 0 | H45: =G45 -> 0 | I45: =H45*92% -> 0 | J45: =H45 -> 0 | K45: =J45 -> 0 | L45: =K45 -> 0 | M45: =L45 -> 0 | N45: =M45 -> 0 | O45: =$B$18*$B20 -> 0 | P45: =N45 -> 0
A46: voordelen in natura | B46: =SUM(C46:P46) -> 0 | C46: =$B28+($B29*$C44) -> 0 | D46: =$B28+($B29*D$44) -> 0 | E46: =$B28+($B29*$E44) -> 0 | F46: =$B28+($B29*F$44) -> 0 | G46: =$B28+($B29*G$44) -> 0 | H46: =$B28+($B29*H$44) -> 0 | I46: / | J46: =$B28+($B29*$B21) -> 0 | K46: =$B28+($B29*K$44) -> 0 | L46: =$B28+($B29*$L44) -> 0 | M46: =$B28+($B29*M$44) -> 0 | N46: =$B28+($B29*N$44) -> 0 | O46: / | P46: =$B28+($B29*P$44) -> 0
A47: RSZ-patronale | B47: =SUM(C47:P47) -> 0 | C47: =MAX(0,(IF((C45+C46)>0,(C45+C46)*(B35+B36+B37)-B38-B39-B40))) -> 0 | D47: =MAX(0,IF((D45+D46)>0,(D45+D46)*(B35+B36+B37)-B38-B39-B40,0)) -> 0 | E47: =MAX(0,IF((E45+E46)>0,(E45+E46)*(B35+B36+B37)-B38-B39-B40,0)) -> 0 | F47: =MAX(0,IF((F45+F46)>0,(F45+F46)*(B35+B36+B37)-B38-B39-B40,0)) -> 0 | G47: =MAX(0,IF((G45+G46)>0,(G45+G46)*(B35+B36+B37)-B38-B39-B40,0)) -> 0 | H47: =MAX(0,IF((H45+H46)>0,(H45+H46)*(B35+B36+B37)-B38-B39-B40,0)) -> 0 | I47: / | J47: =MAX(0,IF((J45+J46)>0,(J45+J46)*(B35+B36+B37)-B38-B39-B40,0)) -> 0 | K47: =MAX(0,IF((K45+K46)>0,(K45+K46)*(B35+B36+B37)-B38-B39-B40,0)) -> 0 | L47: =MAX(0,IF((L45+L46)>0,(L45+L46)*(B35+B36+B37)-B38-B39-B40,0)) -> 0 | M47: =MAX(0,IF((M45+M46)>0,(M45+M46)*(B35+B36+B37)-B38-B39-B40,0)) -> 0 | N47: =MAX(0,IF((N45+N46)>0,(N45+N46)*(B35+B36+B37)-B38-B39-B40,0)) -> 0 | O47: =MAX(0,IF((O45)>0,O45*(B35+B36+B37),0)) -> 0 | P47: =MAX(0,IF((P45+P46)>0,(P45+P46)*(B35+B36+B37)-B38-B39-B40,0)) -> 0
A48: vergoeding woon-werk | B48: =SUM(C48:P48) -> 0 | C48: =$B30+($B31*C$44) -> 0 | D48: =$B30+($B31*D$44) -> 0 | E48: =$B30+($B31*E$44) -> 0 | F48: =$B30+($B31*F$44) -> 0 | G48: =$B30+($B31*G$44) -> 0 | H48: =$B30+($B31*H$44) -> 0 | I48: / | J48: / | K48: =$B30+($B31*K$44) -> 0 | L48: =$B30+($B31*L$44) -> 0 | M48: =$B30+($B31*M$44) -> 0 | N48: =$B30+($B31*N$44) -> 0 | O48: / | P48: =$B30+($B31*P$44) -> 0
A49: maaltijdcheques | B49: =SUM(C49:P49) -> 0 | C49: =$B32*$C44 -> 0 | D49: =$B32*D$44 -> 0 | E49: =$B32*E$44 -> 0 | F49: =$B32*F$44 -> 0 | G49: =$B32*G$44 -> 0 | H49: =$B32*H$44 -> 0 | I49: / | J49: / | K49: =$B32*K$44 -> 0 | L49: =$B32*L$44 -> 0 | M49: =$B32*M$44 -> 0 | N49: =$B32*N$44 -> 0 | O49: / | P49: =$B32*P$44 -> 0
A50: forfaitaire kostenvergoeding | B50: =SUM(C50:P50) -> 0 | C50: =$B33 -> 0 | D50: =$B33 -> 0 | E50: =$B33 -> 0 | F50: =$B33 -> 0 | G50: =$B33 -> 0 | H50: =$B33 -> 0 | I50: / | J50: / | K50: =$B33 -> 0 | L50: =$B33 -> 0 | M50: =$B33 -> 0 | N50: =$B33 -> 0 | O50: / | P50: =$B33 -> 0
B51: =SUM(B45:B50) -> 0 | C51: =SUM(C45:C50) -> 0 | D51: =SUM(D45:D50) -> 0 | E51: =SUM(E45:E50) -> 0 | F51: =SUM(F45:F50) -> 0 | G51: =SUM(G45:G50) -> 0 | H51: =SUM(H45:H50) -> 0 | I51: =SUM(I45:I50) -> 0 | ... P51: =SUM(P45:P50) -> 0
A52: controlecijfer moet 'nul' zijn | B52: =(SUM(C51:P51)-B51)+(SUM(C45:P50)-B51) -> 0
B53: voorziening vakantiegeld
A54: 0.182 | B54: =SUM(C54:P54) -> 0 | C54: =C45*$A$54 -> 0 | D54: =D45*$A$54 -> 0 | E54: =E45*$A$54 -> 0 | F54: =F45*$A$54 -> 0 | G54: =G45*$A$54 -> 0 | H54: =H45*$A$54 -> 0 | I54: / | J54: / | K54: =K45*$A$54 -> 0 | L54: =L45*$A$54 -> 0 | M54: =M45*$A$54 -> 0 | N54: =N45*$A$54 -> 0 | O54: 0 | P54: =P45*$A$54 -> 0

Sheet bediende 1E
A1: PROGNOSE PERSONEELSKOST | B1: 2026 | C1: BEDIENDE MAANDLOON
A3: NAAM (facultatief)
A4: FUNCTIE (facultatief)
A5: PRODUCTIE
A6: aantal werknemers | B6: 0
A8: STANDAARDGEGEVENS
A9: statuut | B9: bediende
A10: CAO
A11: categorie in de CAO
A12: maand v/d anciënniteiteitsaanpassing
A13: maand van indexatie
A15: BRUTOLOON VT op 1 januari | B15: 0
A16: BRUTOLOON VT anciënniteitsaanpassing | B16: 0
A17: BRUTOLOON VT indexatie | B17: 0
A18: eindejaarspremie-13de maand VT 100% | B18: 0
A20: tewerkstellingspercentage | B20: 0 | C20: (vul % in of verhouding bvb.=28/38) ; als het % varieert gedurende het jaar, vul het hieronder in (rij43) en pas de formule aan
A21: aantal werkdagen | B21: =(((52*5)-20-10-B22)/11)*B20 -> 0 | C21: per maand gemiddeld in 5-dagen stelsel
A22: aantal extra vakantiedagen volgens CAO-Pk | B22: 0
A23: effectief BRUTOLOON 1 jan | B23: 0
A24: effectief BRUTOLOON met anciënniteit | B24: =B16*$B$20 -> 0
A25: effectief BRUTOLOON met indexatie | B25: =B17*$B$20 -> 0
A26: effectieve eindejaarspremie-13de maand | B26: =B18*$B$20 -> 0
A28: VOORDEEL IN NATURA vast per maand | B28: 0 | C28: bedrag per maand
A29: VOORDEEL IN NATURA vast per dag | B29: 0 | C29: bedrag per dag
A30: VERGOEDING WOON-WERK | B30: 0 | C30: bedrag per maand
A31: VERGOEDING WOON-WERK | B31: 0 | C31: bedrag per dag
A32: MAALTIJDCHEQUES (enkel werkgever) | B32: 0 | C32: per dag
A33: FORFAITAIRE KOSTENVERGOEDING | B33: 0 | C33: per maand
A35: % RSZ-PATRONALE:basis-tarief | B35: ='RSZ-tarieven'!B4 -> 0.25
A36: % RSZ-PATRONALE:bijkomende | B36: ='RSZ-tarieven'!B15 -> 0.0198
A37: % RSZ-PATRONALE als + 10 Wners | B37: =IF(B6<10,0,1.69%) -> 0
A38: extra RSZ-vermindering lage lonen (per maand) | B38: =IF(B23>3744,0,0.14*(11233.89-(B23*3))/3) -> 524.2482
A39: RSZ-VERMINDERING doelgroep
A40: RSZ-VERMINDERING andere
J41: vakantiemaand
B42: =B1 -> 2026 | C42: JAN | D42: FEB | E42: MAA | F42: APR | G42: MEI | H42: JUN | I42: VG | J42: JUL | K42: AUG | L42: SEP | M42: OKT | N42: NOV | O42: EJP | P42: DEC
A43: tewerkstellingspercentage | B43: / | C43: =$B$20 -> 0 | D43: =$B$20 -> 0 | E43: =$B$20 -> 0 | F43: =$B$20 -> 0 | G43: =$B$20 -> 0 | H43: =$B$20 -> 0 | I43: 0.92 | J43: =$B$20 -> 0 | K43: =$B$20 -> 0 | L43: =$B$20 -> 0 | M43: =$B$20 -> 0 | N43: =$B$20 -> 0 | O43: =$B$20 -> 0 | P43: =$B$20 -> 0
A44: gem.aantal werkdagen | B44: =SUM(C44:P44) -> 0 | C44: =$B$21 -> 0 | D44: =C44 -> 0 | E44: =D44 -> 0 | F44: =E44 -> 0 | G44: =F44 -> 0 | H44: =G44 -> 0 | I44: / | K44: =H44 -> 0 | L44: =K44 -> 0 | M44: =L44 -> 0 | N44: =K44 -> 0 | O44: / | P44: =N44 -> 0
A45: brutoloon | B45: =SUM(C45:P45) -> 0 | C45: =$B23 -> 0 | D45: =C45 -> 0 | E45: =D45 -> 0 | F45: =E45 -> 0 | G45: =F45 -> 0 | H45: =G45 -> 0 | I45: =H45*92% -> 0 | J45: =H45 -> 0 | K45: =J45 -> 0 | L45: =K45 -> 0 | M45: =L45 -> 0 | N45: =M45 -> 0 | O45: =$B$18*$B20 -> 0 | P45: =N45 -> 0
A46: voordelen in natura | B46: =SUM(C46:P46) -> 0 | C46: =$B28+($B29*$C44) -> 0 | D46: =$B28+($B29*D$44) -> 0 | E46: =$B28+($B29*$E44) -> 0 | F46: =$B28+($B29*F$44) -> 0 | G46: =$B28+($B29*G$44) -> 0 | H46: =$B28+($B29*H$44) -> 0 | I46: / | J46: =$B28+($B29*$B21) -> 0 | K46: =$B28+($B29*K$44) -> 0 | L46: =$B28+($B29*$L44) -> 0 | M46: =$B28+($B29*M$44) -> 0 | N46: =$B28+($B29*N$44) -> 0 | O46: / | P46: =$B28+($B29*P$44) -> 0
A47: RSZ-patronale | B47: =SUM(C47:P47) -> 0 | C47: =MAX(0,(IF((C45+C46)>0,(C45+C46)*(B35+B36+B37)-B38-B39-B40))) -> 0 | D47: =MAX(0,IF((D45+D46)>0,(D45+D46)*(B35+B36+B37)-B38-B39-B40,0)) -> 0 | E47: =MAX(0,IF((E45+E46)>0,(E45+E46)*(B35+B36+B37)-B38-B39-B40,0)) -> 0 | F47: =MAX(0,IF((F45+F46)>0,(F45+F46)*(B35+B36+B37)-B38-B39-B40,0)) -> 0 | G47: =MAX(0,IF((G45+G46)>0,(G45+G46)*(B35+B36+B37)-B38-B39-B40,0)) -> 0 | H47: =MAX(0,IF((H45+H46)>0,(H45+H46)*(B35+B36+B37)-B38-B39-B40,0)) -> 0 | I47: / | J47: =MAX(0,IF((J45+J46)>0,(J45+J46)*(B35+B36+B37)-B38-B39-B40,0)) -> 0 | K47: =MAX(0,IF((K45+K46)>0,(K45+K46)*(B35+B36+B37)-B38-B39-B40,0)) -> 0 | L47: =MAX(0,IF((L45+L46)>0,(L45+L46)*(B35+B36+B37)-B38-B39-B40,0)) -> 0 | M47: =MAX(0,IF((M45+M46)>0,(M45+M46)*(B35+B36+B37)-B38-B39-B40,0)) -> 0 | N47: =MAX(0,IF((N45+N46)>0,(N45+N46)*(B35+B36+B37)-B38-B39-B40,0)) -> 0 | O47: =MAX(0,IF((O45)>0,O45*(B35+B36+B37),0)) -> 0 | P47: =MAX(0,IF((P45+P46)>0,(P45+P46)*(B35+B36+B37)-B38-B39-B40,0)) -> 0
A48: vergoeding woon-werk | B48: =SUM(C48:P48) -> 0 | C48: =$B30+($B31*C$44) -> 0 | D48: =$B30+($B31*D$44) -> 0 | E48: =$B30+($B31*E$44) -> 0 | F48: =$B30+($B31*F$44) -> 0 | G48: =$B30+($B31*G$44) -> 0 | H48: =$B30+($B31*H$44) -> 0 | I48: / | J48: / | K48: =$B30+($B31*K$44) -> 0 | L48: =$B30+($B31*L$44) -> 0 | M48: =$B30+($B31*M$44) -> 0 | N48: =$B30+($B31*N$44) -> 0 | O48: / | P48: =$B30+($B31*P$44) -> 0
A49: maaltijdcheques | B49: =SUM(C49:P49) -> 0 | C49: =$B32*$C44 -> 0 | D49: =$B32*D$44 -> 0 | E49: =$B32*E$44 -> 0 | F49: =$B32*F$44 -> 0 | G49: =$B32*G$44 -> 0 | H49: =$B32*H$44 -> 0 | I49: / | J49: / | K49: =$B32*K$44 -> 0 | L49: =$B32*L$44 -> 0 | M49: =$B32*M$44 -> 0 | N49: =$B32*N$44 -> 0 | O49: / | P49: =$B32*P$44 -> 0
A50: forfaitaire kostenvergoeding | B50: =SUM(C50:P50) -> 0 | C50: =$B33 -> 0 | D50: =$B33 -> 0 | E50: =$B33 -> 0 | F50: =$B33 -> 0 | G50: =$B33 -> 0 | H50: =$B33 -> 0 | I50: / | J50: / | K50: =$B33 -> 0 | L50: =$B33 -> 0 | M50: =$B33 -> 0 | N50: =$B33 -> 0 | O50: / | P50: =$B33 -> 0
B51: =SUM(B45:B50) -> 0 | C51: =SUM(C45:C50) -> 0 | D51: =SUM(D45:D50) -> 0 | E51: =SUM(E45:E50) -> 0 | F51: =SUM(F45:F50) -> 0 | G51: =SUM(G45:G50) -> 0 | H51: =SUM(H45:H50) -> 0 | I51: =SUM(I45:I50) -> 0 | ... P51: =SUM(P45:P50) -> 0
A52: controlecijfer moet 'nul' zijn | B52: =(SUM(C51:P51)-B51)+(SUM(C45:P50)-B51) -> 0
B53: voorziening vakantiegeld
A54: 0.182 | B54: =SUM(C54:P54) -> 0 | C54: =C45*$A$54 -> 0 | D54: =D45*$A$54 -> 0 | E54: =E45*$A$54 -> 0 | F54: =F45*$A$54 -> 0 | G54: =G45*$A$54 -> 0 | H54: =H45*$A$54 -> 0 | I54: / | J54: / | K54: =K45*$A$54 -> 0 | L54: =L45*$A$54 -> 0 | M54: =M45*$A$54 -> 0 | N54: =N45*$A$54 -> 0 | O54: 0 | P54: =P45*$A$54 -> 0

Sheet bediende 2A
A1: PROGNOSE PERSONEELSKOST | B1: 2026 | C1: BEDIENDE MAANDLOON
A3: NAAM (facultatief)
A4: FUNCTIE (facultatief)
A5: PRODUCTIE
A6: aantal werknemers | B6: 0
A8: STANDAARDGEGEVENS
A9: statuut | B9: bediende
A10: CAO
A11: categorie in de CAO
A12: maand v/d anciënniteiteitsaanpassing
A13: maand van indexatie
A15: MAAND BRUTOLOON VT op 1 januari | B15: 0
A16: MAAND BRUTOLOON VT anciënniteitsaanpassing | B16: 0
A17: MAAND BRUTOLOON VT indexatie | B17: 0
B18: bruto 1 januari | C18: bruto anciënn.aanp. | D18: bruto indexatie
A19: GEMIDDELD bruto DAGLOON VT op 1 januari | B19: =B15*3/13/5 -> 0 | C19: =B16*3/13/5 -> 0 | D19: =B17*3/13/5 -> 0
A20: 1/20ste (CAO-sector PK) / brutoloon per dag | B20: =B15*1/20 -> 0 | C20: =B16*1/20 -> 0 | D20: =B17*1/20 -> 0
A21: 1/22ste (CAO-sector PK) / brutoloon per dag | B21: =B15*1/22 -> 0 | C21: =B16*1/22 -> 0 | D21: =B17*1/22 -> 0
A23: VOORDEEL IN NATURA vast per dag | B23: 0 | C23: bedrag per dag
A24: VERGOEDING WOON-WERK per dag | B24: 0 | C24: bedrag per dag
A25: MAALTIJDCHEQUES (enkel werkgever) | B25: 0 | C25: bedrag per dag
A26: FORFAITAIRE KOSTENVERGOEDING | B26: 0 | C26: bedrag per dag
A28: % RSZ-PATRONALE:basis-tarief | B28: ='RSZ-tarieven'!B4 -> 0.25
A29: % RSZ-PATRONALE:bijkomende | B29: ='RSZ-tarieven'!B15 -> 0.0198
A30: % RSZ-PATRONALE als + 10 Wners | B30: =IF(B6<10,0,1.69%) -> 0
A31: extra RSZ-vermindering lage lonen (per dag) | B31: =IF(B15>3744,0,0.14*(11233.89-(B15*3))/13/5) -> 24.196071
A32: RSZ-VERMINDERING doelgroep | C32: om te rekenen per dag
A33: RSZ-VERMINDERING andere
B35: =B1 -> 2026 | C35: JAN | D35: FEB | E35: MAA | F35: APR | G35: MEI | H35: JUN | I35: JUL | J35: AUG | K35: SEP | L35: OKT | M35: NOV | N35: DEC
A36: VUL IN : aantal werkdagen per maand vlgs GEMIDDELD dagloon | B36: =SUM(C36:N36) -> 0 | C36: 0 | D36: 0 | E36: 0 | F36: 0 | G36: 0 | H36: 0 | I36: 0 | J36: 0 | K36: 0 | L36: 0 | M36: 0 | N36: 0
A37: VUL IN : aantal werkdagen per maand AAN 1/20ste (CAO-Pk) | B37: =SUM(C37:N37) -> 0 | C37: 0 | D37: 0 | E37: 0 | F37: 0 | G37: 0 | H37: 0 | I37: 0 | J37: 0 | K37: 0 | L37: 0 | M37: 0 | N37: 0
A38: VUL IN : aantal werkdagen per maand AAN 1/22ste (CAO-Pk) | B38: =SUM(C38:N38) -> 0 | C38: 0 | D38: 0 | E38: 0 | F38: 0 | G38: 0 | H38: 0 | I38: 0 | J38: 0 | K38: 0 | L38: 0 | M38: 0 | N38: 0
A39: brutoloon | B39: =SUM(C39:N39) -> 0 | C39: =($B$19*C36)+($B$20*C37)+($B$21*C38) -> 0 | D39: =($B$19*D36)+($B$20*D37)+($B$21*D38) -> 0 | E39: =($B$19*E36)+($B$20*E37)+($B$21*E38) -> 0 | F39: =($B$19*F36)+($B$20*F37)+($B$21*F38) -> 0 | G39: =($B$19*G36)+($B$20*G37)+($B$21*G38) -> 0 | H39: =($B$19*H36)+($B$20*H37)+($B$21*H38) -> 0 | I39: =($B$19*I36)+($B$20*I37)+($B$21*I38) -> 0 | J39: =($B$19*J36)+($B$20*J37)+($B$21*J38) -> 0 | ... N39: =($B$19*N36)+($B$20*N37)+($B$21*N38) -> 0
A40: voordelen in natura | B40: =SUM(C40:N40) -> 0 | C40: =$B$23*(C36+C37+C38) -> 0 | D40: =$B$23*(D36+D37+D38) -> 0 | E40: =$B$23*(E36+E37+E38) -> 0 | F40: =$B$23*(F36+F37+F38) -> 0 | G40: =$B$23*(G36+G37+G38) -> 0 | H40: =$B$23*(H36+H37+H38) -> 0 | I40: =$B$23*(I36+I37+I38) -> 0 | J40: =$B$23*(J36+J37+J38) -> 0 | ... N40: =$B$23*(N36+N37+N38) -> 0
A41: RSZ-patronale | B41: =SUM(C41:N41) -> 0 | C41: =MAX(0,IF((C39+C40)>0,(C39+C40)*($B$28+$B$29+$B$30)-(($B$31+$B$32+$B$33)*(C$36+C$37+C$38)),0)) -> 0 | D41: =MAX(0,IF((D39+D40)>0,(D39+D40)*($B$28+$B$29+$B$30)-(($B$31+$B$32+$B$33)*(D$36+D$37+D$38)),0)) -> 0 | E41: =MAX(0,IF((E39+E40)>0,(E39+E40)*($B$28+$B$29+$B$30)-(($B$31+$B$32+$B$33)*(E$36+E$37+E$38)),0)) -> 0 | F41: =MAX(0,IF((F39+F40)>0,(F39+F40)*($B$28+$B$29+$B$30)-(($B$31+$B$32+$B$33)*(F$36+F$37+F$38)),0)) -> 0 | G41: =MAX(0,IF((G39+G40)>0,(G39+G40)*($B$28+$B$29+$B$30)-(($B$31+$B$32+$B$33)*(G$36+G$37+G$38)),0)) -> 0 | H41: =MAX(0,IF((H39+H40)>0,(H39+H40)*($B$28+$B$29+$B$30)-(($B$31+$B$32+$B$33)*(H$36+H$37+H$38)),0)) -> 0 | I41: =MAX(0,IF((I39+I40)>0,(I39+I40)*($B$28+$B$29+$B$30)-(($B$31+$B$32+$B$33)*(I$36+I$37+I$38)),0)) -> 0 | J41: =MAX(0,IF((J39+J40)>0,(J39+J40)*($B$28+$B$29+$B$30)-(($B$31+$B$32+$B$33)*(J$36+J$37+J$38)),0)) -> 0 | ... N41: =MAX(0,IF((N39+N40)>0,(N39+N40)*($B$28+$B$29+$B$30)-(($B$31+$B$32+$B$33)*(N$36+N$37+N$38)),0)) -> 0
A42: vergoeding woon-werk | B42: =SUM(C42:N42) -> 0 | C42: =($B24*(C36+C37+C38)) -> 0 | D42: =($B24*(D36+D37+D38)) -> 0 | E42: =($B24*(E36+E37+E38)) -> 0 | F42: =($B24*(F36+F37+F38)) -> 0 | G42: =($B24*(G36+G37+G38)) -> 0 | H42: =($B24*(H36+H37+H38)) -> 0 | I42: =($B24*(I36+I37+I38)) -> 0 | J42: =($B24*(J36+J37+J38)) -> 0 | ... N42: =($B24*(N36+N37+N38)) -> 0
A43: maaltijdcheques | B43: =SUM(C43:N43) -> 0 | C43: =$B25*(C36+C37+C38) -> 0 | D43: =$B25*(D36+D37+D38) -> 0 | E43: =$B25*(E36+E37+E38) -> 0 | F43: =$B25*(F36+F37+F38) -> 0 | G43: =$B25*(G36+G37+G38) -> 0 | H43: =$B25*(H36+H37+H38) -> 0 | I43: =$B25*(I36+I37+I38) -> 0 | J43: =$B25*(J36+J37+J38) -> 0 | ... N43: =$B25*(N36+N37+N38) -> 0
A44: forfaitaire kostenvergoeding | B44: =SUM(C44:N44) -> 0 | C44: =$B26*(C36+C37+C38) -> 0 | D44: =$B26*(D36+D37+D38) -> 0 | E44: =$B26*(E36+E37+E38) -> 0 | F44: =$B26*(F36+F37+F38) -> 0 | G44: =$B26*(G36+G37+G38) -> 0 | H44: =$B26*(H36+H37+H38) -> 0 | I44: =$B26*(I36+I37+I38) -> 0 | J44: =$B26*(J36+J37+J38) -> 0 | ... N44: =$B26*(N36+N37+N38) -> 0
B45: =SUM(B39:B44) -> 0 | C45: =SUM(C39:C44) -> 0 | D45: =SUM(D39:D44) -> 0 | E45: =SUM(E39:E44) -> 0 | F45: =SUM(F39:F44) -> 0 | G45: =SUM(G39:G44) -> 0 | H45: =SUM(H39:H44) -> 0 | I45: =SUM(I39:I44) -> 0 | ... N45: =SUM(N39:N44) -> 0
A46: controlecijfer moet 'nul' zijn | B46: =(SUM(C45:N45)-B45)+(SUM(C39:N44)-B45) -> 0
B47: voorziening vakantiegeld
A48: 0.182 | B48: =SUM(C48:N48) -> 0 | C48: =C39*$A$48 -> 0 | D48: =D39*$A$48 -> 0 | E48: =E39*$A$48 -> 0 | F48: =F39*$A$48 -> 0 | G48: =G39*$A$48 -> 0 | H48: =H39*$A$48 -> 0 | I48: =I39*$A$48 -> 0 | J48: =J39*$A$48 -> 0 | ... N48: =N39*$A$48 -> 0

Sheet bediende 2B
A1: PROGNOSE PERSONEELSKOST | B1: 2026 | C1: BEDIENDE MAANDLOON
A3: NAAM (facultatief)
A4: FUNCTIE (facultatief)
A5: PRODUCTIE
A6: aantal werknemers | B6: 0
A8: STANDAARDGEGEVENS
A9: statuut | B9: bediende
A10: CAO
A11: categorie in de CAO
A12: maand v/d anciënniteiteitsaanpassing
A13: maand van indexatie
A15: MAAND BRUTOLOON VT op 1 januari | B15: 0
A16: MAAND BRUTOLOON VT anciënniteitsaanpassing | B16: 0
A17: MAAND BRUTOLOON VT indexatie | B17: 0
B18: bruto 1 januari | C18: bruto anciënn.aanp. | D18: bruto indexatie
A19: GEMIDDELD bruto DAGLOON VT op 1 januari | B19: =B15*3/13/5 -> 0 | C19: =B16*3/13/5 -> 0 | D19: =B17*3/13/5 -> 0
A20: 1/20ste (CAO-sector PK) / brutoloon per dag | B20: =B15*1/20 -> 0 | C20: =B16*1/20 -> 0 | D20: =B17*1/20 -> 0
A21: 1/22ste (CAO-sector PK) / brutoloon per dag | B21: =B15*1/22 -> 0 | C21: =B16*1/22 -> 0 | D21: =B17*1/22 -> 0
A23: VOORDEEL IN NATURA vast per dag | B23: 0 | C23: bedrag per dag
A24: VERGOEDING WOON-WERK per dag | B24: 0 | C24: bedrag per dag
A25: MAALTIJDCHEQUES (enkel werkgever) | B25: 0 | C25: bedrag per dag
A26: FORFAITAIRE KOSTENVERGOEDING | B26: 0 | C26: bedrag per dag
A28: % RSZ-PATRONALE:basis-tarief | B28: ='RSZ-tarieven'!B4 -> 0.25
A29: % RSZ-PATRONALE:bijkomende | B29: ='RSZ-tarieven'!B15 -> 0.0198
A30: % RSZ-PATRONALE als + 10 Wners | B30: =IF(B6<10,0,1.69%) -> 0
A31: extra RSZ-vermindering lage lonen (per dag) | B31: =IF(B15>3744,0,0.14*(11233.89-(B15*3))/13/5) -> 24.196071
A32: RSZ-VERMINDERING doelgroep | C32: om te rekenen per dag
A33: RSZ-VERMINDERING andere
B35: =B1 -> 2026 | C35: JAN | D35: FEB | E35: MAA | F35: APR | G35: MEI | H35: JUN | I35: JUL | J35: AUG | K35: SEP | L35: OKT | M35: NOV | N35: DEC
A36: VUL IN : aantal werkdagen per maand vlgs GEMIDDELD dagloon | B36: =SUM(C36:N36) -> 0 | C36: 0 | D36: 0 | E36: 0 | F36: 0 | G36: 0 | H36: 0 | I36: 0 | J36: 0 | K36: 0 | L36: 0 | M36: 0 | N36: 0
A37: VUL IN : aantal werkdagen per maand AAN 1/20ste (CAO-Pk) | B37: =SUM(C37:N37) -> 0 | C37: 0 | D37: 0 | E37: 0 | F37: 0 | G37: 0 | H37: 0 | I37: 0 | J37: 0 | K37: 0 | L37: 0 | M37: 0 | N37: 0
A38: VUL IN : aantal werkdagen per maand AAN 1/22ste (CAO-Pk) | B38: =SUM(C38:N38) -> 0 | C38: 0 | D38: 0 | E38: 0 | F38: 0 | G38: 0 | H38: 0 | I38: 0 | J38: 0 | K38: 0 | L38: 0 | M38: 0 | N38: 0
A39: brutoloon | B39: =SUM(C39:N39) -> 0 | C39: =($B$19*C36)+($B$20*C37)+($B$21*C38) -> 0 | D39: =($B$19*D36)+($B$20*D37)+($B$21*D38) -> 0 | E39: =($B$19*E36)+($B$20*E37)+($B$21*E38) -> 0 | F39: =($B$19*F36)+($B$20*F37)+($B$21*F38) -> 0 | G39: =($B$19*G36)+($B$20*G37)+($B$21*G38) -> 0 | H39: =($B$19*H36)+($B$20*H37)+($B$21*H38) -> 0 | I39: =($B$19*I36)+($B$20*I37)+($B$21*I38) -> 0 | J39: =($B$19*J36)+($B$20*J37)+($B$21*J38) -> 0 | ... N39: =($B$19*N36)+($B$20*N37)+($B$21*N38) -> 0
A40: voordelen in natura | B40: =SUM(C40:N40) -> 0 | C40: =$B$23*(C36+C37+C38) -> 0 | D40: =$B$23*(D36+D37+D38) -> 0 | E40: =$B$23*(E36+E37+E38) -> 0 | F40: =$B$23*(F36+F37+F38) -> 0 | G40: =$B$23*(G36+G37+G38) -> 0 | H40: =$B$23*(H36+H37+H38) -> 0 | I40: =$B$23*(I36+I37+I38) -> 0 | J40: =$B$23*(J36+J37+J38) -> 0 | ... N40: =$B$23*(N36+N37+N38) -> 0
A41: RSZ-patronale | B41: =SUM(C41:N41) -> 0 | C41: =MAX(0,IF((C39+C40)>0,(C39+C40)*($B$28+$B$29+$B$30)-(($B$31+$B$32+$B$33)*(C$36+C$37+C$38)),0)) -> 0 | D41: =MAX(0,IF((D39+D40)>0,(D39+D40)*($B$28+$B$29+$B$30)-(($B$31+$B$32+$B$33)*(D$36+D$37+D$38)),0)) -> 0 | E41: =MAX(0,IF((E39+E40)>0,(E39+E40)*($B$28+$B$29+$B$30)-(($B$31+$B$32+$B$33)*(E$36+E$37+E$38)),0)) -> 0 | F41: =MAX(0,IF((F39+F40)>0,(F39+F40)*($B$28+$B$29+$B$30)-(($B$31+$B$32+$B$33)*(F$36+F$37+F$38)),0)) -> 0 | G41: =MAX(0,IF((G39+G40)>0,(G39+G40)*($B$28+$B$29+$B$30)-(($B$31+$B$32+$B$33)*(G$36+G$37+G$38)),0)) -> 0 | H41: =MAX(0,IF((H39+H40)>0,(H39+H40)*($B$28+$B$29+$B$30)-(($B$31+$B$32+$B$33)*(H$36+H$37+H$38)),0)) -> 0 | I41: =MAX(0,IF((I39+I40)>0,(I39+I40)*($B$28+$B$29+$B$30)-(($B$31+$B$32+$B$33)*(I$36+I$37+I$38)),0)) -> 0 | J41: =MAX(0,IF((J39+J40)>0,(J39+J40)*($B$28+$B$29+$B$30)-(($B$31+$B$32+$B$33)*(J$36+J$37+J$38)),0)) -> 0 | ... N41: =MAX(0,IF((N39+N40)>0,(N39+N40)*($B$28+$B$29+$B$30)-(($B$31+$B$32+$B$33)*(N$36+N$37+N$38)),0)) -> 0
A42: vergoeding woon-werk | B42: =SUM(C42:N42) -> 0 | C42: =($B24*(C36+C37+C38)) -> 0 | D42: =($B24*(D36+D37+D38)) -> 0 | E42: =($B24*(E36+E37+E38)) -> 0 | F42: =($B24*(F36+F37+F38)) -> 0 | G42: =($B24*(G36+G37+G38)) -> 0 | H42: =($B24*(H36+H37+H38)) -> 0 | I42: =($B24*(I36+I37+I38)) -> 0 | J42: =($B24*(J36+J37+J38)) -> 0 | ... N42: =($B24*(N36+N37+N38)) -> 0
A43: maaltijdcheques | B43: =SUM(C43:N43) -> 0 | C43: =$B25*(C36+C37+C38) -> 0 | D43: =$B25*(D36+D37+D38) -> 0 | E43: =$B25*(E36+E37+E38) -> 0 | F43: =$B25*(F36+F37+F38) -> 0 | G43: =$B25*(G36+G37+G38) -> 0 | H43: =$B25*(H36+H37+H38) -> 0 | I43: =$B25*(I36+I37+I38) -> 0 | J43: =$B25*(J36+J37+J38) -> 0 | ... N43: =$B25*(N36+N37+N38) -> 0
A44: forfaitaire kostenvergoeding | B44: =SUM(C44:N44) -> 0 | C44: =$B26*(C36+C37+C38) -> 0 | D44: =$B26*(D36+D37+D38) -> 0 | E44: =$B26*(E36+E37+E38) -> 0 | F44: =$B26*(F36+F37+F38) -> 0 | G44: =$B26*(G36+G37+G38) -> 0 | H44: =$B26*(H36+H37+H38) -> 0 | I44: =$B26*(I36+I37+I38) -> 0 | J44: =$B26*(J36+J37+J38) -> 0 | ... N44: =$B26*(N36+N37+N38) -> 0
B45: =SUM(B39:B44) -> 0 | C45: =SUM(C39:C44) -> 0 | D45: =SUM(D39:D44) -> 0 | E45: =SUM(E39:E44) -> 0 | F45: =SUM(F39:F44) -> 0 | G45: =SUM(G39:G44) -> 0 | H45: =SUM(H39:H44) -> 0 | I45: =SUM(I39:I44) -> 0 | ... N45: =SUM(N39:N44) -> 0
A46: controlecijfer moet 'nul' zijn | B46: =(SUM(C45:N45)-B45)+(SUM(C39:N44)-B45) -> 0
B47: voorziening vakantiegeld
A48: 0.182 | B48: =SUM(C48:N48) -> 0 | C48: =C39*$A$48 -> 0 | D48: =D39*$A$48 -> 0 | E48: =E39*$A$48 -> 0 | F48: =F39*$A$48 -> 0 | G48: =G39*$A$48 -> 0 | H48: =H39*$A$48 -> 0 | I48: =I39*$A$48 -> 0 | J48: =J39*$A$48 -> 0 | ... N48: =N39*$A$48 -> 0

Sheet bediende 2C
A1: PROGNOSE PERSONEELSKOST | B1: 2026 | C1: BEDIENDE MAANDLOON
A3: NAAM (facultatief)
A4: FUNCTIE (facultatief)
A5: PRODUCTIE
A6: aantal werknemers | B6: 0
A8: STANDAARDGEGEVENS
A9: statuut | B9: bediende
A10: CAO
A11: categorie in de CAO
A12: maand v/d anciënniteiteitsaanpassing
A13: maand van indexatie
A15: MAAND BRUTOLOON VT op 1 januari | B15: 0
A16: MAAND BRUTOLOON VT anciënniteitsaanpassing | B16: 0
A17: MAAND BRUTOLOON VT indexatie | B17: 0
B18: bruto 1 januari | C18: bruto anciënn.aanp. | D18: bruto indexatie
A19: GEMIDDELD bruto DAGLOON VT op 1 januari | B19: =B15*3/13/5 -> 0 | C19: =B16*3/13/5 -> 0 | D19: =B17*3/13/5 -> 0
A20: 1/20ste (CAO-sector PK) / brutoloon per dag | B20: =B15*1/20 -> 0 | C20: =B16*1/20 -> 0 | D20: =B17*1/20 -> 0
A21: 1/22ste (CAO-sector PK) / brutoloon per dag | B21: =B15*1/22 -> 0 | C21: =B16*1/22 -> 0 | D21: =B17*1/22 -> 0
A23: VOORDEEL IN NATURA vast per dag | B23: 0 | C23: bedrag per dag
A24: VERGOEDING WOON-WERK per dag | B24: 0 | C24: bedrag per dag
A25: MAALTIJDCHEQUES (enkel werkgever) | B25: 0 | C25: bedrag per dag
A26: FORFAITAIRE KOSTENVERGOEDING | B26: 0 | C26: bedrag per dag
A28: % RSZ-PATRONALE:basis-tarief | B28: ='RSZ-tarieven'!B4 -> 0.25
A29: % RSZ-PATRONALE:bijkomende | B29: ='RSZ-tarieven'!B15 -> 0.0198
A30: % RSZ-PATRONALE als + 10 Wners | B30: =IF(B6<10,0,1.69%) -> 0
A31: extra RSZ-vermindering lage lonen (per dag) | B31: =IF(B15>3744,0,0.14*(11233.89-(B15*3))/13/5) -> 24.196071
A32: RSZ-VERMINDERING doelgroep | C32: om te rekenen per dag
A33: RSZ-VERMINDERING andere
B35: =B1 -> 2026 | C35: JAN | D35: FEB | E35: MAA | F35: APR | G35: MEI | H35: JUN | I35: JUL | J35: AUG | K35: SEP | L35: OKT | M35: NOV | N35: DEC
A36: VUL IN : aantal werkdagen per maand vlgs GEMIDDELD dagloon | B36: =SUM(C36:N36) -> 0 | C36: 0 | D36: 0 | E36: 0 | F36: 0 | G36: 0 | H36: 0 | I36: 0 | J36: 0 | K36: 0 | L36: 0 | M36: 0 | N36: 0
A37: VUL IN : aantal werkdagen per maand AAN 1/20ste (CAO-Pk) | B37: =SUM(C37:N37) -> 0 | C37: 0 | D37: 0 | E37: 0 | F37: 0 | G37: 0 | H37: 0 | I37: 0 | J37: 0 | K37: 0 | L37: 0 | M37: 0 | N37: 0
A38: VUL IN : aantal werkdagen per maand AAN 1/22ste (CAO-Pk) | B38: =SUM(C38:N38) -> 0 | C38: 0 | D38: 0 | E38: 0 | F38: 0 | G38: 0 | H38: 0 | I38: 0 | J38: 0 | K38: 0 | L38: 0 | M38: 0 | N38: 0
A39: brutoloon | B39: =SUM(C39:N39) -> 0 | C39: =($B$19*C36)+($B$20*C37)+($B$21*C38) -> 0 | D39: =($B$19*D36)+($B$20*D37)+($B$21*D38) -> 0 | E39: =($B$19*E36)+($B$20*E37)+($B$21*E38) -> 0 | F39: =($B$19*F36)+($B$20*F37)+($B$21*F38) -> 0 | G39: =($B$19*G36)+($B$20*G37)+($B$21*G38) -> 0 | H39: =($B$19*H36)+($B$20*H37)+($B$21*H38) -> 0 | I39: =($B$19*I36)+($B$20*I37)+($B$21*I38) -> 0 | J39: =($B$19*J36)+($B$20*J37)+($B$21*J38) -> 0 | ... N39: =($B$19*N36)+($B$20*N37)+($B$21*N38) -> 0
A40: voordelen in natura | B40: =SUM(C40:N40) -> 0 | C40: =$B$23*(C36+C37+C38) -> 0 | D40: =$B$23*(D36+D37+D38) -> 0 | E40: =$B$23*(E36+E37+E38) -> 0 | F40: =$B$23*(F36+F37+F38) -> 0 | G40: =$B$23*(G36+G37+G38) -> 0 | H40: =$B$23*(H36+H37+H38) -> 0 | I40: =$B$23*(I36+I37+I38) -> 0 | J40: =$B$23*(J36+J37+J38) -> 0 | ... N40: =$B$23*(N36+N37+N38) -> 0
A41: RSZ-patronale | B41: =SUM(C41:N41) -> 0 | C41: =MAX(0,IF((C39+C40)>0,(C39+C40)*($B$28+$B$29+$B$30)-(($B$31+$B$32+$B$33)*(C$36+C$37+C$38)),0)) -> 0 | D41: =MAX(0,IF((D39+D40)>0,(D39+D40)*($B$28+$B$29+$B$30)-(($B$31+$B$32+$B$33)*(D$36+D$37+D$38)),0)) -> 0 | E41: =MAX(0,IF((E39+E40)>0,(E39+E40)*($B$28+$B$29+$B$30)-(($B$31+$B$32+$B$33)*(E$36+E$37+E$38)),0)) -> 0 | F41: =MAX(0,IF((F39+F40)>0,(F39+F40)*($B$28+$B$29+$B$30)-(($B$31+$B$32+$B$33)*(F$36+F$37+F$38)),0)) -> 0 | G41: =MAX(0,IF((G39+G40)>0,(G39+G40)*($B$28+$B$29+$B$30)-(($B$31+$B$32+$B$33)*(G$36+G$37+G$38)),0)) -> 0 | H41: =MAX(0,IF((H39+H40)>0,(H39+H40)*($B$28+$B$29+$B$30)-(($B$31+$B$32+$B$33)*(H$36+H$37+H$38)),0)) -> 0 | I41: =MAX(0,IF((I39+I40)>0,(I39+I40)*($B$28+$B$29+$B$30)-(($B$31+$B$32+$B$33)*(I$36+I$37+I$38)),0)) -> 0 | J41: =MAX(0,IF((J39+J40)>0,(J39+J40)*($B$28+$B$29+$B$30)-(($B$31+$B$32+$B$33)*(J$36+J$37+J$38)),0)) -> 0 | ... N41: =MAX(0,IF((N39+N40)>0,(N39+N40)*($B$28+$B$29+$B$30)-(($B$31+$B$32+$B$33)*(N$36+N$37+N$38)),0)) -> 0
A42: vergoeding woon-werk | B42: =SUM(C42:N42) -> 0 | C42: =($B24*(C36+C37+C38)) -> 0 | D42: =($B24*(D36+D37+D38)) -> 0 | E42: =($B24*(E36+E37+E38)) -> 0 | F42: =($B24*(F36+F37+F38)) -> 0 | G42: =($B24*(G36+G37+G38)) -> 0 | H42: =($B24*(H36+H37+H38)) -> 0 | I42: =($B24*(I36+I37+I38)) -> 0 | J42: =($B24*(J36+J37+J38)) -> 0 | ... N42: =($B24*(N36+N37+N38)) -> 0
A43: maaltijdcheques | B43: =SUM(C43:N43) -> 0 | C43: =$B25*(C36+C37+C38) -> 0 | D43: =$B25*(D36+D37+D38) -> 0 | E43: =$B25*(E36+E37+E38) -> 0 | F43: =$B25*(F36+F37+F38) -> 0 | G43: =$B25*(G36+G37+G38) -> 0 | H43: =$B25*(H36+H37+H38) -> 0 | I43: =$B25*(I36+I37+I38) -> 0 | J43: =$B25*(J36+J37+J38) -> 0 | ... N43: =$B25*(N36+N37+N38) -> 0
A44: forfaitaire kostenvergoeding | B44: =SUM(C44:N44) -> 0 | C44: =$B26*(C36+C37+C38) -> 0 | D44: =$B26*(D36+D37+D38) -> 0 | E44: =$B26*(E36+E37+E38) -> 0 | F44: =$B26*(F36+F37+F38) -> 0 | G44: =$B26*(G36+G37+G38) -> 0 | H44: =$B26*(H36+H37+H38) -> 0 | I44: =$B26*(I36+I37+I38) -> 0 | J44: =$B26*(J36+J37+J38) -> 0 | ... N44: =$B26*(N36+N37+N38) -> 0
B45: =SUM(B39:B44) -> 0 | C45: =SUM(C39:C44) -> 0 | D45: =SUM(D39:D44) -> 0 | E45: =SUM(E39:E44) -> 0 | F45: =SUM(F39:F44) -> 0 | G45: =SUM(G39:G44) -> 0 | H45: =SUM(H39:H44) -> 0 | I45: =SUM(I39:I44) -> 0 | ... N45: =SUM(N39:N44) -> 0
A46: controlecijfer moet 'nul' zijn | B46: =(SUM(C45:N45)-B45)+(SUM(C39:N44)-B45) -> 0
B47: voorziening vakantiegeld
A48: 0.182 | B48: =SUM(C48:N48) -> 0 | C48: =C39*$A$48 -> 0 | D48: =D39*$A$48 -> 0 | E48: =E39*$A$48 -> 0 | F48: =F39*$A$48 -> 0 | G48: =G39*$A$48 -> 0 | H48: =H39*$A$48 -> 0 | I48: =I39*$A$48 -> 0 | J48: =J39*$A$48 -> 0 | ... N48: =N39*$A$48 -> 0

Sheet bediende 2D
A1: PROGNOSE PERSONEELSKOST | B1: 2026 | C1: BEDIENDE MAANDLOON
A3: NAAM (facultatief)
A4: FUNCTIE (facultatief)
A5: PRODUCTIE
A6: aantal werknemers | B6: 0
A8: STANDAARDGEGEVENS
A9: statuut | B9: bediende
A10: CAO
A11: categorie in de CAO
A12: maand v/d anciënniteiteitsaanpassing
A13: maand van indexatie
A15: MAAND BRUTOLOON VT op 1 januari | B15: 0
A16: MAAND BRUTOLOON VT anciënniteitsaanpassing | B16: 0
A17: MAAND BRUTOLOON VT indexatie | B17: 0
B18: bruto 1 januari | C18: bruto anciënn.aanp. | D18: bruto indexatie
A19: GEMIDDELD bruto DAGLOON VT op 1 januari | B19: =B15*3/13/5 -> 0 | C19: =B16*3/13/5 -> 0 | D19: =B17*3/13/5 -> 0
A20: 1/20ste (CAO-sector PK) / brutoloon per dag | B20: =B15*1/20 -> 0 | C20: =B16*1/20 -> 0 | D20: =B17*1/20 -> 0
A21: 1/22ste (CAO-sector PK) / brutoloon per dag | B21: =B15*1/22 -> 0 | C21: =B16*1/22 -> 0 | D21: =B17*1/22 -> 0
A23: VOORDEEL IN NATURA vast per dag | B23: 0 | C23: bedrag per dag
A24: VERGOEDING WOON-WERK per dag | B24: 0 | C24: bedrag per dag
A25: MAALTIJDCHEQUES (enkel werkgever) | B25: 0 | C25: bedrag per dag
A26: FORFAITAIRE KOSTENVERGOEDING | B26: 0 | C26: bedrag per dag
A28: % RSZ-PATRONALE:basis-tarief | B28: ='RSZ-tarieven'!B4 -> 0.25
A29: % RSZ-PATRONALE:bijkomende | B29: ='RSZ-tarieven'!B15 -> 0.0198
A30: % RSZ-PATRONALE als + 10 Wners | B30: =IF(B6<10,0,1.69%) -> 0
A31: extra RSZ-vermindering lage lonen (per dag) | B31: =IF(B15>3744,0,0.14*(11233.89-(B15*3))/13/5) -> 24.196071
A32: RSZ-VERMINDERING doelgroep | C32: om te rekenen per dag
A33: RSZ-VERMINDERING andere
B35: =B1 -> 2026 | C35: JAN | D35: FEB | E35: MAA | F35: APR | G35: MEI | H35: JUN | I35: JUL | J35: AUG | K35: SEP | L35: OKT | M35: NOV | N35: DEC
A36: VUL IN : aantal werkdagen per maand vlgs GEMIDDELD dagloon | B36: =SUM(C36:N36) -> 0 | C36: 0 | D36: 0 | E36: 0 | F36: 0 | G36: 0 | H36: 0 | I36: 0 | J36: 0 | K36: 0 | L36: 0 | M36: 0 | N36: 0
A37: VUL IN : aantal werkdagen per maand AAN 1/20ste (CAO-Pk) | B37: =SUM(C37:N37) -> 0 | C37: 0 | D37: 0 | E37: 0 | F37: 0 | G37: 0 | H37: 0 | I37: 0 | J37: 0 | K37: 0 | L37: 0 | M37: 0 | N37: 0
A38: VUL IN : aantal werkdagen per maand AAN 1/22ste (CAO-Pk) | B38: =SUM(C38:N38) -> 0 | C38: 0 | D38: 0 | E38: 0 | F38: 0 | G38: 0 | H38: 0 | I38: 0 | J38: 0 | K38: 0 | L38: 0 | M38: 0 | N38: 0
A39: brutoloon | B39: =SUM(C39:N39) -> 0 | C39: =($B$19*C36)+($B$20*C37)+($B$21*C38) -> 0 | D39: =($B$19*D36)+($B$20*D37)+($B$21*D38) -> 0 | E39: =($B$19*E36)+($B$20*E37)+($B$21*E38) -> 0 | F39: =($B$19*F36)+($B$20*F37)+($B$21*F38) -> 0 | G39: =($B$19*G36)+($B$20*G37)+($B$21*G38) -> 0 | H39: =($B$19*H36)+($B$20*H37)+($B$21*H38) -> 0 | I39: =($B$19*I36)+($B$20*I37)+($B$21*I38) -> 0 | J39: =($B$19*J36)+($B$20*J37)+($B$21*J38) -> 0 | ... N39: =($B$19*N36)+($B$20*N37)+($B$21*N38) -> 0
A40: voordelen in natura | B40: =SUM(C40:N40) -> 0 | C40: =$B$23*(C36+C37+C38) -> 0 | D40: =$B$23*(D36+D37+D38) -> 0 | E40: =$B$23*(E36+E37+E38) -> 0 | F40: =$B$23*(F36+F37+F38) -> 0 | G40: =$B$23*(G36+G37+G38) -> 0 | H40: =$B$23*(H36+H37+H38) -> 0 | I40: =$B$23*(I36+I37+I38) -> 0 | J40: =$B$23*(J36+J37+J38) -> 0 | ... N40: =$B$23*(N36+N37+N38) -> 0
A41: RSZ-patronale | B41: =SUM(C41:N41) -> 0 | C41: =MAX(0,IF((C39+C40)>0,(C39+C40)*($B$28+$B$29+$B$30)-(($B$31+$B$32+$B$33)*(C$36+C$37+C$38)),0)) -> 0 | D41: =MAX(0,IF((D39+D40)>0,(D39+D40)*($B$28+$B$29+$B$30)-(($B$31+$B$32+$B$33)*(D$36+D$37+D$38)),0)) -> 0 | E41: =MAX(0,IF((E39+E40)>0,(E39+E40)*($B$28+$B$29+$B$30)-(($B$31+$B$32+$B$33)*(E$36+E$37+E$38)),0)) -> 0 | F41: =MAX(0,IF((F39+F40)>0,(F39+F40)*($B$28+$B$29+$B$30)-(($B$31+$B$32+$B$33)*(F$36+F$37+F$38)),0)) -> 0 | G41: =MAX(0,IF((G39+G40)>0,(G39+G40)*($B$28+$B$29+$B$30)-(($B$31+$B$32+$B$33)*(G$36+G$37+G$38)),0)) -> 0 | H41: =MAX(0,IF((H39+H40)>0,(H39+H40)*($B$28+$B$29+$B$30)-(($B$31+$B$32+$B$33)*(H$36+H$37+H$38)),0)) -> 0 | I41: =MAX(0,IF((I39+I40)>0,(I39+I40)*($B$28+$B$29+$B$30)-(($B$31+$B$32+$B$33)*(I$36+I$37+I$38)),0)) -> 0 | J41: =MAX(0,IF((J39+J40)>0,(J39+J40)*($B$28+$B$29+$B$30)-(($B$31+$B$32+$B$33)*(J$36+J$37+J$38)),0)) -> 0 | ... N41: =MAX(0,IF((N39+N40)>0,(N39+N40)*($B$28+$B$29+$B$30)-(($B$31+$B$32+$B$33)*(N$36+N$37+N$38)),0)) -> 0
A42: vergoeding woon-werk | B42: =SUM(C42:N42) -> 0 | C42: =($B24*(C36+C37+C38)) -> 0 | D42: =($B24*(D36+D37+D38)) -> 0 | E42: =($B24*(E36+E37+E38)) -> 0 | F42: =($B24*(F36+F37+F38)) -> 0 | G42: =($B24*(G36+G37+G38)) -> 0 | H42: =($B24*(H36+H37+H38)) -> 0 | I42: =($B24*(I36+I37+I38)) -> 0 | J42: =($B24*(J36+J37+J38)) -> 0 | ... N42: =($B24*(N36+N37+N38)) -> 0
A43: maaltijdcheques | B43: =SUM(C43:N43) -> 0 | C43: =$B25*(C36+C37+C38) -> 0 | D43: =$B25*(D36+D37+D38) -> 0 | E43: =$B25*(E36+E37+E38) -> 0 | F43: =$B25*(F36+F37+F38) -> 0 | G43: =$B25*(G36+G37+G38) -> 0 | H43: =$B25*(H36+H37+H38) -> 0 | I43: =$B25*(I36+I37+I38) -> 0 | J43: =$B25*(J36+J37+J38) -> 0 | ... N43: =$B25*(N36+N37+N38) -> 0
A44: forfaitaire kostenvergoeding | B44: =SUM(C44:N44) -> 0 | C44: =$B26*(C36+C37+C38) -> 0 | D44: =$B26*(D36+D37+D38) -> 0 | E44: =$B26*(E36+E37+E38) -> 0 | F44: =$B26*(F36+F37+F38) -> 0 | G44: =$B26*(G36+G37+G38) -> 0 | H44: =$B26*(H36+H37+H38) -> 0 | I44: =$B26*(I36+I37+I38) -> 0 | J44: =$B26*(J36+J37+J38) -> 0 | ... N44: =$B26*(N36+N37+N38) -> 0
B45: =SUM(B39:B44) -> 0 | C45: =SUM(C39:C44) -> 0 | D45: =SUM(D39:D44) -> 0 | E45: =SUM(E39:E44) -> 0 | F45: =SUM(F39:F44) -> 0 | G45: =SUM(G39:G44) -> 0 | H45: =SUM(H39:H44) -> 0 | I45: =SUM(I39:I44) -> 0 | ... N45: =SUM(N39:N44) -> 0
A46: controlecijfer moet 'nul' zijn | B46: =(SUM(C45:N45)-B45)+(SUM(C39:N44)-B45) -> 0
B47: voorziening vakantiegeld
A48: 0.182 | B48: =SUM(C48:N48) -> 0 | C48: =C39*$A$48 -> 0 | D48: =D39*$A$48 -> 0 | E48: =E39*$A$48 -> 0 | F48: =F39*$A$48 -> 0 | G48: =G39*$A$48 -> 0 | H48: =H39*$A$48 -> 0 | I48: =I39*$A$48 -> 0 | J48: =J39*$A$48 -> 0 | ... N48: =N39*$A$48 -> 0

Sheet bediende 2E
A1: PROGNOSE PERSONEELSKOST | B1: 2026 | C1: BEDIENDE MAANDLOON
A3: NAAM (facultatief)
A4: FUNCTIE (facultatief)
A5: PRODUCTIE
A6: aantal werknemers | B6: 0
A8: STANDAARDGEGEVENS
A9: statuut | B9: bediende
A10: CAO
A11: categorie in de CAO
A12: maand v/d anciënniteiteitsaanpassing
A13: maand van indexatie
A15: MAAND BRUTOLOON VT op 1 januari | B15: 0
A16: MAAND BRUTOLOON VT anciënniteitsaanpassing | B16: 0
A17: MAAND BRUTOLOON VT indexatie | B17: 0
B18: bruto 1 januari | C18: bruto anciënn.aanp. | D18: bruto indexatie
A19: GEMIDDELD bruto DAGLOON VT op 1 januari | B19: =B15*3/13/5 -> 0 | C19: =B16*3/13/5 -> 0 | D19: =B17*3/13/5 -> 0
A20: 1/20ste (CAO-sector PK) / brutoloon per dag | B20: =B15*1/20 -> 0 | C20: =B16*1/20 -> 0 | D20: =B17*1/20 -> 0
A21: 1/22ste (CAO-sector PK) / brutoloon per dag | B21: =B15*1/22 -> 0 | C21: =B16*1/22 -> 0 | D21: =B17*1/22 -> 0
A23: VOORDEEL IN NATURA vast per dag | B23: 0 | C23: bedrag per dag
A24: VERGOEDING WOON-WERK per dag | B24: 0 | C24: bedrag per dag
A25: MAALTIJDCHEQUES (enkel werkgever) | B25: 0 | C25: bedrag per dag
A26: FORFAITAIRE KOSTENVERGOEDING | B26: 0 | C26: bedrag per dag
A28: % RSZ-PATRONALE:basis-tarief | B28: ='RSZ-tarieven'!B4 -> 0.25
A29: % RSZ-PATRONALE:bijkomende | B29: ='RSZ-tarieven'!B15 -> 0.0198
A30: % RSZ-PATRONALE als + 10 Wners | B30: =IF(B6<10,0,1.69%) -> 0
A31: extra RSZ-vermindering lage lonen (per dag) | B31: =IF(B15>3744,0,0.14*(11233.89-(B15*3))/13/5) -> 24.196071
A32: RSZ-VERMINDERING doelgroep | C32: om te rekenen per dag
A33: RSZ-VERMINDERING andere
B35: =B1 -> 2026 | C35: JAN | D35: FEB | E35: MAA | F35: APR | G35: MEI | H35: JUN | I35: JUL | J35: AUG | K35: SEP | L35: OKT | M35: NOV | N35: DEC
A36: VUL IN : aantal werkdagen per maand vlgs GEMIDDELD dagloon | B36: =SUM(C36:N36) -> 0 | C36: 0 | D36: 0 | E36: 0 | F36: 0 | G36: 0 | H36: 0 | I36: 0 | J36: 0 | K36: 0 | L36: 0 | M36: 0 | N36: 0
A37: VUL IN : aantal werkdagen per maand AAN 1/20ste (CAO-Pk) | B37: =SUM(C37:N37) -> 0 | C37: 0 | D37: 0 | E37: 0 | F37: 0 | G37: 0 | H37: 0 | I37: 0 | J37: 0 | K37: 0 | L37: 0 | M37: 0 | N37: 0
A38: VUL IN : aantal werkdagen per maand AAN 1/22ste (CAO-Pk) | B38: =SUM(C38:N38) -> 0 | C38: 0 | D38: 0 | E38: 0 | F38: 0 | G38: 0 | H38: 0 | I38: 0 | J38: 0 | K38: 0 | L38: 0 | M38: 0 | N38: 0
A39: brutoloon | B39: =SUM(C39:N39) -> 0 | C39: =($B$19*C36)+($B$20*C37)+($B$21*C38) -> 0 | D39: =($B$19*D36)+($B$20*D37)+($B$21*D38) -> 0 | E39: =($B$19*E36)+($B$20*E37)+($B$21*E38) -> 0 | F39: =($B$19*F36)+($B$20*F37)+($B$21*F38) -> 0 | G39: =($B$19*G36)+($B$20*G37)+($B$21*G38) -> 0 | H39: =($B$19*H36)+($B$20*H37)+($B$21*H38) -> 0 | I39: =($B$19*I36)+($B$20*I37)+($B$21*I38) -> 0 | J39: =($B$19*J36)+($B$20*J37)+($B$21*J38) -> 0 | ... N39: =($B$19*N36)+($B$20*N37)+($B$21*N38) -> 0
A40: voordelen in natura | B40: =SUM(C40:N40) -> 0 | C40: =$B$23*(C36+C37+C38) -> 0 | D40: =$B$23*(D36+D37+D38) -> 0 | E40: =$B$23*(E36+E37+E38) -> 0 | F40: =$B$23*(F36+F37+F38) -> 0 | G40: =$B$23*(G36+G37+G38) -> 0 | H40: =$B$23*(H36+H37+H38) -> 0 | I40: =$B$23*(I36+I37+I38) -> 0 | J40: =$B$23*(J36+J37+J38) -> 0 | ... N40: =$B$23*(N36+N37+N38) -> 0
A41: RSZ-patronale | B41: =SUM(C41:N41) -> 0 | C41: =MAX(0,IF((C39+C40)>0,(C39+C40)*($B$28+$B$29+$B$30)-(($B$31+$B$32+$B$33)*(C$36+C$37+C$38)),0)) -> 0 | D41: =MAX(0,IF((D39+D40)>0,(D39+D40)*($B$28+$B$29+$B$30)-(($B$31+$B$32+$B$33)*(D$36+D$37+D$38)),0)) -> 0 | E41: =MAX(0,IF((E39+E40)>0,(E39+E40)*($B$28+$B$29+$B$30)-(($B$31+$B$32+$B$33)*(E$36+E$37+E$38)),0)) -> 0 | F41: =MAX(0,IF((F39+F40)>0,(F39+F40)*($B$28+$B$29+$B$30)-(($B$31+$B$32+$B$33)*(F$36+F$37+F$38)),0)) -> 0 | G41: =MAX(0,IF((G39+G40)>0,(G39+G40)*($B$28+$B$29+$B$30)-(($B$31+$B$32+$B$33)*(G$36+G$37+G$38)),0)) -> 0 | H41: =MAX(0,IF((H39+H40)>0,(H39+H40)*($B$28+$B$29+$B$30)-(($B$31+$B$32+$B$33)*(H$36+H$37+H$38)),0)) -> 0 | I41: =MAX(0,IF((I39+I40)>0,(I39+I40)*($B$28+$B$29+$B$30)-(($B$31+$B$32+$B$33)*(I$36+I$37+I$38)),0)) -> 0 | J41: =MAX(0,IF((J39+J40)>0,(J39+J40)*($B$28+$B$29+$B$30)-(($B$31+$B$32+$B$33)*(J$36+J$37+J$38)),0)) -> 0 | ... N41: =MAX(0,IF((N39+N40)>0,(N39+N40)*($B$28+$B$29+$B$30)-(($B$31+$B$32+$B$33)*(N$36+N$37+N$38)),0)) -> 0
A42: vergoeding woon-werk | B42: =SUM(C42:N42) -> 0 | C42: =($B24*(C36+C37+C38)) -> 0 | D42: =($B24*(D36+D37+D38)) -> 0 | E42: =($B24*(E36+E37+E38)) -> 0 | F42: =($B24*(F36+F37+F38)) -> 0 | G42: =($B24*(G36+G37+G38)) -> 0 | H42: =($B24*(H36+H37+H38)) -> 0 | I42: =($B24*(I36+I37+I38)) -> 0 | J42: =($B24*(J36+J37+J38)) -> 0 | ... N42: =($B24*(N36+N37+N38)) -> 0
A43: maaltijdcheques | B43: =SUM(C43:N43) -> 0 | C43: =$B25*(C36+C37+C38) -> 0 | D43: =$B25*(D36+D37+D38) -> 0 | E43: =$B25*(E36+E37+E38) -> 0 | F43: =$B25*(F36+F37+F38) -> 0 | G43: =$B25*(G36+G37+G38) -> 0 | H43: =$B25*(H36+H37+H38) -> 0 | I43: =$B25*(I36+I37+I38) -> 0 | J43: =$B25*(J36+J37+J38) -> 0 | ... N43: =$B25*(N36+N37+N38) -> 0
A44: forfaitaire kostenvergoeding | B44: =SUM(C44:N44) -> 0 | C44: =$B26*(C36+C37+C38) -> 0 | D44: =$B26*(D36+D37+D38) -> 0 | E44: =$B26*(E36+E37+E38) -> 0 | F44: =$B26*(F36+F37+F38) -> 0 | G44: =$B26*(G36+G37+G38) -> 0 | H44: =$B26*(H36+H37+H38) -> 0 | I44: =$B26*(I36+I37+I38) -> 0 | J44: =$B26*(J36+J37+J38) -> 0 | ... N44: =$B26*(N36+N37+N38) -> 0
B45: =SUM(B39:B44) -> 0 | C45: =SUM(C39:C44) -> 0 | D45: =SUM(D39:D44) -> 0 | E45: =SUM(E39:E44) -> 0 | F45: =SUM(F39:F44) -> 0 | G45: =SUM(G39:G44) -> 0 | H45: =SUM(H39:H44) -> 0 | I45: =SUM(I39:I44) -> 0 | ... N45: =SUM(N39:N44) -> 0
A46: controlecijfer moet 'nul' zijn | B46: =(SUM(C45:N45)-B45)+(SUM(C39:N44)-B45) -> 0
B47: voorziening vakantiegeld
A48: 0.182 | B48: =SUM(C48:N48) -> 0 | C48: =C39*$A$48 -> 0 | D48: =D39*$A$48 -> 0 | E48: =E39*$A$48 -> 0 | F48: =F39*$A$48 -> 0 | G48: =G39*$A$48 -> 0 | H48: =H39*$A$48 -> 0 | I48: =I39*$A$48 -> 0 | J48: =J39*$A$48 -> 0 | ... N48: =N39*$A$48 -> 0

Sheet kunstenaar 3A
A1: PROGNOSE PERSONEELSKOST | B1: 2026 | C1: KUNSTENAAR MAANDLOON
A3: NAAM (facultatief)
A4: FUNCTIE (facultatief)
A5: PRODUCTIE
A6: aantal werknemers | B6: 0
A8: STANDAARDGEGEVENS
A9: statuut | B9: kunstenaar
A10: CAO
A11: categorie in de CAO
A12: maand v/d anciënniteiteitsaanpassing
A13: maand van indexatie
A15: BRUTOLOON VT op 1 januari | B15: 0
A16: BRUTOLOON VT anciënniteitsaanpassing | B16: 0
A17: BRUTOLOON VT indexatie | B17: 0
A18: eindejaarspremie-13de maand VT 100% | B18: 0
A20: tewerkstellingspercentage | B20: 1 | C20: (vul % in of verhouding bvb.=28/38) ; als het % varieert gedurende het jaar, vul het hieronder in en pas de formule aan
A21: aantal werkdagen | B21: =(((52*5)-20-10-B22)/11)*B20 -> 20.909091 | C21: per maand gemiddeld voor voltijdsen in 5-dagen stelsel
A22: aantal extra vakantiedagen volgens CAO-Pk | B22: 0
A23: effectief BRUTOLOON 1 jan | B23: 0
A24: effectief BRUTOLOON met anciënniteitsaanpassing | B24: =B16*$B$20 -> 0
A25: effectief BRUTOLOON met indexatie | B25: =B17*$B$20 -> 0
A26: effectieve eindejaarspremie-13de maand | B26: =B18*$B$20 -> 0
A28: VOORDEEL IN NATURA vast per maand | B28: 0 | C28: bedrag per maand
A29: VOORDEEL IN NATURA vast per dag | B29: 0 | C29: bedrag per dag
A30: VERGOEDING WOON-WERK | B30: 0 | C30: bedrag per maand
A31: VERGOEDING WOON-WERK | B31: 0 | C31: bedrag per dag
A32: MAALTIJDCHEQUES (enkel werkgever) | B32: 0 | C32: per dag
A33: FORFAITAIRE KOSTENVERGOEDING | B33: 0 | C33: per maand
A35: % RSZ-PATRONALE:basis-tarief | B35: ='RSZ-tarieven'!B5 -> 0.3061
A36: % RSZ-PATRONALE:bijkomende | B36: ='RSZ-tarieven'!B15 -> 0.0198
A37: % RSZ-PATRONALE als + 10 Wners | B37: =IF(B6<10,0,1.69%) -> 0
A38: extra RSZ-vermindering lage lonen (per maand) | B38: =IF(B23>3744,0,0.14*(11233.89-(B23*3))/3) -> 524.2482
A39: RSZ-VERMINDERING doelgroep | B39: =('RSZ-tarieven'!B31)*B20 -> 172.33333 | C39: omgerekend per maand ; enkel tem maart 2026
A40: RSZ-VERMINDERING andere
J41: vakantiemaand
B42: =B1 -> 2026 | C42: JAN | D42: FEB | E42: VG | F42: MAA | G42: APR | H42: MEI | I42: JUN | J42: JUL | K42: AUG | L42: SEP | M42: OKT | N42: NOV | O42: EJP | P42: DEC
A43: tewerkstellingspercentage | B43: / | C43: =$B$20 -> 1 | D43: =$B$20 -> 1 | E43: 0.1027 | F43: =$B$20 -> 1 | G43: =$B$20 -> 1 | H43: =$B$20 -> 1 | I43: =$B$20 -> 1 | J43: =$B$20 -> 1 | K43: =$B$20 -> 1 | L43: =$B$20 -> 1 | M43: =$B$20 -> 1 | ... P43: =$B$20 -> 1
A44: gem.aantal werkdagen | B44: =SUM(C44:P44) -> 230 | C44: =$B21 -> 20.909091 | D44: =C44 -> 20.909091 | F44: =D44 -> 20.909091 | G44: =F44 -> 20.909091 | H44: =G44 -> 20.909091 | I44: =H44 -> 20.909091 | K44: =I44 -> 20.909091 | L44: =K44 -> 20.909091 | M44: =L44 -> 20.909091 | N44: =M44 -> 20.909091 | O44: / | P44: =N44 -> 20.909091
A45: brutoloon | B45: =SUM(C45:P45) -> 0 | C45: =$B23 -> 0 | D45: =C45 -> 0 | E45: =B23*11*108%*E43 -> 0 | F45: =D45 -> 0 | G45: =F45 -> 0 | H45: =G45 -> 0 | I45: =H45 -> 0 | J45: / | K45: =I45 -> 0 | L45: =K45 -> 0 | M45: =L45 -> 0 | N45: =M45 -> 0 | O45: =$B$18*$B20 -> 0 | P45: =N45 -> 0
A46: voordelen in natura | B46: =SUM(C46:P46) -> 0 | C46: =+$B28+(($B29)*C$44) -> 0 | D46: =+$B28+($B29*D$44) -> 0 | E46: / | F46: =+$B28+($B29*F$44) -> 0 | G46: =+$B28+($B29*G$44) -> 0 | H46: =+$B28+($B29*H$44) -> 0 | I46: =+$B28+($B29*I$44) -> 0 | J46: / | K46: =+$B28+($B29*K$21) -> 0 | L46: =+$B28+($B29*L$21) -> 0 | M46: =+$B28+($B29*M$21) -> 0 | N46: =+$B28+($B29*N$21) -> 0 | O46: / | P46: =+$B28+($B29*P$21) -> 0
A47: RSZ-patronale | B47: =SUM(C47:P47) -> 0 | C47: =MAX(0,IF((C45+C46)>0,((C45+C46)*108%)*(B35+B36+B37)-(B38+B39+B40),0)) -> 0 | D47: =MAX(0,IF((D45+D46)>0,((D45+D46)*108%)*(B35+B36+B37)-(B38+B39+B40),0)) -> 0 | E47: / | F47: =MAX(0,IF((F45+F46)>0,((F45+F46)*108%)*(B35+B36+B37)-(B38+B39+B40),0)) -> 0 | G47: =MAX(0,IF((G45+G46)>0,((G45+G46)*108%)*(B35+B36+B37)-(B38+B40),0)) -> 0 | H47: =MAX(0,IF((H45+H46)>0,((H45+H46)*108%)*(B35+B36+B37)-(B38+B40),0)) -> 0 | I47: =MAX(0,IF((I45+I46)>0,((I45+I46)*108%)*(B35+B36+B37)-(B38+B40),0)) -> 0 | J47: / | K47: =MAX(0,IF((K45+K46)>0,((K45+K46)*108%)*(B35+B36+B37)-(B38+B40),0)) -> 0 | L47: =MAX(0,IF((L45+L46)>0,((L45+L46)*108%)*(B35+B36+B37)-(B38+B40),0)) -> 0 | M47: =MAX(0,IF((M45+M46)>0,((M45+M46)*108%)*(B35+B36+B37)-(B38+B40),0)) -> 0 | N47: =MAX(0,IF((N45+N46)>0,((N45+N46)*108%)*(B35+B36+B37)-(B38+B40),0)) -> 0 | O47: =MAX(0,IF((O45)>0,((O45)*108%)*(B35+B36+B37),0)) -> 0 | P47: =MAX(0,IF((P45+P46)>0,((P45+P46)*108%)*(B35+B36+B37)-(B38+B40),0)) -> 0
A48: vergoeding woon-werk | B48: =SUM(C48:P48) -> 0 | C48: =$B30+($B31*C$44) -> 0 | D48: =$B30+($B31*D$44) -> 0 | E48: / | F48: =$B30+($B31*F$44) -> 0 | G48: =$B30+($B31*G$44) -> 0 | H48: =$B30+($B31*H$44) -> 0 | I48: =$B30+($B31*I$44) -> 0 | J48: / | K48: =$B30+($B31*K$44) -> 0 | L48: =$B30+($B31*L$44) -> 0 | M48: =$B30+($B31*M$44) -> 0 | N48: =$B30+($B31*N$44) -> 0 | O48: / | P48: =$B30+($B31*P$44) -> 0
A49: maaltijdcheques | B49: =SUM(C49:P49) -> 0 | C49: =$B32*C$44 -> 0 | D49: =$B32*D$44 -> 0 | E49: / | F49: =$B32*F$44 -> 0 | G49: =$B32*G$44 -> 0 | H49: =$B32*H$44 -> 0 | I49: =$B32*I$44 -> 0 | J49: / | K49: =$B32*K$44 -> 0 | L49: =$B32*L$44 -> 0 | M49: =$B32*M$44 -> 0 | N49: =$B32*N$44 -> 0 | O49: / | P49: =$B32*P$44 -> 0
A50: forfaitaire kostenvergoeding | B50: =SUM(C50:P50) -> 0 | C50: =$B33 -> 0 | D50: =$B33 -> 0 | E50: / | F50: =$B33 -> 0 | G50: =$B33 -> 0 | H50: =$B33 -> 0 | I50: =$B33 -> 0 | J50: / | K50: =$B33 -> 0 | L50: =$B33 -> 0 | M50: =$B33 -> 0 | N50: =$B33 -> 0 | O50: / | P50: =$B33 -> 0
B51: =SUM(B45:B50) -> 0 | C51: =SUM(C45:C50) -> 0 | D51: =SUM(D45:D50) -> 0 | E51: =SUM(E45:E50) -> 0 | F51: =SUM(F45:F50) -> 0 | G51: =SUM(G45:G50) -> 0 | H51: =SUM(H45:H50) -> 0 | I51: =SUM(I45:I50) -> 0 | ... P51: =SUM(P45:P50) -> 0
A52: controlecijfer moet 'nul' zijn | B52: =(SUM(C51:P51)-B51)+(SUM(C45:P50)-B51) -> 0
B53: voorziening vakantiegeld
A54: 0.1027 | B54: =SUM(C54:P54) -> 0 | C54: =(C45*108%)*$A$54 -> 0 | D54: =(D45*108%)*$A$54 -> 0 | E54: / | F54: =(F45*108%)*$A$54 -> 0 | G54: =(G45*108%)*$A$54 -> 0 | H54: =(H45*108%)*$A$54 -> 0 | I54: =(I45*108%)*$A$54 -> 0 | J54: / | K54: =(K45*108%)*$A$54 -> 0 | L54: =(L45*108%)*$A$54 -> 0 | M54: =(M45*108%)*$A$54 -> 0 | N54: =(N45*108%)*$A$54 -> 0 | O54: 0 | P54: =(P45*108%)*$A$54 -> 0

Sheet kunstenaar 3B
A1: PROGNOSE PERSONEELSKOST | B1: 2026 | C1: KUNSTENAAR MAANDLOON
A3: NAAM (facultatief)
A4: FUNCTIE (facultatief)
A5: PRODUCTIE
A6: aantal werknemers | B6: 0
A8: STANDAARDGEGEVENS
A9: statuut | B9: kunstenaar
A10: CAO
A11: categorie in de CAO
A12: maand v/d anciënniteiteitsaanpassing
A13: maand van indexatie
A15: BRUTOLOON VT op 1 januari | B15: 0
A16: BRUTOLOON VT anciënniteitsaanpassing | B16: 0
A17: BRUTOLOON VT indexatie | B17: 0
A18: eindejaarspremie-13de maand VT 100% | B18: 0
A20: tewerkstellingspercentage | B20: 1 | C20: (vul % in of verhouding bvb.=28/38) ; als het % varieert gedurende het jaar, vul het hieronder in en pas de formule aan
A21: aantal werkdagen | B21: =(((52*5)-20-10-B22)/11)*B20 -> 20.909091 | C21: per maand gemiddeld voor voltijdsen in 5-dagen stelsel
A22: aantal extra vakantiedagen volgens CAO-Pk | B22: 0
A23: effectief BRUTOLOON 1 jan | B23: 0
A24: effectief BRUTOLOON met anciënniteitsaanpassing | B24: =B16*$B$20 -> 0
A25: effectief BRUTOLOON met indexatie | B25: =B17*$B$20 -> 0
A26: effectieve eindejaarspremie-13de maand | B26: =B18*$B$20 -> 0
A28: VOORDEEL IN NATURA vast per maand | B28: 0 | C28: bedrag per maand
A29: VOORDEEL IN NATURA vast per dag | B29: 0 | C29: bedrag per dag
A30: VERGOEDING WOON-WERK | B30: 0 | C30: bedrag per maand
A31: VERGOEDING WOON-WERK | B31: 0 | C31: bedrag per dag
A32: MAALTIJDCHEQUES (enkel werkgever) | B32: 0 | C32: per dag
A33: FORFAITAIRE KOSTENVERGOEDING | B33: 0 | C33: per maand
A35: % RSZ-PATRONALE:basis-tarief | B35: ='RSZ-tarieven'!B5 -> 0.3061
A36: % RSZ-PATRONALE:bijkomende | B36: ='RSZ-tarieven'!B15 -> 0.0198
A37: % RSZ-PATRONALE als + 10 Wners | B37: =IF(B6<10,0,1.69%) -> 0
A38: extra RSZ-vermindering lage lonen (per maand) | B38: =IF(B23>3744,0,0.14*(11233.89-(B23*3))/3) -> 524.2482
A39: RSZ-VERMINDERING doelgroep | B39: =('RSZ-tarieven'!B31)*B20 -> 172.33333 | C39: omgerekend per maand ; enkel tem maart 2026
A40: RSZ-VERMINDERING andere
J41: vakantiemaand
B42: =B1 -> 2026 | C42: JAN | D42: FEB | E42: VG | F42: MAA | G42: APR | H42: MEI | I42: JUN | J42: JUL | K42: AUG | L42: SEP | M42: OKT | N42: NOV | O42: EJP | P42: DEC
A43: tewerkstellingspercentage | B43: / | C43: =$B$20 -> 1 | D43: =$B$20 -> 1 | E43: 0.1027 | F43: =$B$20 -> 1 | G43: =$B$20 -> 1 | H43: =$B$20 -> 1 | I43: =$B$20 -> 1 | J43: =$B$20 -> 1 | K43: =$B$20 -> 1 | L43: =$B$20 -> 1 | M43: =$B$20 -> 1 | ... P43: =$B$20 -> 1
A44: gem.aantal werkdagen | B44: =SUM(C44:P44) -> 230 | C44: =$B21 -> 20.909091 | D44: =C44 -> 20.909091 | F44: =D44 -> 20.909091 | G44: =F44 -> 20.909091 | H44: =G44 -> 20.909091 | I44: =H44 -> 20.909091 | K44: =I44 -> 20.909091 | L44: =K44 -> 20.909091 | M44: =L44 -> 20.909091 | N44: =M44 -> 20.909091 | O44: / | P44: =N44 -> 20.909091
A45: brutoloon | B45: =SUM(C45:P45) -> 0 | C45: =$B23 -> 0 | D45: =C45 -> 0 | E45: =B23*11*108%*E43 -> 0 | F45: =D45 -> 0 | G45: =F45 -> 0 | H45: =G45 -> 0 | I45: =H45 -> 0 | J45: / | K45: =I45 -> 0 | L45: =K45 -> 0 | M45: =L45 -> 0 | N45: =M45 -> 0 | O45: =$B$18*$B20 -> 0 | P45: =N45 -> 0
A46: voordelen in natura | B46: =SUM(C46:P46) -> 0 | C46: =+$B28+(($B29)*C$44) -> 0 | D46: =+$B28+($B29*D$44) -> 0 | E46: / | F46: =+$B28+($B29*F$44) -> 0 | G46: =+$B28+($B29*G$44) -> 0 | H46: =+$B28+($B29*H$44) -> 0 | I46: =+$B28+($B29*I$44) -> 0 | J46: / | K46: =+$B28+($B29*K$21) -> 0 | L46: =+$B28+($B29*L$21) -> 0 | M46: =+$B28+($B29*M$21) -> 0 | N46: =+$B28+($B29*N$21) -> 0 | O46: / | P46: =+$B28+($B29*P$21) -> 0
A47: RSZ-patronale | B47: =SUM(C47:P47) -> 0 | C47: =MAX(0,IF((C45+C46)>0,((C45+C46)*108%)*(B35+B36+B37)-(B38+B39+B40),0)) -> 0 | D47: =MAX(0,IF((D45+D46)>0,((D45+D46)*108%)*(B35+B36+B37)-(B38+B39+B40),0)) -> 0 | E47: / | F47: =MAX(0,IF((F45+F46)>0,((F45+F46)*108%)*(B35+B36+B37)-(B38+B39+B40),0)) -> 0 | G47: =MAX(0,IF((G45+G46)>0,((G45+G46)*108%)*(B35+B36+B37)-(B38+B40),0)) -> 0 | H47: =MAX(0,IF((H45+H46)>0,((H45+H46)*108%)*(B35+B36+B37)-(B38+B40),0)) -> 0 | I47: =MAX(0,IF((I45+I46)>0,((I45+I46)*108%)*(B35+B36+B37)-(B38+B40),0)) -> 0 | J47: / | K47: =MAX(0,IF((K45+K46)>0,((K45+K46)*108%)*(B35+B36+B37)-(B38+B40),0)) -> 0 | L47: =MAX(0,IF((L45+L46)>0,((L45+L46)*108%)*(B35+B36+B37)-(B38+B40),0)) -> 0 | M47: =MAX(0,IF((M45+M46)>0,((M45+M46)*108%)*(B35+B36+B37)-(B38+B40),0)) -> 0 | N47: =MAX(0,IF((N45+N46)>0,((N45+N46)*108%)*(B35+B36+B37)-(B38+B40),0)) -> 0 | O47: =MAX(0,IF((O45)>0,((O45)*108%)*(B35+B36+B37),0)) -> 0 | P47: =MAX(0,IF((P45+P46)>0,((P45+P46)*108%)*(B35+B36+B37)-(B38+B40),0)) -> 0
A48: vergoeding woon-werk | B48: =SUM(C48:P48) -> 0 | C48: =$B30+($B31*C$44) -> 0 | D48: =$B30+($B31*D$44) -> 0 | E48: / | F48: =$B30+($B31*F$44) -> 0 | G48: =$B30+($B31*G$44) -> 0 | H48: =$B30+($B31*H$44) -> 0 | I48: =$B30+($B31*I$44) -> 0 | J48: / | K48: =$B30+($B31*K$44) -> 0 | L48: =$B30+($B31*L$44) -> 0 | M48: =$B30+($B31*M$44) -> 0 | N48: =$B30+($B31*N$44) -> 0 | O48: / | P48: =$B30+($B31*P$44) -> 0
A49: maaltijdcheques | B49: =SUM(C49:P49) -> 0 | C49: =$B32*C$44 -> 0 | D49: =$B32*D$44 -> 0 | E49: / | F49: =$B32*F$44 -> 0 | G49: =$B32*G$44 -> 0 | H49: =$B32*H$44 -> 0 | I49: =$B32*I$44 -> 0 | J49: / | K49: =$B32*K$44 -> 0 | L49: =$B32*L$44 -> 0 | M49: =$B32*M$44 -> 0 | N49: =$B32*N$44 -> 0 | O49: / | P49: =$B32*P$44 -> 0
A50: forfaitaire kostenvergoeding | B50: =SUM(C50:P50) -> 0 | C50: =$B33 -> 0 | D50: =$B33 -> 0 | E50: / | F50: =$B33 -> 0 | G50: =$B33 -> 0 | H50: =$B33 -> 0 | I50: =$B33 -> 0 | J50: / | K50: =$B33 -> 0 | L50: =$B33 -> 0 | M50: =$B33 -> 0 | N50: =$B33 -> 0 | O50: / | P50: =$B33 -> 0
B51: =SUM(B45:B50) -> 0 | C51: =SUM(C45:C50) -> 0 | D51: =SUM(D45:D50) -> 0 | E51: =SUM(E45:E50) -> 0 | F51: =SUM(F45:F50) -> 0 | G51: =SUM(G45:G50) -> 0 | H51: =SUM(H45:H50) -> 0 | I51: =SUM(I45:I50) -> 0 | ... P51: =SUM(P45:P50) -> 0
A52: controlecijfer moet 'nul' zijn | B52: =(SUM(C51:P51)-B51)+(SUM(C45:P50)-B51) -> 0
B53: voorziening vakantiegeld
A54: 0.1027 | B54: =SUM(C54:P54) -> 0 | C54: =(C45*108%)*$A$54 -> 0 | D54: =(D45*108%)*$A$54 -> 0 | E54: / | F54: =(F45*108%)*$A$54 -> 0 | G54: =(G45*108%)*$A$54 -> 0 | H54: =(H45*108%)*$A$54 -> 0 | I54: =(I45*108%)*$A$54 -> 0 | J54: / | K54: =(K45*108%)*$A$54 -> 0 | L54: =(L45*108%)*$A$54 -> 0 | M54: =(M45*108%)*$A$54 -> 0 | N54: =(N45*108%)*$A$54 -> 0 | O54: 0 | P54: =(P45*108%)*$A$54 -> 0

Sheet kunstenaar 3C
A1: PROGNOSE PERSONEELSKOST | B1: 2026 | C1: KUNSTENAAR MAANDLOON
A3: NAAM (facultatief)
A4: FUNCTIE (facultatief)
A5: PRODUCTIE
A6: aantal werknemers | B6: 0
A8: STANDAARDGEGEVENS
A9: statuut | B9: kunstenaar
A10: CAO
A11: categorie in de CAO
A12: maand v/d anciënniteiteitsaanpassing
A13: maand van indexatie
A15: BRUTOLOON VT op 1 januari | B15: 0
A16: BRUTOLOON VT anciënniteitsaanpassing | B16: 0
A17: BRUTOLOON VT indexatie | B17: 0
A18: eindejaarspremie-13de maand VT 100% | B18: 0
A20: tewerkstellingspercentage | B20: 1 | C20: (vul % in of verhouding bvb.=28/38) ; als het % varieert gedurende het jaar, vul het hieronder in en pas de formule aan
A21: aantal werkdagen | B21: =(((52*5)-20-10-B22)/11)*B20 -> 20.909091 | C21: per maand gemiddeld voor voltijdsen in 5-dagen stelsel
A22: aantal extra vakantiedagen volgens CAO-Pk | B22: 0
A23: effectief BRUTOLOON 1 jan | B23: 0
A24: effectief BRUTOLOON met anciënniteitsaanpassing | B24: =B16*$B$20 -> 0
A25: effectief BRUTOLOON met indexatie | B25: =B17*$B$20 -> 0
A26: effectieve eindejaarspremie-13de maand | B26: =B18*$B$20 -> 0
A28: VOORDEEL IN NATURA vast per maand | B28: 0 | C28: bedrag per maand
A29: VOORDEEL IN NATURA vast per dag | B29: 0 | C29: bedrag per dag
A30: VERGOEDING WOON-WERK | B30: 0 | C30: bedrag per maand
A31: VERGOEDING WOON-WERK | B31: 0 | C31: bedrag per dag
A32: MAALTIJDCHEQUES (enkel werkgever) | B32: 0 | C32: per dag
A33: FORFAITAIRE KOSTENVERGOEDING | B33: 0 | C33: per maand
A35: % RSZ-PATRONALE:basis-tarief | B35: ='RSZ-tarieven'!B5 -> 0.3061
A36: % RSZ-PATRONALE:bijkomende | B36: ='RSZ-tarieven'!B15 -> 0.0198
A37: % RSZ-PATRONALE als + 10 Wners | B37: =IF(B6<10,0,1.69%) -> 0
A38: extra RSZ-vermindering lage lonen (per maand) | B38: =IF(B23>3744,0,0.14*(11233.89-(B23*3))/3) -> 524.2482
A39: RSZ-VERMINDERING doelgroep | B39: =('RSZ-tarieven'!B31)*B20 -> 172.33333 | C39: omgerekend per maand ; enkel tem maart 2026
A40: RSZ-VERMINDERING andere
J41: vakantiemaand
B42: =B1 -> 2026 | C42: JAN | D42: FEB | E42: VG | F42: MAA | G42: APR | H42: MEI | I42: JUN | J42: JUL | K42: AUG | L42: SEP | M42: OKT | N42: NOV | O42: EJP | P42: DEC
A43: tewerkstellingspercentage | B43: / | C43: =$B$20 -> 1 | D43: =$B$20 -> 1 | E43: 0.1027 | F43: =$B$20 -> 1 | G43: =$B$20 -> 1 | H43: =$B$20 -> 1 | I43: =$B$20 -> 1 | J43: =$B$20 -> 1 | K43: =$B$20 -> 1 | L43: =$B$20 -> 1 | M43: =$B$20 -> 1 | ... P43: =$B$20 -> 1
A44: gem.aantal werkdagen | B44: =SUM(C44:P44) -> 230 | C44: =$B21 -> 20.909091 | D44: =C44 -> 20.909091 | F44: =D44 -> 20.909091 | G44: =F44 -> 20.909091 | H44: =G44 -> 20.909091 | I44: =H44 -> 20.909091 | K44: =I44 -> 20.909091 | L44: =K44 -> 20.909091 | M44: =L44 -> 20.909091 | N44: =M44 -> 20.909091 | O44: / | P44: =N44 -> 20.909091
A45: brutoloon | B45: =SUM(C45:P45) -> 0 | C45: =$B23 -> 0 | D45: =C45 -> 0 | E45: =B23*11*108%*E43 -> 0 | F45: =D45 -> 0 | G45: =F45 -> 0 | H45: =G45 -> 0 | I45: =H45 -> 0 | J45: / | K45: =I45 -> 0 | L45: =K45 -> 0 | M45: =L45 -> 0 | N45: =M45 -> 0 | O45: =$B$18*$B20 -> 0 | P45: =N45 -> 0
A46: voordelen in natura | B46: =SUM(C46:P46) -> 0 | C46: =+$B28+(($B29)*C$44) -> 0 | D46: =+$B28+($B29*D$44) -> 0 | E46: / | F46: =+$B28+($B29*F$44) -> 0 | G46: =+$B28+($B29*G$44) -> 0 | H46: =+$B28+($B29*H$44) -> 0 | I46: =+$B28+($B29*I$44) -> 0 | J46: / | K46: =+$B28+($B29*K$21) -> 0 | L46: =+$B28+($B29*L$21) -> 0 | M46: =+$B28+($B29*M$21) -> 0 | N46: =+$B28+($B29*N$21) -> 0 | O46: / | P46: =+$B28+($B29*P$21) -> 0
A47: RSZ-patronale | B47: =SUM(C47:P47) -> 0 | C47: =MAX(0,IF((C45+C46)>0,((C45+C46)*108%)*(B35+B36+B37)-(B38+B39+B40),0)) -> 0 | D47: =MAX(0,IF((D45+D46)>0,((D45+D46)*108%)*(B35+B36+B37)-(B38+B39+B40),0)) -> 0 | E47: / | F47: =MAX(0,IF((F45+F46)>0,((F45+F46)*108%)*(B35+B36+B37)-(B38+B39+B40),0)) -> 0 | G47: =MAX(0,IF((G45+G46)>0,((G45+G46)*108%)*(B35+B36+B37)-(B38+B40),0)) -> 0 | H47: =MAX(0,IF((H45+H46)>0,((H45+H46)*108%)*(B35+B36+B37)-(B38+B40),0)) -> 0 | I47: =MAX(0,IF((I45+I46)>0,((I45+I46)*108%)*(B35+B36+B37)-(B38+B40),0)) -> 0 | J47: / | K47: =MAX(0,IF((K45+K46)>0,((K45+K46)*108%)*(B35+B36+B37)-(B38+B40),0)) -> 0 | L47: =MAX(0,IF((L45+L46)>0,((L45+L46)*108%)*(B35+B36+B37)-(B38+B40),0)) -> 0 | M47: =MAX(0,IF((M45+M46)>0,((M45+M46)*108%)*(B35+B36+B37)-(B38+B40),0)) -> 0 | N47: =MAX(0,IF((N45+N46)>0,((N45+N46)*108%)*(B35+B36+B37)-(B38+B40),0)) -> 0 | O47: =MAX(0,IF((O45)>0,((O45)*108%)*(B35+B36+B37),0)) -> 0 | P47: =MAX(0,IF((P45+P46)>0,((P45+P46)*108%)*(B35+B36+B37)-(B38+B40),0)) -> 0
A48: vergoeding woon-werk | B48: =SUM(C48:P48) -> 0 | C48: =$B30+($B31*C$44) -> 0 | D48: =$B30+($B31*D$44) -> 0 | E48: / | F48: =$B30+($B31*F$44) -> 0 | G48: =$B30+($B31*G$44) -> 0 | H48: =$B30+($B31*H$44) -> 0 | I48: =$B30+($B31*I$44) -> 0 | J48: / | K48: =$B30+($B31*K$44) -> 0 | L48: =$B30+($B31*L$44) -> 0 | M48: =$B30+($B31*M$44) -> 0 | N48: =$B30+($B31*N$44) -> 0 | O48: / | P48: =$B30+($B31*P$44) -> 0
A49: maaltijdcheques | B49: =SUM(C49:P49) -> 0 | C49: =$B32*C$44 -> 0 | D49: =$B32*D$44 -> 0 | E49: / | F49: =$B32*F$44 -> 0 | G49: =$B32*G$44 -> 0 | H49: =$B32*H$44 -> 0 | I49: =$B32*I$44 -> 0 | J49: / | K49: =$B32*K$44 -> 0 | L49: =$B32*L$44 -> 0 | M49: =$B32*M$44 -> 0 | N49: =$B32*N$44 -> 0 | O49: / | P49: =$B32*P$44 -> 0
A50: forfaitaire kostenvergoeding | B50: =SUM(C50:P50) -> 0 | C50: =$B33 -> 0 | D50: =$B33 -> 0 | E50: / | F50: =$B33 -> 0 | G50: =$B33 -> 0 | H50: =$B33 -> 0 | I50: =$B33 -> 0 | J50: / | K50: =$B33 -> 0 | L50: =$B33 -> 0 | M50: =$B33 -> 0 | N50: =$B33 -> 0 | O50: / | P50: =$B33 -> 0
B51: =SUM(B45:B50) -> 0 | C51: =SUM(C45:C50) -> 0 | D51: =SUM(D45:D50) -> 0 | E51: =SUM(E45:E50) -> 0 | F51: =SUM(F45:F50) -> 0 | G51: =SUM(G45:G50) -> 0 | H51: =SUM(H45:H50) -> 0 | I51: =SUM(I45:I50) -> 0 | ... P51: =SUM(P45:P50) -> 0
A52: controlecijfer moet 'nul' zijn | B52: =(SUM(C51:P51)-B51)+(SUM(C45:P50)-B51) -> 0
B53: voorziening vakantiegeld
A54: 0.1027 | B54: =SUM(C54:P54) -> 0 | C54: =(C45*108%)*$A$54 -> 0 | D54: =(D45*108%)*$A$54 -> 0 | E54: / | F54: =(F45*108%)*$A$54 -> 0 | G54: =(G45*108%)*$A$54 -> 0 | H54: =(H45*108%)*$A$54 -> 0 | I54: =(I45*108%)*$A$54 -> 0 | J54: / | K54: =(K45*108%)*$A$54 -> 0 | L54: =(L45*108%)*$A$54 -> 0 | M54: =(M45*108%)*$A$54 -> 0 | N54: =(N45*108%)*$A$54 -> 0 | O54: 0 | P54: =(P45*108%)*$A$54 -> 0

Sheet kunstenaar 3D
A1: PROGNOSE PERSONEELSKOST | B1: 2026 | C1: KUNSTENAAR MAANDLOON
A3: NAAM (facultatief)
A4: FUNCTIE (facultatief)
A5: PRODUCTIE
A6: aantal werknemers | B6: 0
A8: STANDAARDGEGEVENS
A9: statuut | B9: kunstenaar
A10: CAO
A11: categorie in de CAO
A12: maand v/d anciënniteiteitsaanpassing
A13: maand van indexatie
A15: BRUTOLOON VT op 1 januari | B15: 0
A16: BRUTOLOON VT anciënniteitsaanpassing | B16: 0
A17: BRUTOLOON VT indexatie | B17: 0
A18: eindejaarspremie-13de maand VT 100% | B18: 0
A20: tewerkstellingspercentage | B20: 1 | C20: (vul % in of verhouding bvb.=28/38) ; als het % varieert gedurende het jaar, vul het hieronder in en pas de formule aan
A21: aantal werkdagen | B21: =(((52*5)-20-10-B22)/11)*B20 -> 20.909091 | C21: per maand gemiddeld voor voltijdsen in 5-dagen stelsel
A22: aantal extra vakantiedagen volgens CAO-Pk | B22: 0
A23: effectief BRUTOLOON 1 jan | B23: 0
A24: effectief BRUTOLOON met anciënniteitsaanpassing | B24: =B16*$B$20 -> 0
A25: effectief BRUTOLOON met indexatie | B25: =B17*$B$20 -> 0
A26: effectieve eindejaarspremie-13de maand | B26: =B18*$B$20 -> 0
A28: VOORDEEL IN NATURA vast per maand | B28: 0 | C28: bedrag per maand
A29: VOORDEEL IN NATURA vast per dag | B29: 0 | C29: bedrag per dag
A30: VERGOEDING WOON-WERK | B30: 0 | C30: bedrag per maand
A31: VERGOEDING WOON-WERK | B31: 0 | C31: bedrag per dag
A32: MAALTIJDCHEQUES (enkel werkgever) | B32: 0 | C32: per dag
A33: FORFAITAIRE KOSTENVERGOEDING | B33: 0 | C33: per maand
A35: % RSZ-PATRONALE:basis-tarief | B35: ='RSZ-tarieven'!B5 -> 0.3061
A36: % RSZ-PATRONALE:bijkomende | B36: ='RSZ-tarieven'!B15 -> 0.0198
A37: % RSZ-PATRONALE als + 10 Wners | B37: =IF(B6<10,0,1.69%) -> 0
A38: extra RSZ-vermindering lage lonen (per maand) | B38: =IF(B23>3744,0,0.14*(11233.89-(B23*3))/3) -> 524.2482
A39: RSZ-VERMINDERING doelgroep | B39: =('RSZ-tarieven'!B31)*B20 -> 172.33333 | C39: omgerekend per maand ; enkel tem maart 2026
A40: RSZ-VERMINDERING andere
J41: vakantiemaand
B42: =B1 -> 2026 | C42: JAN | D42: FEB | E42: VG | F42: MAA | G42: APR | H42: MEI | I42: JUN | J42: JUL | K42: AUG | L42: SEP | M42: OKT | N42: NOV | O42: EJP | P42: DEC
A43: tewerkstellingspercentage | B43: / | C43: =$B$20 -> 1 | D43: =$B$20 -> 1 | E43: 0.1027 | F43: =$B$20 -> 1 | G43: =$B$20 -> 1 | H43: =$B$20 -> 1 | I43: =$B$20 -> 1 | J43: =$B$20 -> 1 | K43: =$B$20 -> 1 | L43: =$B$20 -> 1 | M43: =$B$20 -> 1 | ... P43: =$B$20 -> 1
A44: gem.aantal werkdagen | B44: =SUM(C44:P44) -> 230 | C44: =$B21 -> 20.909091 | D44: =C44 -> 20.909091 | F44: =D44 -> 20.909091 | G44: =F44 -> 20.909091 | H44: =G44 -> 20.909091 | I44: =H44 -> 20.909091 | K44: =I44 -> 20.909091 | L44: =K44 -> 20.909091 | M44: =L44 -> 20.909091 | N44: =M44 -> 20.909091 | O44: / | P44: =N44 -> 20.909091
A45: brutoloon | B45: =SUM(C45:P45) -> 0 | C45: =$B23 -> 0 | D45: =C45 -> 0 | E45: =B23*11*108%*E43 -> 0 | F45: =D45 -> 0 | G45: =F45 -> 0 | H45: =G45 -> 0 | I45: =H45 -> 0 | J45: / | K45: =I45 -> 0 | L45: =K45 -> 0 | M45: =L45 -> 0 | N45: =M45 -> 0 | O45: =$B$18*$B20 -> 0 | P45: =N45 -> 0
A46: voordelen in natura | B46: =SUM(C46:P46) -> 0 | C46: =+$B28+(($B29)*C$44) -> 0 | D46: =+$B28+($B29*D$44) -> 0 | E46: / | F46: =+$B28+($B29*F$44) -> 0 | G46: =+$B28+($B29*G$44) -> 0 | H46: =+$B28+($B29*H$44) -> 0 | I46: =+$B28+($B29*I$44) -> 0 | J46: / | K46: =+$B28+($B29*K$21) -> 0 | L46: =+$B28+($B29*L$21) -> 0 | M46: =+$B28+($B29*M$21) -> 0 | N46: =+$B28+($B29*N$21) -> 0 | O46: / | P46: =+$B28+($B29*P$21) -> 0
A47: RSZ-patronale | B47: =SUM(C47:P47) -> 0 | C47: =MAX(0,IF((C45+C46)>0,((C45+C46)*108%)*(B35+B36+B37)-(B38+B39+B40),0)) -> 0 | D47: =MAX(0,IF((D45+D46)>0,((D45+D46)*108%)*(B35+B36+B37)-(B38+B39+B40),0)) -> 0 | E47: / | F47: =MAX(0,IF((F45+F46)>0,((F45+F46)*108%)*(B35+B36+B37)-(B38+B39+B40),0)) -> 0 | G47: =MAX(0,IF((G45+G46)>0,((G45+G46)*108%)*(B35+B36+B37)-(B38+B40),0)) -> 0 | H47: =MAX(0,IF((H45+H46)>0,((H45+H46)*108%)*(B35+B36+B37)-(B38+B40),0)) -> 0 | I47: =MAX(0,IF((I45+I46)>0,((I45+I46)*108%)*(B35+B36+B37)-(B38+B40),0)) -> 0 | J47: / | K47: =MAX(0,IF((K45+K46)>0,((K45+K46)*108%)*(B35+B36+B37)-(B38+B40),0)) -> 0 | L47: =MAX(0,IF((L45+L46)>0,((L45+L46)*108%)*(B35+B36+B37)-(B38+B40),0)) -> 0 | M47: =MAX(0,IF((M45+M46)>0,((M45+M46)*108%)*(B35+B36+B37)-(B38+B40),0)) -> 0 | N47: =MAX(0,IF((N45+N46)>0,((N45+N46)*108%)*(B35+B36+B37)-(B38+B40),0)) -> 0 | O47: =MAX(0,IF((O45)>0,((O45)*108%)*(B35+B36+B37),0)) -> 0 | P47: =MAX(0,IF((P45+P46)>0,((P45+P46)*108%)*(B35+B36+B37)-(B38+B40),0)) -> 0
A48: vergoeding woon-werk | B48: =SUM(C48:P48) -> 0 | C48: =$B30+($B31*C$44) -> 0 | D48: =$B30+($B31*D$44) -> 0 | E48: / | F48: =$B30+($B31*F$44) -> 0 | G48: =$B30+($B31*G$44) -> 0 | H48: =$B30+($B31*H$44) -> 0 | I48: =$B30+($B31*I$44) -> 0 | J48: / | K48: =$B30+($B31*K$44) -> 0 | L48: =$B30+($B31*L$44) -> 0 | M48: =$B30+($B31*M$44) -> 0 | N48: =$B30+($B31*N$44) -> 0 | O48: / | P48: =$B30+($B31*P$44) -> 0
A49: maaltijdcheques | B49: =SUM(C49:P49) -> 0 | C49: =$B32*C$44 -> 0 | D49: =$B32*D$44 -> 0 | E49: / | F49: =$B32*F$44 -> 0 | G49: =$B32*G$44 -> 0 | H49: =$B32*H$44 -> 0 | I49: =$B32*I$44 -> 0 | J49: / | K49: =$B32*K$44 -> 0 | L49: =$B32*L$44 -> 0 | M49: =$B32*M$44 -> 0 | N49: =$B32*N$44 -> 0 | O49: / | P49: =$B32*P$44 -> 0
A50: forfaitaire kostenvergoeding | B50: =SUM(C50:P50) -> 0 | C50: =$B33 -> 0 | D50: =$B33 -> 0 | E50: / | F50: =$B33 -> 0 | G50: =$B33 -> 0 | H50: =$B33 -> 0 | I50: =$B33 -> 0 | J50: / | K50: =$B33 -> 0 | L50: =$B33 -> 0 | M50: =$B33 -> 0 | N50: =$B33 -> 0 | O50: / | P50: =$B33 -> 0
B51: =SUM(B45:B50) -> 0 | C51: =SUM(C45:C50) -> 0 | D51: =SUM(D45:D50) -> 0 | E51: =SUM(E45:E50) -> 0 | F51: =SUM(F45:F50) -> 0 | G51: =SUM(G45:G50) -> 0 | H51: =SUM(H45:H50) -> 0 | I51: =SUM(I45:I50) -> 0 | ... P51: =SUM(P45:P50) -> 0
A52: controlecijfer moet 'nul' zijn | B52: =(SUM(C51:P51)-B51)+(SUM(C45:P50)-B51) -> 0
B53: voorziening vakantiegeld
A54: 0.1027 | B54: =SUM(C54:P54) -> 0 | C54: =(C45*108%)*$A$54 -> 0 | D54: =(D45*108%)*$A$54 -> 0 | E54: / | F54: =(F45*108%)*$A$54 -> 0 | G54: =(G45*108%)*$A$54 -> 0 | H54: =(H45*108%)*$A$54 -> 0 | I54: =(I45*108%)*$A$54 -> 0 | J54: / | K54: =(K45*108%)*$A$54 -> 0 | L54: =(L45*108%)*$A$54 -> 0 | M54: =(M45*108%)*$A$54 -> 0 | N54: =(N45*108%)*$A$54 -> 0 | O54: 0 | P54: =(P45*108%)*$A$54 -> 0

Sheet kunstenaar 3E
A1: PROGNOSE PERSONEELSKOST | B1: 2026 | C1: KUNSTENAAR MAANDLOON
A3: NAAM (facultatief)
A4: FUNCTIE (facultatief)
A5: PRODUCTIE
A6: aantal werknemers | B6: 0
A8: STANDAARDGEGEVENS
A9: statuut | B9: kunstenaar
A10: CAO
A11: categorie in de CAO
A12: maand v/d anciënniteiteitsaanpassing
A13: maand van indexatie
A15: BRUTOLOON VT op 1 januari | B15: 0
A16: BRUTOLOON VT anciënniteitsaanpassing | B16: 0
A17: BRUTOLOON VT indexatie | B17: 0
A18: eindejaarspremie-13de maand VT 100% | B18: 0
A20: tewerkstellingspercentage | B20: 1 | C20: (vul % in of verhouding bvb.=28/38) ; als het % varieert gedurende het jaar, vul het hieronder in en pas de formule aan
A21: aantal werkdagen | B21: =(((52*5)-20-10-B22)/11)*B20 -> 20.909091 | C21: per maand gemiddeld voor voltijdsen in 5-dagen stelsel
A22: aantal extra vakantiedagen volgens CAO-Pk | B22: 0
A23: effectief BRUTOLOON 1 jan | B23: 0
A24: effectief BRUTOLOON met anciënniteitsaanpassing | B24: =B16*$B$20 -> 0
A25: effectief BRUTOLOON met indexatie | B25: =B17*$B$20 -> 0
A26: effectieve eindejaarspremie-13de maand | B26: =B18*$B$20 -> 0
A28: VOORDEEL IN NATURA vast per maand | B28: 0 | C28: bedrag per maand
A29: VOORDEEL IN NATURA vast per dag | B29: 0 | C29: bedrag per dag
A30: VERGOEDING WOON-WERK | B30: 0 | C30: bedrag per maand
A31: VERGOEDING WOON-WERK | B31: 0 | C31: bedrag per dag
A32: MAALTIJDCHEQUES (enkel werkgever) | B32: 0 | C32: per dag
A33: FORFAITAIRE KOSTENVERGOEDING | B33: 0 | C33: per maand
A35: % RSZ-PATRONALE:basis-tarief | B35: ='RSZ-tarieven'!B5 -> 0.3061
A36: % RSZ-PATRONALE:bijkomende | B36: ='RSZ-tarieven'!B15 -> 0.0198
A37: % RSZ-PATRONALE als + 10 Wners | B37: =IF(B6<10,0,1.69%) -> 0
A38: extra RSZ-vermindering lage lonen (per maand) | B38: =IF(B23>3744,0,0.14*(11233.89-(B23*3))/3) -> 524.2482
A39: RSZ-VERMINDERING doelgroep | B39: =('RSZ-tarieven'!B31)*B20 -> 172.33333 | C39: omgerekend per maand ; enkel tem maart 2026
A40: RSZ-VERMINDERING andere
J41: vakantiemaand
B42: =B1 -> 2026 | C42: JAN | D42: FEB | E42: VG | F42: MAA | G42: APR | H42: MEI | I42: JUN | J42: JUL | K42: AUG | L42: SEP | M42: OKT | N42: NOV | O42: EJP | P42: DEC
A43: tewerkstellingspercentage | B43: / | C43: =$B$20 -> 1 | D43: =$B$20 -> 1 | E43: 0.1027 | F43: =$B$20 -> 1 | G43: =$B$20 -> 1 | H43: =$B$20 -> 1 | I43: =$B$20 -> 1 | J43: =$B$20 -> 1 | K43: =$B$20 -> 1 | L43: =$B$20 -> 1 | M43: =$B$20 -> 1 | ... P43: =$B$20 -> 1
A44: gem.aantal werkdagen | B44: =SUM(C44:P44) -> 230 | C44: =$B21 -> 20.909091 | D44: =C44 -> 20.909091 | F44: =D44 -> 20.909091 | G44: =F44 -> 20.909091 | H44: =G44 -> 20.909091 | I44: =H44 -> 20.909091 | K44: =I44 -> 20.909091 | L44: =K44 -> 20.909091 | M44: =L44 -> 20.909091 | N44: =M44 -> 20.909091 | O44: / | P44: =N44 -> 20.909091
A45: brutoloon | B45: =SUM(C45:P45) -> 0 | C45: =$B23 -> 0 | D45: =C45 -> 0 | E45: =B23*11*108%*E43 -> 0 | F45: =D45 -> 0 | G45: =F45 -> 0 | H45: =G45 -> 0 | I45: =H45 -> 0 | J45: / | K45: =I45 -> 0 | L45: =K45 -> 0 | M45: =L45 -> 0 | N45: =M45 -> 0 | O45: =$B$18*$B20 -> 0 | P45: =N45 -> 0
A46: voordelen in natura | B46: =SUM(C46:P46) -> 0 | C46: =+$B28+(($B29)*C$44) -> 0 | D46: =+$B28+($B29*D$44) -> 0 | E46: / | F46: =+$B28+($B29*F$44) -> 0 | G46: =+$B28+($B29*G$44) -> 0 | H46: =+$B28+($B29*H$44) -> 0 | I46: =+$B28+($B29*I$44) -> 0 | J46: / | K46: =+$B28+($B29*K$21) -> 0 | L46: =+$B28+($B29*L$21) -> 0 | M46: =+$B28+($B29*M$21) -> 0 | N46: =+$B28+($B29*N$21) -> 0 | O46: / | P46: =+$B28+($B29*P$21) -> 0
A47: RSZ-patronale | B47: =SUM(C47:P47) -> 0 | C47: =MAX(0,IF((C45+C46)>0,((C45+C46)*108%)*(B35+B36+B37)-(B38+B39+B40),0)) -> 0 | D47: =MAX(0,IF((D45+D46)>0,((D45+D46)*108%)*(B35+B36+B37)-(B38+B39+B40),0)) -> 0 | E47: / | F47: =MAX(0,IF((F45+F46)>0,((F45+F46)*108%)*(B35+B36+B37)-(B38+B39+B40),0)) -> 0 | G47: =MAX(0,IF((G45+G46)>0,((G45+G46)*108%)*(B35+B36+B37)-(B38+B40),0)) -> 0 | H47: =MAX(0,IF((H45+H46)>0,((H45+H46)*108%)*(B35+B36+B37)-(B38+B40),0)) -> 0 | I47: =MAX(0,IF((I45+I46)>0,((I45+I46)*108%)*(B35+B36+B37)-(B38+B40),0)) -> 0 | J47: / | K47: =MAX(0,IF((K45+K46)>0,((K45+K46)*108%)*(B35+B36+B37)-(B38+B40),0)) -> 0 | L47: =MAX(0,IF((L45+L46)>0,((L45+L46)*108%)*(B35+B36+B37)-(B38+B40),0)) -> 0 | M47: =MAX(0,IF((M45+M46)>0,((M45+M46)*108%)*(B35+B36+B37)-(B38+B40),0)) -> 0 | N47: =MAX(0,IF((N45+N46)>0,((N45+N46)*108%)*(B35+B36+B37)-(B38+B40),0)) -> 0 | O47: =MAX(0,IF((O45)>0,((O45)*108%)*(B35+B36+B37),0)) -> 0 | P47: =MAX(0,IF((P45+P46)>0,((P45+P46)*108%)*(B35+B36+B37)-(B38+B40),0)) -> 0
A48: vergoeding woon-werk | B48: =SUM(C48:P48) -> 0 | C48: =$B30+($B31*C$44) -> 0 | D48: =$B30+($B31*D$44) -> 0 | E48: / | F48: =$B30+($B31*F$44) -> 0 | G48: =$B30+($B31*G$44) -> 0 | H48: =$B30+($B31*H$44) -> 0 | I48: =$B30+($B31*I$44) -> 0 | J48: / | K48: =$B30+($B31*K$44) -> 0 | L48: =$B30+($B31*L$44) -> 0 | M48: =$B30+($B31*M$44) -> 0 | N48: =$B30+($B31*N$44) -> 0 | O48: / | P48: =$B30+($B31*P$44) -> 0
A49: maaltijdcheques | B49: =SUM(C49:P49) -> 0 | C49: =$B32*C$44 -> 0 | D49: =$B32*D$44 -> 0 | E49: / | F49: =$B32*F$44 -> 0 | G49: =$B32*G$44 -> 0 | H49: =$B32*H$44 -> 0 | I49: =$B32*I$44 -> 0 | J49: / | K49: =$B32*K$44 -> 0 | L49: =$B32*L$44 -> 0 | M49: =$B32*M$44 -> 0 | N49: =$B32*N$44 -> 0 | O49: / | P49: =$B32*P$44 -> 0
A50: forfaitaire kostenvergoeding | B50: =SUM(C50:P50) -> 0 | C50: =$B33 -> 0 | D50: =$B33 -> 0 | E50: / | F50: =$B33 -> 0 | G50: =$B33 -> 0 | H50: =$B33 -> 0 | I50: =$B33 -> 0 | J50: / | K50: =$B33 -> 0 | L50: =$B33 -> 0 | M50: =$B33 -> 0 | N50: =$B33 -> 0 | O50: / | P50: =$B33 -> 0
B51: =SUM(B45:B50) -> 0 | C51: =SUM(C45:C50) -> 0 | D51: =SUM(D45:D50) -> 0 | E51: =SUM(E45:E50) -> 0 | F51: =SUM(F45:F50) -> 0 | G51: =SUM(G45:G50) -> 0 | H51: =SUM(H45:H50) -> 0 | I51: =SUM(I45:I50) -> 0 | ... P51: =SUM(P45:P50) -> 0
A52: controlecijfer moet 'nul' zijn | B52: =(SUM(C51:P51)-B51)+(SUM(C45:P50)-B51) -> 0
B53: voorziening vakantiegeld
A54: 0.1027 | B54: =SUM(C54:P54) -> 0 | C54: =(C45*108%)*$A$54 -> 0 | D54: =(D45*108%)*$A$54 -> 0 | E54: / | F54: =(F45*108%)*$A$54 -> 0 | G54: =(G45*108%)*$A$54 -> 0 | H54: =(H45*108%)*$A$54 -> 0 | I54: =(I45*108%)*$A$54 -> 0 | J54: / | K54: =(K45*108%)*$A$54 -> 0 | L54: =(L45*108%)*$A$54 -> 0 | M54: =(M45*108%)*$A$54 -> 0 | N54: =(N45*108%)*$A$54 -> 0 | O54: 0 | P54: =(P45*108%)*$A$54 -> 0

Sheet kunstenaar 4A
A1: PROGNOSE PERSONEELSKOST | B1: 2026 | C1: KUNSTENAAR DAGLOON
A3: NAAM (facultatief)
A4: FUNCTIE (facultatief)
A5: PRODUCTIE
A6: aantal werknemers | B6: 0
A8: STANDAARDGEGEVENS
A9: statuut | B9: kunstenaar
A10: CAO
A11: categorie in de CAO
A12: maand v/d anciënniteiteitsaanpassing
A13: maand van indexatie
A15: MAAND BRUTOLOON VT op 1 januari | B15: 0
A16: MAAND BRUTOLOON VT anciënniteitsaanpassing | B16: 0
A17: MAAND BRUTOLOON VT indexatie | B17: 0
B18: bruto 1 januari | C18: bruto anciënn. | D18: bruto index.
A19: 1/20ste (CAO-sector PK) / brutoloon per dag | B19: =B15/20 -> 0 | C19: =B16*1/20 -> 0 | D19: =B17*1/20 -> 0
A20: 1/22ste (CAO-sector PK) / brutoloon per dag | B20: =B15/22 -> 0 | C20: =B16*1/22 -> 0 | D20: =B17*1/22 -> 0
A22: VOORDEEL IN NATURA vast per dag | B22: 0 | C22: bedrag per dag
A23: VERGOEDING WOON-WERK per dag | B23: 0 | C23: bedrag per dag
A24: MAALTIJDCHEQUES (enkel werkgever) | B24: 0 | C24: bedrag per dag
A25: FORFAITAIRE KOSTENVERGOEDING | B25: 0 | C25: bedrag per dag
A27: % RSZ-PATRONALE:basis-tarief | B27: ='RSZ-tarieven'!B5 -> 0.3061
A28: % RSZ-PATRONALE:bijkomende | B28: ='RSZ-tarieven'!B15 -> 0.0198
A29: % RSZ-PATRONALE als + 10 Wners | B29: =IF(B6<10,0,1.69%) -> 0
A30: extra RSZ-vermindering lage lonen (per dag) | B30: =IF(B15>3744,0,0.14*(11233.89-(B15*3))/13/5) -> 24.196071
A31: RSZ-VERMINDERING doelgroep | B31: =('RSZ-tarieven'!B31)*3/65 -> 7.9538462 | C31: omgerekend per dag ; enkel tem maart 2026
A32: RSZ-VERMINDERING andere
B34: =B1 -> 2026 | C34: JAN | D34: FEB | E34: MAA | F34: APR | G34: MEI | H34: JUN | I34: JUL | J34: AUG | K34: SEP | L34: OKT | M34: NOV | N34: DEC
A35: VUL IN : aantal werkdagen per maand AAN 1/20ste (CAO-Pk) | B35: =SUM(C35:N35) -> 0 | C35: 0 | D35: 0 | E35: 0 | F35: 0 | G35: 0 | H35: 0 | I35: 0 | J35: 0 | K35: 0 | L35: 0 | M35: 0 | N35: 0
A36: VUL IN : aantal werkdagen per maand AAN 1/22ste (CAO-Pk) | B36: =SUM(C36:N36) -> 0 | C36: 0 | D36: 0 | E36: 0 | F36: 0 | G36: 0 | H36: 0 | I36: 0 | J36: 0 | K36: 0 | L36: 0 | M36: 0 | N36: 0
A37: brutoloon | B37: =SUM(C37:N37) -> 0 | C37: =($B19*C35)+($B20*C36) -> 0 | D37: =($B19*D35)+($B20*D36) -> 0 | E37: =($B19*E35)+($B20*E36) -> 0 | F37: =($B19*F35)+($B20*F36) -> 0 | G37: =($B19*G35)+($B20*G36) -> 0 | H37: =($B19*H35)+($B20*H36) -> 0 | I37: =($B19*I35)+($B20*I36) -> 0 | J37: =($B19*J35)+($B20*J36) -> 0 | ... N37: =($B19*N35)+($B20*N36) -> 0
A38: voordelen in natura | B38: =SUM(C38:N38) -> 0 | C38: =$B$22*(C35+C36) -> 0 | D38: =$B$22*(D35+D36) -> 0 | E38: =$B$22*(E35+E36) -> 0 | F38: =$B$22*(F35+F36) -> 0 | G38: =$B$22*(G35+G36) -> 0 | H38: =$B$22*(H35+H36) -> 0 | I38: =$B$22*(I35+I36) -> 0 | J38: =$B$22*(J35+J36) -> 0 | ... N38: =$B$22*(N35+N36) -> 0
A39: RSZ-patronale | B39: =SUM(C39:N39) -> 0 | C39: =MAX(0,IF((C37+C38)>0,((C37+C38)*108%)*($B$27+$B$28+$B$29)-(($B$30+$B$31+$B$32)*(C$35+C$36)),0)) -> 0 | D39: =MAX(0,IF((D37+D38)>0,((D37+D38)*108%)*($B$27+$B$28+$B$29)-(($B$30+$B$31+$B$32)*(D$35+D$36)),0)) -> 0 | E39: =MAX(0,IF((E37+E38)>0,((E37+E38)*108%)*($B$27+$B$28+$B$29)-(($B$30+$B$31+$B$32)*(E$35+E$36)),0)) -> 0 | F39: =MAX(0,IF((F37+F38)>0,((F37+F38)*108%)*($B$27+$B$28+$B$29)-(($B$30+$B$32)*(F$35+F$36)),0)) -> 0 | G39: =MAX(0,IF((G37+G38)>0,((G37+G38)*108%)*($B$27+$B$28+$B$29)-(($B$30+$B$32)*(G$35+G$36)),0)) -> 0 | H39: =MAX(0,IF((H37+H38)>0,((H37+H38)*108%)*($B$27+$B$28+$B$29)-(($B$30+$B$32)*(H$35+H$36)),0)) -> 0 | I39: =MAX(0,IF((I37+I38)>0,((I37+I38)*108%)*($B$27+$B$28+$B$29)-(($B$30+$B$32)*(I$35+I$36)),0)) -> 0 | J39: =MAX(0,IF((J37+J38)>0,((J37+J38)*108%)*($B$27+$B$28+$B$29)-(($B$30+$B$32)*(J$35+J$36)),0)) -> 0 | K39: =MAX(0,IF((K37+K38)>0,((K37+K38)*108%)*($B$27+$B$28+$B$29)-(($B$30+$B$32)*(K$35+K$36)),0)) -> 0 | L39: =MAX(0,IF((L37+L38)>0,((L37+L38)*108%)*($B$27+$B$28+$B$29)-(($B$30+$B$32)*(L$35+L$36)),0)) -> 0 | M39: =MAX(0,IF((M37+M38)>0,((M37+M38)*108%)*($B$27+$B$28+$B$29)-(($B$30+$B$32)*(M$35+M$36)),0)) -> 0 | N39: =MAX(0,IF((N37+N38)>0,((N37+N38)*108%)*($B$27+$B$28+$B$29)-(($B$30+$B$32)*(N$35+N$36)),0)) -> 0
A40: vergoeding woon-werk | B40: =SUM(C40:N40) -> 0 | C40: =$B23*(C35+C36) -> 0 | D40: =$B23*(D35+D36) -> 0 | E40: =$B23*(E35+E36) -> 0 | F40: =$B23*(F35+F36) -> 0 | G40: =$B23*(G35+G36) -> 0 | H40: =$B23*(H35+H36) -> 0 | I40: =$B23*(I35+I36) -> 0 | J40: =$B23*(J35+J36) -> 0 | ... N40: =$B23*(N35+N36) -> 0
A41: maaltijdcheques | B41: =SUM(C41:N41) -> 0 | C41: =$B24*(C35+C36) -> 0 | D41: =$B24*(D35+D36) -> 0 | E41: =$B24*(E35+E36) -> 0 | F41: =$B24*(F35+F36) -> 0 | G41: =$B24*(G35+G36) -> 0 | H41: =$B24*(H35+H36) -> 0 | I41: =$B24*(I35+I36) -> 0 | J41: =$B24*(J35+J36) -> 0 | ... N41: =$B24*(N35+N36) -> 0
A42: forfaitaire kostenvergoeding | B42: =SUM(C42:N42) -> 0 | C42: =$B25*(C35+C36) -> 0 | D42: =$B25*(D35+D36) -> 0 | E42: =$B25*(E35+E36) -> 0 | F42: =$B25*(F35+F36) -> 0 | G42: =$B25*(G35+G36) -> 0 | H42: =$B25*(H35+H36) -> 0 | I42: =$B25*(I35+I36) -> 0 | J42: =$B25*(J35+J36) -> 0 | ... N42: =$B25*(N35+N36) -> 0
B43: =SUM(B37:B42) -> 0 | C43: =SUM(C37:C42) -> 0 | D43: =SUM(D37:D42) -> 0 | E43: =SUM(E37:E42) -> 0 | F43: =SUM(F37:F42) -> 0 | G43: =SUM(G37:G42) -> 0 | H43: =SUM(H37:H42) -> 0 | I43: =SUM(I37:I42) -> 0 | ... N43: =SUM(N37:N42) -> 0
A44: controlecijfer moet 'nul' zijn | B44: =(SUM(C43:N43)-B43)+(SUM(C37:N42)-B43) -> 0
B45: voorziening vakantiegeld
A46: 0.1027 | B46: =SUM(C46:N46) -> 0 | C46: =(C37*108%)*$A$46 -> 0 | D46: =(D37*108%)*$A$46 -> 0 | E46: =(E37*108%)*$A$46 -> 0 | F46: =(F37*108%)*$A$46 -> 0 | G46: =(G37*108%)*$A$46 -> 0 | H46: =(H37*108%)*$A$46 -> 0 | I46: =(I37*108%)*$A$46 -> 0 | J46: =(J37*108%)*$A$46 -> 0 | ... N46: =(N37*108%)*$A$46 -> 0

Sheet kunstenaar 4B
A1: PROGNOSE PERSONEELSKOST | B1: 2026 | C1: KUNSTENAAR DAGLOON
A3: NAAM (facultatief)
A4: FUNCTIE (facultatief)
A5: PRODUCTIE
A6: aantal werknemers | B6: 0
A8: STANDAARDGEGEVENS
A9: statuut | B9: kunstenaar
A10: CAO
A11: categorie in de CAO
A12: maand v/d anciënniteiteitsaanpassing
A13: maand van indexatie
A15: MAAND BRUTOLOON VT op 1 januari | B15: 0
A16: MAAND BRUTOLOON VT anciënniteitsaanpassing | B16: 0
A17: MAAND BRUTOLOON VT indexatie | B17: 0
B18: bruto 1 januari | C18: bruto anciënn. | D18: bruto index.
A19: 1/20ste (CAO-sector PK) / brutoloon per dag | B19: =B15/20 -> 0 | C19: =B16*1/20 -> 0 | D19: =B17*1/20 -> 0
A20: 1/22ste (CAO-sector PK) / brutoloon per dag | B20: =B15/22 -> 0 | C20: =B16*1/22 -> 0 | D20: =B17*1/22 -> 0
A22: VOORDEEL IN NATURA vast per dag | B22: 0 | C22: bedrag per dag
A23: VERGOEDING WOON-WERK per dag | B23: 0 | C23: bedrag per dag
A24: MAALTIJDCHEQUES (enkel werkgever) | B24: 0 | C24: bedrag per dag
A25: FORFAITAIRE KOSTENVERGOEDING | B25: 0 | C25: bedrag per dag
A27: % RSZ-PATRONALE:basis-tarief | B27: ='RSZ-tarieven'!B5 -> 0.3061
A28: % RSZ-PATRONALE:bijkomende | B28: ='RSZ-tarieven'!B15 -> 0.0198
A29: % RSZ-PATRONALE als + 10 Wners | B29: =IF(B6<10,0,1.69%) -> 0
A30: extra RSZ-vermindering lage lonen (per dag) | B30: =IF(B15>3744,0,0.14*(11233.89-(B15*3))/13/5) -> 24.196071
A31: RSZ-VERMINDERING doelgroep | B31: =('RSZ-tarieven'!B31)*3/65 -> 7.9538462 | C31: omgerekend per dag ; enkel tem maart 2026
A32: RSZ-VERMINDERING andere
B34: =B1 -> 2026 | C34: JAN | D34: FEB | E34: MAA | F34: APR | G34: MEI | H34: JUN | I34: JUL | J34: AUG | K34: SEP | L34: OKT | M34: NOV | N34: DEC
A35: VUL IN : aantal werkdagen per maand AAN 1/20ste (CAO-Pk) | B35: =SUM(C35:N35) -> 0 | C35: 0 | D35: 0 | E35: 0 | F35: 0 | G35: 0 | H35: 0 | I35: 0 | J35: 0 | K35: 0 | L35: 0 | M35: 0 | N35: 0
A36: VUL IN : aantal werkdagen per maand AAN 1/22ste (CAO-Pk) | B36: =SUM(C36:N36) -> 0 | C36: 0 | D36: 0 | E36: 0 | F36: 0 | G36: 0 | H36: 0 | I36: 0 | J36: 0 | K36: 0 | L36: 0 | M36: 0 | N36: 0
A37: brutoloon | B37: =SUM(C37:N37) -> 0 | C37: =($B19*C35)+($B20*C36) -> 0 | D37: =($B19*D35)+($B20*D36) -> 0 | E37: =($B19*E35)+($B20*E36) -> 0 | F37: =($B19*F35)+($B20*F36) -> 0 | G37: =($B19*G35)+($B20*G36) -> 0 | H37: =($B19*H35)+($B20*H36) -> 0 | I37: =($B19*I35)+($B20*I36) -> 0 | J37: =($B19*J35)+($B20*J36) -> 0 | ... N37: =($B19*N35)+($B20*N36) -> 0
A38: voordelen in natura | B38: =SUM(C38:N38) -> 0 | C38: =$B$22*(C35+C36) -> 0 | D38: =$B$22*(D35+D36) -> 0 | E38: =$B$22*(E35+E36) -> 0 | F38: =$B$22*(F35+F36) -> 0 | G38: =$B$22*(G35+G36) -> 0 | H38: =$B$22*(H35+H36) -> 0 | I38: =$B$22*(I35+I36) -> 0 | J38: =$B$22*(J35+J36) -> 0 | ... N38: =$B$22*(N35+N36) -> 0
A39: RSZ-patronale | B39: =SUM(C39:N39) -> 0 | C39: =MAX(0,IF((C37+C38)>0,((C37+C38)*108%)*($B$27+$B$28+$B$29)-(($B$30+$B$31+$B$32)*(C$35+C$36)),0)) -> 0 | D39: =MAX(0,IF((D37+D38)>0,((D37+D38)*108%)*($B$27+$B$28+$B$29)-(($B$30+$B$31+$B$32)*(D$35+D$36)),0)) -> 0 | E39: =MAX(0,IF((E37+E38)>0,((E37+E38)*108%)*($B$27+$B$28+$B$29)-(($B$30+$B$31+$B$32)*(E$35+E$36)),0)) -> 0 | F39: =MAX(0,IF((F37+F38)>0,((F37+F38)*108%)*($B$27+$B$28+$B$29)-(($B$30+$B$32)*(F$35+F$36)),0)) -> 0 | G39: =MAX(0,IF((G37+G38)>0,((G37+G38)*108%)*($B$27+$B$28+$B$29)-(($B$30+$B$32)*(G$35+G$36)),0)) -> 0 | H39: =MAX(0,IF((H37+H38)>0,((H37+H38)*108%)*($B$27+$B$28+$B$29)-(($B$30+$B$32)*(H$35+H$36)),0)) -> 0 | I39: =MAX(0,IF((I37+I38)>0,((I37+I38)*108%)*($B$27+$B$28+$B$29)-(($B$30+$B$32)*(I$35+I$36)),0)) -> 0 | J39: =MAX(0,IF((J37+J38)>0,((J37+J38)*108%)*($B$27+$B$28+$B$29)-(($B$30+$B$32)*(J$35+J$36)),0)) -> 0 | K39: =MAX(0,IF((K37+K38)>0,((K37+K38)*108%)*($B$27+$B$28+$B$29)-(($B$30+$B$32)*(K$35+K$36)),0)) -> 0 | L39: =MAX(0,IF((L37+L38)>0,((L37+L38)*108%)*($B$27+$B$28+$B$29)-(($B$30+$B$32)*(L$35+L$36)),0)) -> 0 | M39: =MAX(0,IF((M37+M38)>0,((M37+M38)*108%)*($B$27+$B$28+$B$29)-(($B$30+$B$32)*(M$35+M$36)),0)) -> 0 | N39: =MAX(0,IF((N37+N38)>0,((N37+N38)*108%)*($B$27+$B$28+$B$29)-(($B$30+$B$32)*(N$35+N$36)),0)) -> 0
A40: vergoeding woon-werk | B40: =SUM(C40:N40) -> 0 | C40: =$B23*(C35+C36) -> 0 | D40: =$B23*(D35+D36) -> 0 | E40: =$B23*(E35+E36) -> 0 | F40: =$B23*(F35+F36) -> 0 | G40: =$B23*(G35+G36) -> 0 | H40: =$B23*(H35+H36) -> 0 | I40: =$B23*(I35+I36) -> 0 | J40: =$B23*(J35+J36) -> 0 | ... N40: =$B23*(N35+N36) -> 0
A41: maaltijdcheques | B41: =SUM(C41:N41) -> 0 | C41: =$B24*(C35+C36) -> 0 | D41: =$B24*(D35+D36) -> 0 | E41: =$B24*(E35+E36) -> 0 | F41: =$B24*(F35+F36) -> 0 | G41: =$B24*(G35+G36) -> 0 | H41: =$B24*(H35+H36) -> 0 | I41: =$B24*(I35+I36) -> 0 | J41: =$B24*(J35+J36) -> 0 | ... N41: =$B24*(N35+N36) -> 0
A42: forfaitaire kostenvergoeding | B42: =SUM(C42:N42) -> 0 | C42: =$B25*(C35+C36) -> 0 | D42: =$B25*(D35+D36) -> 0 | E42: =$B25*(E35+E36) -> 0 | F42: =$B25*(F35+F36) -> 0 | G42: =$B25*(G35+G36) -> 0 | H42: =$B25*(H35+H36) -> 0 | I42: =$B25*(I35+I36) -> 0 | J42: =$B25*(J35+J36) -> 0 | ... N42: =$B25*(N35+N36) -> 0
B43: =SUM(B37:B42) -> 0 | C43: =SUM(C37:C42) -> 0 | D43: =SUM(D37:D42) -> 0 | E43: =SUM(E37:E42) -> 0 | F43: =SUM(F37:F42) -> 0 | G43: =SUM(G37:G42) -> 0 | H43: =SUM(H37:H42) -> 0 | I43: =SUM(I37:I42) -> 0 | ... N43: =SUM(N37:N42) -> 0
A44: controlecijfer moet 'nul' zijn | B44: =(SUM(C43:N43)-B43)+(SUM(C37:N42)-B43) -> 0
B45: voorziening vakantiegeld
A46: 0.1027 | B46: =SUM(C46:N46) -> 0 | C46: =(C37*108%)*$A$46 -> 0 | D46: =(D37*108%)*$A$46 -> 0 | E46: =(E37*108%)*$A$46 -> 0 | F46: =(F37*108%)*$A$46 -> 0 | G46: =(G37*108%)*$A$46 -> 0 | H46: =(H37*108%)*$A$46 -> 0 | I46: =(I37*108%)*$A$46 -> 0 | J46: =(J37*108%)*$A$46 -> 0 | ... N46: =(N37*108%)*$A$46 -> 0

Sheet kunstenaar 4C
A1: PROGNOSE PERSONEELSKOST | B1: 2026 | C1: KUNSTENAAR DAGLOON
A3: NAAM (facultatief)
A4: FUNCTIE (facultatief)
A5: PRODUCTIE
A6: aantal werknemers | B6: 0
A8: STANDAARDGEGEVENS
A9: statuut | B9: kunstenaar
A10: CAO
A11: categorie in de CAO
A12: maand v/d anciënniteiteitsaanpassing
A13: maand van indexatie
A15: MAAND BRUTOLOON VT op 1 januari | B15: 0
A16: MAAND BRUTOLOON VT anciënniteitsaanpassing | B16: 0
A17: MAAND BRUTOLOON VT indexatie | B17: 0
B18: bruto 1 januari | C18: bruto anciënn. | D18: bruto index.
A19: 1/20ste (CAO-sector PK) / brutoloon per dag | B19: =B15/20 -> 0 | C19: =B16*1/20 -> 0 | D19: =B17*1/20 -> 0
A20: 1/22ste (CAO-sector PK) / brutoloon per dag | B20: =B15/22 -> 0 | C20: =B16*1/22 -> 0 | D20: =B17*1/22 -> 0
A22: VOORDEEL IN NATURA vast per dag | B22: 0 | C22: bedrag per dag
A23: VERGOEDING WOON-WERK per dag | B23: 0 | C23: bedrag per dag
A24: MAALTIJDCHEQUES (enkel werkgever) | B24: 0 | C24: bedrag per dag
A25: FORFAITAIRE KOSTENVERGOEDING | B25: 0 | C25: bedrag per dag
A27: % RSZ-PATRONALE:basis-tarief | B27: ='RSZ-tarieven'!B5 -> 0.3061
A28: % RSZ-PATRONALE:bijkomende | B28: ='RSZ-tarieven'!B15 -> 0.0198
A29: % RSZ-PATRONALE als + 10 Wners | B29: =IF(B6<10,0,1.69%) -> 0
A30: extra RSZ-vermindering lage lonen (per dag) | B30: =IF(B15>3744,0,0.14*(11233.89-(B15*3))/13/5) -> 24.196071
A31: RSZ-VERMINDERING doelgroep | B31: =('RSZ-tarieven'!B31)*3/65 -> 7.9538462 | C31: omgerekend per dag ; enkel tem maart 2026
A32: RSZ-VERMINDERING andere
B34: =B1 -> 2026 | C34: JAN | D34: FEB | E34: MAA | F34: APR | G34: MEI | H34: JUN | I34: JUL | J34: AUG | K34: SEP | L34: OKT | M34: NOV | N34: DEC
A35: VUL IN : aantal werkdagen per maand AAN 1/20ste (CAO-Pk) | B35: =SUM(C35:N35) -> 0 | C35: 0 | D35: 0 | E35: 0 | F35: 0 | G35: 0 | H35: 0 | I35: 0 | J35: 0 | K35: 0 | L35: 0 | M35: 0 | N35: 0
A36: VUL IN : aantal werkdagen per maand AAN 1/22ste (CAO-Pk) | B36: =SUM(C36:N36) -> 0 | C36: 0 | D36: 0 | E36: 0 | F36: 0 | G36: 0 | H36: 0 | I36: 0 | J36: 0 | K36: 0 | L36: 0 | M36: 0 | N36: 0
A37: brutoloon | B37: =SUM(C37:N37) -> 0 | C37: =($B19*C35)+($B20*C36) -> 0 | D37: =($B19*D35)+($B20*D36) -> 0 | E37: =($B19*E35)+($B20*E36) -> 0 | F37: =($B19*F35)+($B20*F36) -> 0 | G37: =($B19*G35)+($B20*G36) -> 0 | H37: =($B19*H35)+($B20*H36) -> 0 | I37: =($B19*I35)+($B20*I36) -> 0 | J37: =($B19*J35)+($B20*J36) -> 0 | ... N37: =($B19*N35)+($B20*N36) -> 0
A38: voordelen in natura | B38: =SUM(C38:N38) -> 0 | C38: =$B$22*(C35+C36) -> 0 | D38: =$B$22*(D35+D36) -> 0 | E38: =$B$22*(E35+E36) -> 0 | F38: =$B$22*(F35+F36) -> 0 | G38: =$B$22*(G35+G36) -> 0 | H38: =$B$22*(H35+H36) -> 0 | I38: =$B$22*(I35+I36) -> 0 | J38: =$B$22*(J35+J36) -> 0 | ... N38: =$B$22*(N35+N36) -> 0
A39: RSZ-patronale | B39: =SUM(C39:N39) -> 0 | C39: =MAX(0,IF((C37+C38)>0,((C37+C38)*108%)*($B$27+$B$28+$B$29)-(($B$30+$B$31+$B$32)*(C$35+C$36)),0)) -> 0 | D39: =MAX(0,IF((D37+D38)>0,((D37+D38)*108%)*($B$27+$B$28+$B$29)-(($B$30+$B$31+$B$32)*(D$35+D$36)),0)) -> 0 | E39: =MAX(0,IF((E37+E38)>0,((E37+E38)*108%)*($B$27+$B$28+$B$29)-(($B$30+$B$31+$B$32)*(E$35+E$36)),0)) -> 0 | F39: =MAX(0,IF((F37+F38)>0,((F37+F38)*108%)*($B$27+$B$28+$B$29)-(($B$30+$B$32)*(F$35+F$36)),0)) -> 0 | G39: =MAX(0,IF((G37+G38)>0,((G37+G38)*108%)*($B$27+$B$28+$B$29)-(($B$30+$B$32)*(G$35+G$36)),0)) -> 0 | H39: =MAX(0,IF((H37+H38)>0,((H37+H38)*108%)*($B$27+$B$28+$B$29)-(($B$30+$B$32)*(H$35+H$36)),0)) -> 0 | I39: =MAX(0,IF((I37+I38)>0,((I37+I38)*108%)*($B$27+$B$28+$B$29)-(($B$30+$B$32)*(I$35+I$36)),0)) -> 0 | J39: =MAX(0,IF((J37+J38)>0,((J37+J38)*108%)*($B$27+$B$28+$B$29)-(($B$30+$B$32)*(J$35+J$36)),0)) -> 0 | K39: =MAX(0,IF((K37+K38)>0,((K37+K38)*108%)*($B$27+$B$28+$B$29)-(($B$30+$B$32)*(K$35+K$36)),0)) -> 0 | L39: =MAX(0,IF((L37+L38)>0,((L37+L38)*108%)*($B$27+$B$28+$B$29)-(($B$30+$B$32)*(L$35+L$36)),0)) -> 0 | M39: =MAX(0,IF((M37+M38)>0,((M37+M38)*108%)*($B$27+$B$28+$B$29)-(($B$30+$B$32)*(M$35+M$36)),0)) -> 0 | N39: =MAX(0,IF((N37+N38)>0,((N37+N38)*108%)*($B$27+$B$28+$B$29)-(($B$30+$B$32)*(N$35+N$36)),0)) -> 0
A40: vergoeding woon-werk | B40: =SUM(C40:N40) -> 0 | C40: =$B23*(C35+C36) -> 0 | D40: =$B23*(D35+D36) -> 0 | E40: =$B23*(E35+E36) -> 0 | F40: =$B23*(F35+F36) -> 0 | G40: =$B23*(G35+G36) -> 0 | H40: =$B23*(H35+H36) -> 0 | I40: =$B23*(I35+I36) -> 0 | J40: =$B23*(J35+J36) -> 0 | ... N40: =$B23*(N35+N36) -> 0
A41: maaltijdcheques | B41: =SUM(C41:N41) -> 0 | C41: =$B24*(C35+C36) -> 0 | D41: =$B24*(D35+D36) -> 0 | E41: =$B24*(E35+E36) -> 0 | F41: =$B24*(F35+F36) -> 0 | G41: =$B24*(G35+G36) -> 0 | H41: =$B24*(H35+H36) -> 0 | I41: =$B24*(I35+I36) -> 0 | J41: =$B24*(J35+J36) -> 0 | ... N41: =$B24*(N35+N36) -> 0
A42: forfaitaire kostenvergoeding | B42: =SUM(C42:N42) -> 0 | C42: =$B25*(C35+C36) -> 0 | D42: =$B25*(D35+D36) -> 0 | E42: =$B25*(E35+E36) -> 0 | F42: =$B25*(F35+F36) -> 0 | G42: =$B25*(G35+G36) -> 0 | H42: =$B25*(H35+H36) -> 0 | I42: =$B25*(I35+I36) -> 0 | J42: =$B25*(J35+J36) -> 0 | ... N42: =$B25*(N35+N36) -> 0
B43: =SUM(B37:B42) -> 0 | C43: =SUM(C37:C42) -> 0 | D43: =SUM(D37:D42) -> 0 | E43: =SUM(E37:E42) -> 0 | F43: =SUM(F37:F42) -> 0 | G43: =SUM(G37:G42) -> 0 | H43: =SUM(H37:H42) -> 0 | I43: =SUM(I37:I42) -> 0 | ... N43: =SUM(N37:N42) -> 0
A44: controlecijfer moet 'nul' zijn | B44: =(SUM(C43:N43)-B43)+(SUM(C37:N42)-B43) -> 0
B45: voorziening vakantiegeld
A46: 0.1027 | B46: =SUM(C46:N46) -> 0 | C46: =(C37*108%)*$A$46 -> 0 | D46: =(D37*108%)*$A$46 -> 0 | E46: =(E37*108%)*$A$46 -> 0 | F46: =(F37*108%)*$A$46 -> 0 | G46: =(G37*108%)*$A$46 -> 0 | H46: =(H37*108%)*$A$46 -> 0 | I46: =(I37*108%)*$A$46 -> 0 | J46: =(J37*108%)*$A$46 -> 0 | ... N46: =(N37*108%)*$A$46 -> 0

Sheet kunstenaar 4D
A1: PROGNOSE PERSONEELSKOST | B1: 2026 | C1: KUNSTENAAR DAGLOON
A3: NAAM (facultatief)
A4: FUNCTIE (facultatief)
A5: PRODUCTIE
A6: aantal werknemers | B6: 0
A8: STANDAARDGEGEVENS
A9: statuut | B9: kunstenaar
A10: CAO
A11: categorie in de CAO
A12: maand v/d anciënniteiteitsaanpassing
A13: maand van indexatie
A15: MAAND BRUTOLOON VT op 1 januari | B15: 0
A16: MAAND BRUTOLOON VT anciënniteitsaanpassing | B16: 0
A17: MAAND BRUTOLOON VT indexatie | B17: 0
B18: bruto 1 januari | C18: bruto anciënn. | D18: bruto index.
A19: 1/20ste (CAO-sector PK) / brutoloon per dag | B19: =B15/20 -> 0 | C19: =B16*1/20 -> 0 | D19: =B17*1/20 -> 0
A20: 1/22ste (CAO-sector PK) / brutoloon per dag | B20: =B15/22 -> 0 | C20: =B16*1/22 -> 0 | D20: =B17*1/22 -> 0
A22: VOORDEEL IN NATURA vast per dag | B22: 0 | C22: bedrag per dag
A23: VERGOEDING WOON-WERK per dag | B23: 0 | C23: bedrag per dag
A24: MAALTIJDCHEQUES (enkel werkgever) | B24: 0 | C24: bedrag per dag
A25: FORFAITAIRE KOSTENVERGOEDING | B25: 0 | C25: bedrag per dag
A27: % RSZ-PATRONALE:basis-tarief | B27: ='RSZ-tarieven'!B5 -> 0.3061
A28: % RSZ-PATRONALE:bijkomende | B28: ='RSZ-tarieven'!B15 -> 0.0198
A29: % RSZ-PATRONALE als + 10 Wners | B29: =IF(B6<10,0,1.69%) -> 0
A30: extra RSZ-vermindering lage lonen (per dag) | B30: =IF(B15>3744,0,0.14*(11233.89-(B15*3))/13/5) -> 24.196071
A31: RSZ-VERMINDERING doelgroep | B31: =('RSZ-tarieven'!B31)*3/65 -> 7.9538462 | C31: omgerekend per dag ; enkel tem maart 2026
A32: RSZ-VERMINDERING andere
B34: =B1 -> 2026 | C34: JAN | D34: FEB | E34: MAA | F34: APR | G34: MEI | H34: JUN | I34: JUL | J34: AUG | K34: SEP | L34: OKT | M34: NOV | N34: DEC
A35: VUL IN : aantal werkdagen per maand AAN 1/20ste (CAO-Pk) | B35: =SUM(C35:N35) -> 0 | C35: 0 | D35: 0 | E35: 0 | F35: 0 | G35: 0 | H35: 0 | I35: 0 | J35: 0 | K35: 0 | L35: 0 | M35: 0 | N35: 0
A36: VUL IN : aantal werkdagen per maand AAN 1/22ste (CAO-Pk) | B36: =SUM(C36:N36) -> 0 | C36: 0 | D36: 0 | E36: 0 | F36: 0 | G36: 0 | H36: 0 | I36: 0 | J36: 0 | K36: 0 | L36: 0 | M36: 0 | N36: 0
A37: brutoloon | B37: =SUM(C37:N37) -> 0 | C37: =($B19*C35)+($B20*C36) -> 0 | D37: =($B19*D35)+($B20*D36) -> 0 | E37: =($B19*E35)+($B20*E36) -> 0 | F37: =($B19*F35)+($B20*F36) -> 0 | G37: =($B19*G35)+($B20*G36) -> 0 | H37: =($B19*H35)+($B20*H36) -> 0 | I37: =($B19*I35)+($B20*I36) -> 0 | J37: =($B19*J35)+($B20*J36) -> 0 | ... N37: =($B19*N35)+($B20*N36) -> 0
A38: voordelen in natura | B38: =SUM(C38:N38) -> 0 | C38: =$B$22*(C35+C36) -> 0 | D38: =$B$22*(D35+D36) -> 0 | E38: =$B$22*(E35+E36) -> 0 | F38: =$B$22*(F35+F36) -> 0 | G38: =$B$22*(G35+G36) -> 0 | H38: =$B$22*(H35+H36) -> 0 | I38: =$B$22*(I35+I36) -> 0 | J38: =$B$22*(J35+J36) -> 0 | ... N38: =$B$22*(N35+N36) -> 0
A39: RSZ-patronale | B39: =SUM(C39:N39) -> 0 | C39: =MAX(0,IF((C37+C38)>0,((C37+C38)*108%)*($B$27+$B$28+$B$29)-(($B$30+$B$31+$B$32)*(C$35+C$36)),0)) -> 0 | D39: =MAX(0,IF((D37+D38)>0,((D37+D38)*108%)*($B$27+$B$28+$B$29)-(($B$30+$B$31+$B$32)*(D$35+D$36)),0)) -> 0 | E39: =MAX(0,IF((E37+E38)>0,((E37+E38)*108%)*($B$27+$B$28+$B$29)-(($B$30+$B$31+$B$32)*(E$35+E$36)),0)) -> 0 | F39: =MAX(0,IF((F37+F38)>0,((F37+F38)*108%)*($B$27+$B$28+$B$29)-(($B$30+$B$32)*(F$35+F$36)),0)) -> 0 | G39: =MAX(0,IF((G37+G38)>0,((G37+G38)*108%)*($B$27+$B$28+$B$29)-(($B$30+$B$32)*(G$35+G$36)),0)) -> 0 | H39: =MAX(0,IF((H37+H38)>0,((H37+H38)*108%)*($B$27+$B$28+$B$29)-(($B$30+$B$32)*(H$35+H$36)),0)) -> 0 | I39: =MAX(0,IF((I37+I38)>0,((I37+I38)*108%)*($B$27+$B$28+$B$29)-(($B$30+$B$32)*(I$35+I$36)),0)) -> 0 | J39: =MAX(0,IF((J37+J38)>0,((J37+J38)*108%)*($B$27+$B$28+$B$29)-(($B$30+$B$32)*(J$35+J$36)),0)) -> 0 | K39: =MAX(0,IF((K37+K38)>0,((K37+K38)*108%)*($B$27+$B$28+$B$29)-(($B$30+$B$32)*(K$35+K$36)),0)) -> 0 | L39: =MAX(0,IF((L37+L38)>0,((L37+L38)*108%)*($B$27+$B$28+$B$29)-(($B$30+$B$32)*(L$35+L$36)),0)) -> 0 | M39: =MAX(0,IF((M37+M38)>0,((M37+M38)*108%)*($B$27+$B$28+$B$29)-(($B$30+$B$32)*(M$35+M$36)),0)) -> 0 | N39: =MAX(0,IF((N37+N38)>0,((N37+N38)*108%)*($B$27+$B$28+$B$29)-(($B$30+$B$32)*(N$35+N$36)),0)) -> 0
A40: vergoeding woon-werk | B40: =SUM(C40:N40) -> 0 | C40: =$B23*(C35+C36) -> 0 | D40: =$B23*(D35+D36) -> 0 | E40: =$B23*(E35+E36) -> 0 | F40: =$B23*(F35+F36) -> 0 | G40: =$B23*(G35+G36) -> 0 | H40: =$B23*(H35+H36) -> 0 | I40: =$B23*(I35+I36) -> 0 | J40: =$B23*(J35+J36) -> 0 | ... N40: =$B23*(N35+N36) -> 0
A41: maaltijdcheques | B41: =SUM(C41:N41) -> 0 | C41: =$B24*(C35+C36) -> 0 | D41: =$B24*(D35+D36) -> 0 | E41: =$B24*(E35+E36) -> 0 | F41: =$B24*(F35+F36) -> 0 | G41: =$B24*(G35+G36) -> 0 | H41: =$B24*(H35+H36) -> 0 | I41: =$B24*(I35+I36) -> 0 | J41: =$B24*(J35+J36) -> 0 | ... N41: =$B24*(N35+N36) -> 0
A42: forfaitaire kostenvergoeding | B42: =SUM(C42:N42) -> 0 | C42: =$B25*(C35+C36) -> 0 | D42: =$B25*(D35+D36) -> 0 | E42: =$B25*(E35+E36) -> 0 | F42: =$B25*(F35+F36) -> 0 | G42: =$B25*(G35+G36) -> 0 | H42: =$B25*(H35+H36) -> 0 | I42: =$B25*(I35+I36) -> 0 | J42: =$B25*(J35+J36) -> 0 | ... N42: =$B25*(N35+N36) -> 0
B43: =SUM(B37:B42) -> 0 | C43: =SUM(C37:C42) -> 0 | D43: =SUM(D37:D42) -> 0 | E43: =SUM(E37:E42) -> 0 | F43: =SUM(F37:F42) -> 0 | G43: =SUM(G37:G42) -> 0 | H43: =SUM(H37:H42) -> 0 | I43: =SUM(I37:I42) -> 0 | ... N43: =SUM(N37:N42) -> 0
A44: controlecijfer moet 'nul' zijn | B44: =(SUM(C43:N43)-B43)+(SUM(C37:N42)-B43) -> 0
B45: voorziening vakantiegeld
A46: 0.1027 | B46: =SUM(C46:N46) -> 0 | C46: =(C37*108%)*$A$46 -> 0 | D46: =(D37*108%)*$A$46 -> 0 | E46: =(E37*108%)*$A$46 -> 0 | F46: =(F37*108%)*$A$46 -> 0 | G46: =(G37*108%)*$A$46 -> 0 | H46: =(H37*108%)*$A$46 -> 0 | I46: =(I37*108%)*$A$46 -> 0 | J46: =(J37*108%)*$A$46 -> 0 | ... N46: =(N37*108%)*$A$46 -> 0

Sheet kunstenaar 4E
A1: PROGNOSE PERSONEELSKOST | B1: 2026 | C1: KUNSTENAAR DAGLOON
A3: NAAM (facultatief)
A4: FUNCTIE (facultatief)
A5: PRODUCTIE
A6: aantal werknemers | B6: 0
A8: STANDAARDGEGEVENS
A9: statuut | B9: kunstenaar
A10: CAO
A11: categorie in de CAO
A12: maand v/d anciënniteiteitsaanpassing
A13: maand van indexatie
A15: MAAND BRUTOLOON VT op 1 januari | B15: 0
